#------------------------------------------------------------------------------
#$Date: 2016-03-26 14:56:23 +0200 (Sat, 26 Mar 2016) $
#$Revision: 180281 $
#$URL: svn://www.crystallography.net/cod/cif/7/11/67/7116790.cif $
#------------------------------------------------------------------------------
#
# This file is available in the Crystallography Open Database (COD),
# http://www.crystallography.net/
#
# All data on this site have been placed in the public domain by the
# contributors.
#
data_7116790
loop_
_publ_author_name
'Robert M. Edkins'
'Elliott Hayden'
'Jonathan W. Steed'
'Katharina Fucke'
_publ_section_title
;
 Conserved hydrogen bonding in tetrahydrocarbazolone derivatives:
 influence of solution-state assembly on crystal form nucleation
;
_journal_name_full               Chem.Commun.
_journal_page_first              5314
_journal_paper_doi               10.1039/C4cc10453F
_journal_volume                  51
_journal_year                    2015
_chemical_formula_moiety         'C13 H13 N O'
_chemical_formula_sum            'C13 H13 N O'
_chemical_formula_weight         199.25
_space_group_crystal_system      monoclinic
_space_group_IT_number           14
_space_group_name_Hall           '-P 2yn'
_space_group_name_H-M_alt        'P 1 21/n 1'
_symmetry_Int_Tables_number      14
_symmetry_space_group_name_Hall  '-P 2yn'
_symmetry_space_group_name_H-M   'P 1 21/n 1'
_atom_sites_solution_primary     iterative
_audit_creation_date             2014-07-31
_audit_creation_method
;
Olex2 1.2-alpha
(compiled 2014.07.22 svn.r2960 for OlexSys, GUI svn.r4862)
;
_audit_update_record
;
2014-12-23 deposited with the CCDC.
2015-02-10 downloaded from the CCDC.
;
_cell_angle_alpha                90
_cell_angle_beta                 102.558(2)
_cell_angle_gamma                90
_cell_formula_units_Z            4
_cell_length_a                   9.3763(6)
_cell_length_b                   6.5586(4)
_cell_length_c                   16.7932(10)
_cell_measurement_reflns_used    6387
_cell_measurement_temperature    120
_cell_measurement_theta_max      27.11
_cell_measurement_theta_min      2.30
_cell_volume                     1008.00(11)
_computing_cell_refinement       'SAINT v8.27A (Bruker, 2012)'
_computing_data_reduction        'SAINT v8.27A (Bruker, 2012)'
_computing_molecular_graphics    'Olex2 (Dolomanov et al., 2009)'
_computing_publication_material  'Olex2 (Dolomanov et al., 2009)'
_computing_structure_refinement  'olex2.refine (Bourhis et al., 2013)'
_computing_structure_solution    'olex2.solve (Bourhis et al., 2013)'
_diffrn_ambient_temperature      120
_diffrn_detector                 'Bruker PHOTON area detector'
_diffrn_detector_area_resol_mean 7.9
_diffrn_detector_type            'CCD area detector'
_diffrn_measured_fraction_theta_full 0.9995
_diffrn_measured_fraction_theta_max 0.9995
_diffrn_measurement_device       'three-circle diffractometer'
_diffrn_measurement_device_type  'Bruker PHOTON area detector'
_diffrn_measurement_method       'ω and φ scans'
_diffrn_radiation_monochromator  'mirror optics'
_diffrn_radiation_probe          x-ray
_diffrn_radiation_type           'Mo K\a'
_diffrn_radiation_wavelength     0.71073
_diffrn_reflns_av_R_equivalents  0.0834
_diffrn_reflns_av_unetI/netI     0.0617
_diffrn_reflns_limit_h_max       10
_diffrn_reflns_limit_h_min       -12
_diffrn_reflns_limit_k_max       8
_diffrn_reflns_limit_k_min       -8
_diffrn_reflns_limit_l_max       21
_diffrn_reflns_limit_l_min       -20
_diffrn_reflns_number            12395
_diffrn_reflns_theta_full        26.0000
_diffrn_reflns_theta_max         26.00
_diffrn_reflns_theta_min         2.30
_diffrn_source                   'microfocus sealed X-ray tube'
_diffrn_standards_number         0
_exptl_absorpt_coefficient_mu    0.083
_exptl_absorpt_correction_T_max  1.0000
_exptl_absorpt_correction_T_min  0.5154
_exptl_absorpt_correction_type   numerical
_exptl_absorpt_process_details
;
SADABS-2012/1 (Bruker,2012) was used for absorption correction.
wR2(int) was 0.1464 before and 0.1190 after correction.
The Ratio of minimum to maximum transmission is 0.5154.
The λ/2 correction factor is 0.0015.
;
_exptl_crystal_colour            'clear colourless'
_exptl_crystal_colour_lustre     clear
_exptl_crystal_colour_primary    colourless
_exptl_crystal_density_diffrn    1.3129
_exptl_crystal_description       prism
_exptl_crystal_F_000             424.1847
_exptl_crystal_preparation       'cut from a larger crystal'
_exptl_crystal_size_max          0.419
_exptl_crystal_size_mid          0.182
_exptl_crystal_size_min          0.156
_refine_diff_density_max         0.6048
_refine_diff_density_min         -0.3161
_refine_diff_density_rms         0.1226
_refine_ls_d_res_high            0.8107
_refine_ls_d_res_low             8.8519
_refine_ls_goodness_of_fit_ref   1.0606
_refine_ls_hydrogen_treatment    constr
_refine_ls_matrix_type           full
_refine_ls_number_constraints    21
_refine_ls_number_parameters     136
_refine_ls_number_reflns         1974
_refine_ls_number_restraints     0
_refine_ls_restrained_S_all      1.0606
_refine_ls_R_factor_all          0.0766
_refine_ls_R_factor_gt           0.0703
_refine_ls_shift/su_max          0.0000
_refine_ls_shift/su_mean         0.0000
_refine_ls_structure_factor_coef Fsqd
_refine_ls_weighting_details
'w=1/[σ²(Fo²)+(0.1262P)²+0.2476P] where P=(Fo²+2Fc²)/3'
_refine_ls_weighting_scheme      calc
_refine_ls_wR_factor_gt          0.1707
_refine_ls_wR_factor_ref         0.1793
_reflns_Friedel_coverage         0.0
_reflns_limit_h_max              9
_reflns_limit_h_min              -11
_reflns_limit_k_max              8
_reflns_limit_k_min              0
_reflns_limit_l_max              20
_reflns_limit_l_min              -8
_reflns_number_gt                1713
_reflns_number_total             1974
_reflns_threshold_expression     I>=2u(I)
_cod_data_source_file            c4cc10453f2.cif
_cod_data_source_block           KF011
_cod_depositor_comments
;
The following automatic conversions were performed:

'_diffrn_radiation_probe' value 'X-ray' changed to 'x-ray' according
to the built-in table from CIF Core dictionary named 'cif_core.dic'
version 2.4.1 from 2010-06-29.

Automatic conversion script
Id: cif_fix_values 2827 2014-09-09 07:05:25Z andrius 
;
_cod_database_code               7116790
#BEGIN Tags that were not found in dictionaries:
_olex2_refinement_description
;
1. Fixed Uiso
 At 1.2 times of:
  All C(H) groups, All C(H,H) groups, All N(H) groups
 At 1.5 times of:
  All C(H,H,H) groups
2.a Secondary CH2 refined with riding coordinates:
 C8(H8a,H8b), C10(H10a,H10b), C9(H9a,H9b)
2.b Aromatic/amide H refined with riding coordinates:
 N1(H1), C2(H2), C3(H3), C5(H5)
2.c Idealised Me refined as rotating group:
 C13(H13a,H13b,H13c)
;
_olex2_exptl_crystal_mounting_method
'mounted on a MiTeGen sample holder with perfluoro polyether oil and placed directly into the pre-cooled cryostream'
_olex2_submission_original_sample_id KF011
_olex2_submission_special_instructions 'No special instructions were received'
#END Tags that were not found in dictionaries
loop_
_space_group_symop_id
_space_group_symop_operation_xyz
1 x,y,z
2 -x+1/2,y+1/2,-z+1/2
3 -x,-y,-z
4 x-1/2,-y-1/2,z-1/2
loop_
_atom_site_label
_atom_site_type_symbol
_atom_site_fract_x
_atom_site_fract_y
_atom_site_fract_z
_atom_site_U_iso_or_equiv
_atom_site_adp_type
_atom_site_occupancy
_atom_site_refinement_flags_posn
O1 O 0.14805(14) 0.15061(19) 0.45925(7) 0.0240(4) Uani 1.000000 .
N1 N 0.03361(15) 0.1841(2) 0.60696(9) 0.0184(4) Uani 1.000000 .
H1 H 0.00644(15) 0.0641(2) 0.58543(9) 0.0221(5) Uiso 1.000000 R
C6 C 0.06433(17) 0.4600(3) 0.69021(10) 0.0166(4) Uani 1.000000 .
C2 C -0.08662(19) 0.1827(3) 0.72657(11) 0.0194(4) Uani 1.000000 .
H2 H -0.13001(19) 0.0516(3) 0.71682(11) 0.0233(5) Uiso 1.000000 R
C4 C -0.04026(18) 0.4944(3) 0.80835(10) 0.0188(4) Uani 1.000000 .
C12 C 0.11798(18) 0.3249(3) 0.57717(10) 0.0170(4) Uani 1.000000 .
C7 C 0.14019(17) 0.4954(3) 0.62663(10) 0.0171(4) Uani 1.000000 .
C3 C -0.10600(18) 0.3006(3) 0.79112(10) 0.0195(4) Uani 1.000000 .
H3 H -0.16598(18) 0.2499(3) 0.82554(10) 0.0234(5) Uiso 1.000000 R
C11 C 0.17341(18) 0.3003(3) 0.50406(10) 0.0179(4) Uani 1.000000 .
C1 C -0.00047(17) 0.2634(3) 0.67584(10) 0.0171(4) Uani 1.000000 .
C8 C 0.22685(19) 0.6747(3) 0.60910(11) 0.0189(5) Uani 1.000000 .
H8a H 0.16040(19) 0.7793(3) 0.57875(11) 0.0227(5) Uiso 1.000000 R
H8b H 0.28021(19) 0.7359(3) 0.66094(11) 0.0227(5) Uiso 1.000000 R
C10 C 0.26315(19) 0.4778(3) 0.48451(10) 0.0191(4) Uani 1.000000 .
H10a H 0.34031(19) 0.4245(3) 0.45820(10) 0.0229(5) Uiso 1.000000 R
H10b H 0.19912(19) 0.5674(3) 0.44458(10) 0.0229(5) Uiso 1.000000 R
C5 C 0.04441(18) 0.5738(3) 0.75801(10) 0.0183(4) Uani 1.000000 .
H5 H 0.08878(18) 0.7039(3) 0.76904(10) 0.0220(5) Uiso 1.000000 R
C9 C 0.33534(19) 0.6061(3) 0.55849(11) 0.0195(4) Uani 1.000000 .
H9a H 0.38082(19) 0.7279(3) 0.53950(11) 0.0234(5) Uiso 1.000000 R
H9b H 0.41386(19) 0.5252(3) 0.59345(11) 0.0234(5) Uiso 1.000000 R
C13 C -0.0609(2) 0.6104(3) 0.88300(11) 0.0239(5) Uani 1.000000 .
H13a H 0.0323(4) 0.6166(18) 0.9230(4) 0.0359(7) Uiso 1.000000 GR
H13b H -0.0945(14) 0.7490(7) 0.86719(17) 0.0359(7) Uiso 1.000000 GR
H13c H -0.1337(11) 0.5406(12) 0.9071(5) 0.0359(7) Uiso 1.000000 GR
loop_
_atom_site_aniso_label
_atom_site_aniso_U_11
_atom_site_aniso_U_22
_atom_site_aniso_U_33
_atom_site_aniso_U_12
_atom_site_aniso_U_13
_atom_site_aniso_U_23
O1 0.0238(7) 0.0239(8) 0.0262(7) -0.0045(5) 0.0095(6) -0.0088(5)
N1 0.0196(8) 0.0150(8) 0.0214(8) -0.0021(6) 0.0061(6) -0.0025(6)
C6 0.0122(8) 0.0173(9) 0.0193(9) 0.0003(6) 0.0013(6) 0.0016(7)
C2 0.0159(9) 0.0179(9) 0.0234(10) -0.0008(7) 0.0023(7) 0.0023(7)
C4 0.0140(8) 0.0233(10) 0.0184(9) 0.0031(7) 0.0019(6) 0.0004(7)
C12 0.0137(8) 0.0174(9) 0.0195(9) -0.0003(6) 0.0027(7) 0.0011(7)
C7 0.0129(8) 0.0192(9) 0.0189(9) 0.0020(7) 0.0028(6) -0.0000(7)
C3 0.0155(9) 0.0250(10) 0.0186(9) 0.0014(7) 0.0053(7) 0.0039(7)
C11 0.0132(8) 0.0196(9) 0.0198(9) 0.0015(6) 0.0013(7) -0.0016(7)
C1 0.0142(9) 0.0187(9) 0.0174(8) 0.0019(6) 0.0011(7) 0.0003(7)
C8 0.0185(9) 0.0183(9) 0.0210(9) -0.0027(7) 0.0066(7) -0.0027(7)
C10 0.0180(9) 0.0213(9) 0.0190(9) -0.0006(7) 0.0063(7) -0.0007(7)
C5 0.0166(9) 0.0181(9) 0.0198(9) -0.0002(7) 0.0029(7) -0.0012(7)
C9 0.0168(9) 0.0197(9) 0.0228(9) -0.0025(7) 0.0059(7) -0.0006(7)
C13 0.0229(10) 0.0287(10) 0.0217(9) -0.0015(8) 0.0083(7) -0.0030(8)
loop_
_atom_type_symbol
_atom_type_scat_dispersion_real
_atom_type_scat_dispersion_imag
_atom_type_scat_Cromer_Mann_a1
_atom_type_scat_Cromer_Mann_a2
_atom_type_scat_Cromer_Mann_a3
_atom_type_scat_Cromer_Mann_a4
_atom_type_scat_Cromer_Mann_b1
_atom_type_scat_Cromer_Mann_b2
_atom_type_scat_Cromer_Mann_b3
_atom_type_scat_Cromer_Mann_b4
_atom_type_scat_Cromer_Mann_c
_atom_type_scat_source
_atom_type_scat_dispersion_source
H 0.00000 0.00000 0.49300 0.32291 0.14019 0.04081 10.51090 26.12570 3.14236
57.79970 0.0030380000826
'International Tables Volume C Table 6.1.1.4 (pp. 500-502)'
'Henke, Gullikson and Davis, At. Data and Nucl. Data Tables, 1993, 54, 2'
C 0.00347 0.00161 2.31000 1.02000 1.58860 0.86500 20.84390 10.20750 0.56870
51.65120 0.215599998832
'International Tables Volume C Table 6.1.1.4 (pp. 500-502)'
'Henke, Gullikson and Davis, At. Data and Nucl. Data Tables, 1993, 54, 2'
O 0.01158 0.00611 3.04850 2.28680 1.54630 0.86700 13.27710 5.70110 0.32390
32.90890 0.250800013542
'International Tables Volume C Table 6.1.1.4 (pp. 500-502)'
'Henke, Gullikson and Davis, At. Data and Nucl. Data Tables, 1993, 54, 2'
N 0.00653 0.00323 12.21260 3.13220 2.01250 1.16630 0.00570 9.89330 28.99750
0.58260 -11.5290002823
'International Tables Volume C Table 6.1.1.4 (pp. 500-502)'
'Henke, Gullikson and Davis, At. Data and Nucl. Data Tables, 1993, 54, 2'
loop_
_geom_angle_atom_site_label_1
_geom_angle_atom_site_label_2
_geom_angle_atom_site_label_3
_geom_angle
C12 N1 H1 125.98(9)
C1 N1 H1 125.98(9)
C1 N1 C12 108.04(14)
C1 C6 C7 106.55(15)
C5 C6 C7 134.07(16)
C5 C6 C1 119.38(15)
C3 C2 H2 121.32(10)
C1 C2 H2 121.32(10)
C1 C2 C3 117.36(16)
C5 C4 C3 119.75(15)
C13 C4 C3 119.49(16)
C13 C4 C5 120.74(16)
C7 C12 N1 110.33(15)
C11 C12 N1 125.11(15)
C11 C12 C7 124.54(16)
C12 C7 C6 106.51(15)
C8 C7 C6 131.09(15)
C8 C7 C12 122.39(15)
C4 C3 C2 122.69(16)
H3 C3 C2 118.66(10)
H3 C3 C4 118.66(10)
C12 C11 O1 123.57(16)
C10 C11 O1 121.64(15)
C10 C11 C12 114.76(14)
C6 C1 N1 108.56(14)
C2 C1 N1 129.99(16)
C2 C1 C6 121.42(15)
H8a C8 C7 109.77(9)
H8b C8 C7 109.77(9)
H8b C8 H8a 108.2
C9 C8 C7 109.52(14)
C9 C8 H8a 109.77(9)
C9 C8 H8b 109.77(9)
H10a C10 C11 108.63(9)
H10b C10 C11 108.63(9)
H10b C10 H10a 107.6
C9 C10 C11 114.53(14)
C9 C10 H10a 108.63(9)
C9 C10 H10b 108.63(9)
C4 C5 C6 119.37(16)
H5 C5 C6 120.32(10)
H5 C5 C4 120.32(10)
C10 C9 C8 112.50(14)
H9a C9 C8 109.10(9)
H9a C9 C10 109.10(9)
H9b C9 C8 109.10(9)
H9b C9 C10 109.10(9)
H9b C9 H9a 107.8
H13a C13 C4 109.5
H13b C13 C4 109.5
H13b C13 H13a 109.5
H13c C13 C4 109.5
H13c C13 H13a 109.5
H13c C13 H13b 109.5
loop_
_geom_bond_atom_site_label_1
_geom_bond_atom_site_label_2
_geom_bond_distance
O1 C11 1.229(2)
N1 H1 0.8800
N1 C12 1.379(2)
N1 C1 1.368(2)
C6 C7 1.425(2)
C6 C1 1.423(2)
C6 C5 1.407(2)
C2 H2 0.9500
C2 C3 1.375(3)
C2 C1 1.399(2)
C4 C3 1.415(3)
C4 C5 1.381(2)
C4 C13 1.514(2)
C12 C7 1.381(2)
C12 C11 1.443(3)
C7 C8 1.495(2)
C3 H3 0.9500
C11 C10 1.514(2)
C8 H8a 0.9900
C8 H8b 0.9900
C8 C9 1.528(2)
C10 H10a 0.9900
C10 H10b 0.9900
C10 C9 1.531(2)
C5 H5 0.9500
C9 H9a 0.9900
C9 H9b 0.9900
C13 H13a 0.9800
C13 H13b 0.9800
C13 H13c 0.9800
