#------------------------------------------------------------------------------
#$Date: 2017-10-14 22:27:35 +0300 (Sat, 14 Oct 2017) $
#$Revision: 202017 $
#$URL: file:///home/coder/svn-repositories/cod/cif/7/20/18/7201830.cif $
#------------------------------------------------------------------------------
#
# This file is available in the Crystallography Open Database (COD),
# http://www.crystallography.net/
#
# All data on this site have been placed in the public domain by the
# contributors.
#
data_7201830
loop_
_publ_author_name
'Legrand, Yves-Marie'
'Michau, Mathieu'
'van der Lee, Arie'
'Barboiu, Mihail'
_publ_section_title
;
 Homomeric and heteromeric self-assembly of hybrid ureido--imidazole
 compounds
;
_journal_issue                   5
_journal_name_full               CrystEngComm
_journal_page_first              490
_journal_paper_doi               10.1039/b717015g
_journal_volume                  10
_journal_year                    2008
_chemical_formula_moiety         'C10 H10 N4 O1'
_chemical_formula_sum            'C10 H10 N4 O'
_chemical_formula_weight         202.22
_space_group_IT_number           14
_symmetry_cell_setting           monoclinic
_symmetry_space_group_name_Hall  '-P 2yn'
_symmetry_space_group_name_H-M   'P 1 21/n 1'
_atom_sites_solution_hydrogens   geom
_atom_sites_solution_primary     direct
_audit_creation_date             07-05-31
_audit_creation_method           CRYSTALS_ver_12.84
_cell_angle_alpha                90
_cell_angle_beta                 92.231(8)
_cell_angle_gamma                90
_cell_formula_units_Z            4
_cell_length_a                   11.6630(18)
_cell_length_b                   6.0080(10)
_cell_length_c                   13.328(2)
_cell_measurement_reflns_used    8192
_cell_measurement_temperature    120
_cell_measurement_theta_max      13
_cell_measurement_theta_min      2
_cell_volume                     933.2(3)
_computing_cell_refinement       'SAINT (Siemens ,1995)'
_computing_data_collection       'SMART (Siemens, 1993)'
_computing_data_reduction        'SAINT (Siemens ,1995)'
_computing_molecular_graphics    'CAMERON (Watkin et al., 1996)'
_computing_publication_material  'CRYSTALS (Betteridge et al., 2003)'
_computing_structure_refinement  'CRYSTALS (Betteridge et al., 2003)'
_computing_structure_solution    'SIR2002 (Burla et al., 2003)'
_diffrn_ambient_temperature      120
_diffrn_measured_fraction_theta_full 0.954
_diffrn_measured_fraction_theta_max 0.942
_diffrn_measurement_device_type  'Bruker SMART'
_diffrn_measurement_method       'φ & ω scans'
_diffrn_radiation_monochromator  graphite
_diffrn_radiation_type           synchrotron
_diffrn_radiation_wavelength     0.51091
_diffrn_reflns_av_R_equivalents  0.129
_diffrn_reflns_limit_h_max       16
_diffrn_reflns_limit_h_min       -12
_diffrn_reflns_limit_k_max       8
_diffrn_reflns_limit_k_min       -8
_diffrn_reflns_limit_l_max       18
_diffrn_reflns_limit_l_min       -18
_diffrn_reflns_number            8098
_diffrn_reflns_theta_full        20.526
_diffrn_reflns_theta_max         20.945
_diffrn_reflns_theta_min         2.674
_diffrn_standards_number         0
_exptl_absorpt_coefficient_mu    0.100
_exptl_absorpt_correction_T_max  1.00
_exptl_absorpt_correction_T_min  0.84
_exptl_absorpt_correction_type   multi-scan
_exptl_absorpt_process_details   'SADABS (Siemens, 1996)'
_exptl_crystal_colour            colourless
_exptl_crystal_density_diffrn    1.439
_exptl_crystal_F_000             424
_exptl_crystal_size_max          0.30
_exptl_crystal_size_mid          0.15
_exptl_crystal_size_min          0.1
_refine_diff_density_max         0.47
_refine_diff_density_min         -0.37
_refine_ls_extinction_method     None
_refine_ls_goodness_of_fit_ref   0.9603
_refine_ls_hydrogen_treatment    noref
_refine_ls_matrix_type           full
_refine_ls_number_parameters     136
_refine_ls_number_reflns         2275
_refine_ls_number_restraints     0
_refine_ls_R_factor_all          0.0568
_refine_ls_R_factor_gt           0.0529
_refine_ls_shift/su_max          0.000664
_refine_ls_structure_factor_coef F
_refine_ls_weighting_details
;
Method, part 1, Chebychev polynomial, (Watkin, 1994, Prince, 1982)
[weight] = 1.0/[A₀*T₀(x)+A₁*T₁(x) ... +Aₙ₋₁]*Tₙ₋₁(x)]
where Ai are the Chebychev coefficients listed below and x= Fcalc/Fmax
Method = Robust Weighting (Prince, 1982)
W = [weight] * [1-(deltaF/6*sigmaF)²]²
Ai are:
1.54 0.629 0.895
;
_refine_ls_weighting_scheme      calc
_refine_ls_wR_factor_all         0.0594
_refine_ls_wR_factor_gt          0.0576
_refine_ls_wR_factor_ref         0.0576
_reflns_limit_h_max              16
_reflns_limit_h_min              -16
_reflns_limit_k_max              8
_reflns_limit_k_min              0
_reflns_limit_l_max              18
_reflns_limit_l_min              0
_reflns_number_gt                2275
_reflns_number_total             2532
_reflns_threshold_expression     I>2.0σ(I)
_oxford_diffrn_Wilson_B_factor   0.00
_oxford_diffrn_Wilson_scale      0.00
_oxford_refine_ls_scale          2.059(7)
_oxford_structure_analysis_title 'mdbm17 in P 21/n'
_cod_data_source_file            b717015g.txt
_cod_data_source_block           1
_cod_depositor_comments
;
The following automatic conversions were performed:
'_symmetry_cell_setting' value 'Monoclinic' changed to 'monoclinic'
according to '/home/saulius/struct/CIF-dictionaries/cif_core.dic'
dictionary named 'cif_core.dic' version 2.4.1 from 2010-06-29.

Automatic conversion script
Id: cif_fix_enum 1527 2010-12-29 10:47:43Z saulius 
;
_cod_original_sg_symbol_H-M      'P 1 21/n 1 '
_cod_original_formula_sum        'C10 H10 N4 O1'
_cod_database_code               7201830
loop_
_symmetry_equiv_pos_as_xyz
x,y,z
-x,-y,-z
-x+1/2,y+1/2,-z+1/2
x+1/2,-y+1/2,z+1/2
loop_
_atom_site_label
_atom_site_type_symbol
_atom_site_fract_x
_atom_site_fract_y
_atom_site_fract_z
_atom_site_U_iso_or_equiv
_atom_site_occupancy
_atom_site_adp_type
_atom_site_refinement_flags_posn
_atom_site_refinement_flags_adp
_atom_site_refinement_flags_occupancy
_atom_site_disorder_assembly
_atom_site_disorder_group
_atom_site_attached_hydrogens
N1 N 0.02308(7) 0.18323(13) 0.89373(6) 0.0119 1.0000 Uani . . . . . .
C2 C -0.02064(8) -0.01923(15) 0.86042(7) 0.0128 1.0000 Uani . . . . . .
C3 C 0.04738(8) -0.08448(15) 0.78591(7) 0.0131 1.0000 Uani . . . . . .
N4 N 0.13362(7) 0.07165(13) 0.77216(6) 0.0121 1.0000 Uani . . . . . .
C5 C 0.11490(7) 0.22846(14) 0.83931(6) 0.0094 1.0000 Uani . . . . . .
N6 N 0.18267(7) 0.41589(13) 0.84954(6) 0.0112 1.0000 Uani . . . . . .
C7 C 0.19232(8) 0.54141(14) 0.93612(6) 0.0104 1.0000 Uani . . . . . .
O8 O 0.12913(6) 0.51705(12) 1.00620(5) 0.0152 1.0000 Uani . . . . . .
N9 N 0.27976(7) 0.69216(13) 0.93316(6) 0.0125 1.0000 Uani . . . . . .
C10 C 0.30922(8) 0.84775(15) 1.00915(7) 0.0117 1.0000 Uani . . . . . .
C11 C 0.30120(9) 0.79824(16) 1.11067(7) 0.0157 1.0000 Uani . . . . . .
C12 C 0.33539(9) 0.95532(19) 1.18239(8) 0.0193 1.0000 Uani . . . . . .
C13 C 0.37852(10) 1.16011(18) 1.15402(9) 0.0220 1.0000 Uani . . . . . .
C14 C 0.38822(10) 1.20733(17) 1.05277(9) 0.0215 1.0000 Uani . . . . . .
C15 C 0.35355(9) 1.05254(16) 0.98034(8) 0.0164 1.0000 Uani . . . . . .
H16 H 0.2724 0.6568 1.1294 0.0180 1.0000 Uiso . . . . . .
H17 H 0.3278 0.9251 1.2504 0.0211 1.0000 Uiso . . . . . .
H18 H 0.4009 1.2677 1.2018 0.0242 1.0000 Uiso . . . . . .
H19 H 0.4204 1.3433 1.0325 0.0234 1.0000 Uiso . . . . . .
H20 H 0.3629 1.0790 0.9129 0.0185 1.0000 Uiso . . . . . .
H21 H 0.3179 0.6977 0.8766 0.0126 1.0000 Uiso . . . . . .
H22 H 0.2274 0.4528 0.8016 0.0118 1.0000 Uiso . . . . . .
H23 H -0.0075 0.2652 0.9407 0.0138 1.0000 Uiso . . . . . .
H24 H -0.0876 -0.0879 0.8875 0.0131 1.0000 Uiso . . . . . .
H25 H 0.0396 -0.2190 0.7495 0.0130 1.0000 Uiso . . . . . .
loop_
_atom_site_aniso_label
_atom_site_aniso_U_11
_atom_site_aniso_U_22
_atom_site_aniso_U_33
_atom_site_aniso_U_23
_atom_site_aniso_U_13
_atom_site_aniso_U_12
N1 0.0133(4) 0.0120(4) 0.0109(3) -0.0024(3) 0.0052(3) -0.0010(3)
C2 0.0138(4) 0.0116(4) 0.0132(4) -0.0001(3) 0.0019(3) -0.0018(3)
C3 0.0133(4) 0.0108(4) 0.0153(4) -0.0021(3) 0.0010(3) 0.0011(3)
N4 0.0127(4) 0.0115(4) 0.0124(3) -0.0031(3) 0.0039(3) 0.0015(3)
C5 0.0106(4) 0.0096(4) 0.0081(3) -0.0001(3) 0.0017(3) 0.0015(3)
N6 0.0136(4) 0.0110(3) 0.0095(3) -0.0015(3) 0.0050(3) -0.0023(3)
C7 0.0102(4) 0.0099(4) 0.0111(4) -0.0015(3) 0.0016(3) 0.0013(3)
O8 0.0139(3) 0.0183(3) 0.0138(3) -0.0056(2) 0.0070(2) -0.0022(2)
N9 0.0144(4) 0.0123(3) 0.0110(3) -0.0019(3) 0.0036(3) -0.0032(3)
C10 0.0100(4) 0.0105(4) 0.0146(4) -0.0018(3) 0.0002(3) 0.0010(3)
C11 0.0175(4) 0.0152(4) 0.0144(4) -0.0024(3) 0.0020(3) 0.0002(3)
C12 0.0184(5) 0.0227(5) 0.0167(4) -0.0073(4) -0.0017(3) 0.0036(4)
C13 0.0183(5) 0.0174(5) 0.0295(5) -0.0111(4) -0.0068(4) 0.0031(3)
C14 0.0192(5) 0.0113(4) 0.0337(6) -0.0016(4) -0.0049(4) -0.0013(3)
C15 0.0152(4) 0.0122(4) 0.0216(5) 0.0020(3) -0.0023(3) 0.0003(3)
loop_
_atom_type_symbol
_atom_type_scat_dispersion_real
_atom_type_scat_dispersion_imag
_atom_type_scat_Cromer_Mann_a1
_atom_type_scat_Cromer_Mann_b1
_atom_type_scat_Cromer_Mann_a2
_atom_type_scat_Cromer_Mann_b2
_atom_type_scat_Cromer_Mann_a3
_atom_type_scat_Cromer_Mann_b3
_atom_type_scat_Cromer_Mann_a4
_atom_type_scat_Cromer_Mann_b4
_atom_type_scat_Cromer_Mann_c
_atom_type_scat_source
C 0.0010 0.0007 2.3100 20.8439 1.0200 10.2075 1.5886 0.5687 0.8650 51.6512
0.2156
;
International Tables Vol C 4.2.6.8 and 6.1.1.4,
dispersion factors from Interpolated values from CXRO/LLNL data
;
H 0.0000 0.0000 0.4930 10.5109 0.3229 26.1257 0.1402 3.1424 0.0408 57.7998
0.0030
;
International Tables Vol C 4.2.6.8 and 6.1.1.4,
dispersion factors from Interpolated values from CXRO/LLNL data
;
N 0.0028 0.0016 12.2126 0.0057 3.1322 9.8933 2.0125 28.9975 1.1663 0.5826
-11.5290
;
International Tables Vol C 4.2.6.8 and 6.1.1.4,
dispersion factors from Interpolated values from CXRO/LLNL data
;
O 0.0046 0.0029 3.0485 13.2771 2.2868 5.7011 1.5463 0.3239 0.8670 32.9089
0.2508
;
International Tables Vol C 4.2.6.8 and 6.1.1.4,
dispersion factors from Interpolated values from CXRO/LLNL data
;
loop_
_geom_angle_atom_site_label_1
_geom_angle_site_symmetry_1
_geom_angle_atom_site_label_2
_geom_angle_site_symmetry_2
_geom_angle_atom_site_label_3
_geom_angle_site_symmetry_3
_geom_angle
_geom_angle_publ_flag
C2 . N1 . C5 . 107.19(7) yes
C2 . N1 . H23 . 124.3 no
C5 . N1 . H23 . 128.5 no
N1 . C2 . C3 . 105.70(8) yes
N1 . C2 . H24 . 123.3 no
C3 . C2 . H24 . 131.0 no
C2 . C3 . N4 . 110.40(8) yes
C2 . C3 . H25 . 125.2 no
N4 . C3 . H25 . 124.3 no
C3 . N4 . C5 . 104.57(8) yes
N1 . C5 . N4 . 112.13(8) yes
N1 . C5 . N6 . 125.25(8) yes
N4 . C5 . N6 . 122.61(8) yes
C5 . N6 . C7 . 123.82(7) yes
C5 . N6 . H22 . 119.6 no
C7 . N6 . H22 . 116.4 no
N6 . C7 . O8 . 122.85(8) yes
N6 . C7 . N9 . 112.03(8) yes
O8 . C7 . N9 . 125.12(8) yes
C7 . N9 . C10 . 125.45(8) yes
C7 . N9 . H21 . 116.6 no
C10 . N9 . H21 . 117.8 no
N9 . C10 . C11 . 122.17(8) yes
N9 . C10 . C15 . 118.01(8) yes
C11 . C10 . C15 . 119.73(9) yes
C10 . C11 . C12 . 119.65(9) yes
C10 . C11 . H16 . 119.0 no
C12 . C11 . H16 . 121.4 no
C11 . C12 . C13 . 120.79(10) yes
C11 . C12 . H17 . 120.1 no
C13 . C12 . H17 . 119.1 no
C12 . C13 . C14 . 119.37(9) yes
C12 . C13 . H18 . 121.4 no
C14 . C13 . H18 . 119.3 no
C13 . C14 . C15 . 120.41(10) yes
C13 . C14 . H19 . 120.2 no
C15 . C14 . H19 . 119.3 no
C10 . C15 . C14 . 120.03(10) yes
C10 . C15 . H20 . 118.6 no
C14 . C15 . H20 . 121.3 no
loop_
_geom_bond_atom_site_label_1
_geom_bond_site_symmetry_1
_geom_bond_atom_site_label_2
_geom_bond_site_symmetry_2
_geom_bond_distance
_geom_bond_publ_flag
N1 . C2 . 1.3853(12) yes
N1 . C5 . 1.3443(11) yes
N1 . H23 . 0.883 no
C2 . C3 . 1.3530(13) yes
C2 . H24 . 0.965 no
C3 . N4 . 1.3926(12) yes
C3 . H25 . 0.946 no
N4 . C5 . 1.3234(11) yes
C5 . N6 . 1.3795(11) yes
N6 . C7 . 1.3794(11) yes
N6 . H22 . 0.869 no
C7 . O8 . 1.2210(11) yes
C7 . N9 . 1.3657(12) yes
N9 . C10 . 1.4109(11) yes
N9 . H21 . 0.891 no
C10 . C11 . 1.3921(13) yes
C10 . C15 . 1.3943(13) yes
C11 . C12 . 1.3905(13) yes
C11 . H16 . 0.951 no
C12 . C13 . 1.3873(17) yes
C12 . H17 . 0.933 no
C13 . C14 . 1.3879(17) yes
C13 . H18 . 0.937 no
C14 . C15 . 1.3892(14) yes
C14 . H19 . 0.943 no
C15 . H20 . 0.924 no
loop_
_geom_hbond_atom_site_label_D
_geom_hbond_site_symmetry_D
_geom_hbond_atom_site_label_H
_geom_hbond_site_symmetry_H
_geom_hbond_atom_site_label_A
_geom_hbond_site_symmetry_A
_geom_hbond_angle_DHA
_geom_hbond_distance_DH
_geom_hbond_distance_HA
_geom_hbond_distance_DA
_geom_hbond_publ_flag
N6 . H22 . N4 3_556 161 0.87 2.06 2.893(2) yes
N1 . H23 . O8 2_567 153 0.88 2.07 2.891(2) yes
loop_
_cod_related_entry_id
_cod_related_entry_database
_cod_related_entry_code
1 ChemSpider 15214570
