#------------------------------------------------------------------------------
#$Date: 2016-03-26 17:59:05 +0200 (Sat, 26 Mar 2016) $
#$Revision: 180406 $
#$URL: svn://www.crystallography.net/cod/cif/7/20/75/7207560.cif $
#------------------------------------------------------------------------------
#
# This file is available in the Crystallography Open Database (COD),
# http://www.crystallography.net/
#
# All data on this site have been placed in the public domain by the
# contributors.
#
data_7207560
loop_
_publ_author_name
'Centore, Roberto'
'Jazbinsek, Mojca'
'Tuzi, Angela'
'Roviello, Antonio'
'Capobianco, Amedeo'
'Peluso, Andrea'
_publ_section_title
;
 A series of compounds forming polar crystals and showing
 single-crystal-to-single-crystal transitions between polar phases
;
_journal_issue                   8
_journal_name_full               CrystEngComm
_journal_page_first              2645
_journal_paper_doi               10.1039/c2ce06352b
_journal_volume                  14
_journal_year                    2012
_chemical_formula_moiety         'C10 H12 N2 O2'
_chemical_formula_sum            'C10 H12 N2 O2'
_chemical_formula_weight         192.22
_chemical_name_systematic
;
N'-2-propylidene-4-hydroxybenzohydrazide
;
_space_group_IT_number           33
_symmetry_cell_setting           orthorhombic
_symmetry_space_group_name_Hall  'P 2c -2n'
_symmetry_space_group_name_H-M   'P n a 21'
_atom_sites_solution_hydrogens   geom
_atom_sites_solution_primary     direct
_atom_sites_solution_secondary   difmap
_audit_creation_method           SHELXL-97
_cell_angle_alpha                90.00
_cell_angle_beta                 90.00
_cell_angle_gamma                90.00
_cell_formula_units_Z            4
_cell_length_a                   9.157(4)
_cell_length_b                   7.196(3)
_cell_length_c                   15.566(6)
_cell_measurement_reflns_used    515
_cell_measurement_temperature    293(2)
_cell_measurement_theta_max      22.347
_cell_measurement_theta_min      3.597
_cell_volume                     1025.7(7)
_computing_cell_refinement
;
Dirax/lsq (Duisenberg et al., 2000)
;
_computing_data_collection       'Collect (Nonius BV, 1997-2000)'
_computing_data_reduction
;
EvalCCD (Duisenberg & Schreurs 1990-2000)
;
_computing_molecular_graphics    'Ortep-3 for Windows (Farrugia, 1997)'
_computing_structure_refinement  'SHELXL-97 (Sheldrick, 1997)'
_computing_structure_solution    'SIR97 (Altomare at al, 1999)'
_diffrn_ambient_temperature      293(2)
_diffrn_detector                 'CCD plate'
_diffrn_detector_area_resol_mean 9
_diffrn_detector_type
;
Bruker-Nonius 95mm CCD camera on \k-goniostat
;
_diffrn_measured_fraction_theta_full 0.993
_diffrn_measured_fraction_theta_max 0.993
_diffrn_measurement_device       'four-circle diffractometer'
_diffrn_measurement_device_type  'Bruker-Nonius KappaCCD'
_diffrn_measurement_method
;
CCD rotation images, thick slices
;
_diffrn_radiation_monochromator  graphite
_diffrn_radiation_probe          x-ray
_diffrn_radiation_source         'normal-focus sealed tube'
_diffrn_radiation_type           MoK\a
_diffrn_radiation_wavelength     0.71073
_diffrn_reflns_av_R_equivalents  0.0299
_diffrn_reflns_av_sigmaI/netI    0.0330
_diffrn_reflns_limit_h_max       11
_diffrn_reflns_limit_h_min       -10
_diffrn_reflns_limit_k_max       7
_diffrn_reflns_limit_k_min       -9
_diffrn_reflns_limit_l_max       16
_diffrn_reflns_limit_l_min       -20
_diffrn_reflns_number            5769
_diffrn_reflns_theta_full        27.50
_diffrn_reflns_theta_max         27.50
_diffrn_reflns_theta_min         3.12
_exptl_absorpt_coefficient_mu    0.088
_exptl_absorpt_correction_T_max  0.9775
_exptl_absorpt_correction_T_min  0.9620
_exptl_absorpt_correction_type   multi-scan
_exptl_absorpt_process_details
;
SADABS (Bruker, 2000)
;
_exptl_crystal_colour            colourless
_exptl_crystal_density_diffrn    1.245
_exptl_crystal_density_method    'not measured'
_exptl_crystal_description       prism
_exptl_crystal_F_000             408
_exptl_crystal_size_max          0.45
_exptl_crystal_size_mid          0.45
_exptl_crystal_size_min          0.25
_refine_diff_density_max         0.200
_refine_diff_density_min         -0.166
_refine_diff_density_rms         0.051
_refine_ls_abs_structure_details 'Flack H D (1983), Acta Cryst. A39, 876-881'
_refine_ls_abs_structure_Flack   -0.1(15)
_refine_ls_extinction_coef       0.071(7)
_refine_ls_extinction_expression Fc^*^=kFc[1+0.001xFc²λ³/sin(2θ)]^-1/4^
_refine_ls_extinction_method     SHELXL
_refine_ls_goodness_of_fit_ref   1.099
_refine_ls_hydrogen_treatment    mixed
_refine_ls_matrix_type           full
_refine_ls_number_parameters     136
_refine_ls_number_reflns         1935
_refine_ls_number_restraints     1
_refine_ls_restrained_S_all      1.099
_refine_ls_R_factor_all          0.0490
_refine_ls_R_factor_gt           0.0370
_refine_ls_shift/su_max          0.000
_refine_ls_shift/su_mean         0.000
_refine_ls_structure_factor_coef Fsqd
_refine_ls_weighting_details
'calc w=1/[σ²(Fo²)+(0.0468P)²+0.1065P] where P=(Fo²+2Fc²)/3'
_refine_ls_weighting_scheme      calc
_refine_ls_wR_factor_gt          0.0901
_refine_ls_wR_factor_ref         0.0974
_reflns_number_gt                1628
_reflns_number_total             1935
_reflns_threshold_expression     >2sigma(I)
_cod_data_source_file            c2ce06352b.txt
_cod_data_source_block           imaceti
_cod_depositor_comments
;
The following automatic conversions were performed:

'_symmetry_cell_setting' value 'Orthorhombic' changed to
'orthorhombic' according to
/home/saulius/struct/CIF-dictionaries/cif_core.dic dictionary named
'cif_core.dic' version 2.4.1 from 2010-06-29.

Automatic conversion script
Id: cif_fix_values 1715 2011-07-08 13:25:40Z adriana 
;
_cod_database_code               7207560
loop_
_symmetry_equiv_pos_as_xyz
'x, y, z'
'-x, -y, z+1/2'
'-x+1/2, y+1/2, z+1/2'
'x+1/2, -y+1/2, z'
loop_
_atom_site_label
_atom_site_type_symbol
_atom_site_fract_x
_atom_site_fract_y
_atom_site_fract_z
_atom_site_U_iso_or_equiv
_atom_site_adp_type
_atom_site_occupancy
_atom_site_symmetry_multiplicity
_atom_site_calc_flag
_atom_site_refinement_flags
C1 C 0.1717(2) 1.0853(3) 0.04745(13) 0.0428(5) Uani 1 1 d .
C2 C 0.0204(2) 1.0917(3) 0.05250(13) 0.0484(5) Uani 1 1 d .
H2 H -0.0336 1.1431 0.0078 0.058 Uiso 1 1 calc R
C3 C -0.0494(2) 1.0218(3) 0.12351(14) 0.0477(5) Uani 1 1 d .
H3 H -0.1507 1.0291 0.1269 0.057 Uiso 1 1 calc R
C4 C 0.0272(2) 0.9411(2) 0.18989(13) 0.0385(4) Uani 1 1 d .
C5 C 0.1787(2) 0.9422(3) 0.18565(14) 0.0490(5) Uani 1 1 d .
H5 H 0.2326 0.8936 0.2310 0.059 Uiso 1 1 calc R
C6 C 0.2496(2) 1.0138(3) 0.11580(15) 0.0514(5) Uani 1 1 d .
H6 H 0.3512 1.0143 0.1143 0.062 Uiso 1 1 calc R
C7 C -0.0559(2) 0.8593(2) 0.26219(13) 0.0393(4) Uani 1 1 d .
C8 C -0.0425(2) 0.4680(3) 0.39032(14) 0.0479(5) Uani 1 1 d .
C9 C 0.0449(4) 0.3369(3) 0.3373(2) 0.0768(8) Uani 1 1 d .
H9A H 0.0212 0.3538 0.2777 0.115 Uiso 1 1 calc R
H9B H 0.0230 0.2115 0.3540 0.115 Uiso 1 1 calc R
H9C H 0.1471 0.3606 0.3459 0.115 Uiso 1 1 calc R
C10 C -0.1126(3) 0.3944(4) 0.4697(2) 0.0754(8) Uani 1 1 d .
H10A H -0.1667 0.4919 0.4973 0.113 Uiso 1 1 calc R
H10B H -0.0387 0.3490 0.5081 0.113 Uiso 1 1 calc R
H10C H -0.1777 0.2948 0.4549 0.113 Uiso 1 1 calc R
N1 N 0.0058(2) 0.7123(2) 0.30206(11) 0.0440(4) Uani 1 1 d .
H1 H 0.084(3) 0.670(3) 0.2907(17) 0.053 Uiso 1 1 d .
N2 N -0.06472(19) 0.6386(2) 0.37345(11) 0.0429(4) Uani 1 1 d .
O1 O 0.24690(18) 1.1452(3) -0.02181(11) 0.0575(4) Uani 1 1 d .
H1O H 0.195(3) 1.193(4) -0.0601(19) 0.069 Uiso 1 1 d .
O2 O -0.17790(16) 0.9140(2) 0.28215(10) 0.0515(4) Uani 1 1 d .
loop_
_atom_site_aniso_label
_atom_site_aniso_U_11
_atom_site_aniso_U_22
_atom_site_aniso_U_33
_atom_site_aniso_U_23
_atom_site_aniso_U_13
_atom_site_aniso_U_12
C1 0.0420(11) 0.0465(11) 0.0399(11) 0.0009(8) 0.0012(10) -0.0018(8)
C2 0.0431(12) 0.0580(12) 0.0442(12) 0.0105(9) -0.0094(10) 0.0029(9)
C3 0.0355(9) 0.0558(11) 0.0520(13) 0.0078(10) -0.0005(11) 0.0038(9)
C4 0.0370(10) 0.0369(9) 0.0415(10) -0.0008(7) -0.0026(9) 0.0014(7)
C5 0.0378(11) 0.0630(13) 0.0462(12) 0.0129(9) -0.0076(10) 0.0046(9)
C6 0.0312(9) 0.0670(12) 0.0560(13) 0.0105(11) -0.0040(12) -0.0001(9)
C7 0.0382(9) 0.0385(9) 0.0411(11) -0.0037(7) -0.0013(9) -0.0024(8)
C8 0.0455(11) 0.0444(11) 0.0539(14) 0.0041(9) -0.0068(10) -0.0089(9)
C9 0.0853(18) 0.0437(12) 0.101(2) 0.0000(12) 0.0159(17) -0.0029(12)
C10 0.084(2) 0.0687(15) 0.0735(19) 0.0219(13) 0.0072(17) -0.0081(14)
N1 0.0434(9) 0.0445(9) 0.0442(10) 0.0030(8) 0.0047(9) 0.0033(7)
N2 0.0446(9) 0.0486(9) 0.0355(8) 0.0023(7) 0.0002(7) -0.0031(7)
O1 0.0454(9) 0.0834(11) 0.0438(9) 0.0154(8) 0.0005(7) -0.0017(8)
O2 0.0412(7) 0.0529(8) 0.0605(10) 0.0044(6) 0.0108(8) 0.0051(6)
loop_
_atom_type_symbol
_atom_type_description
_atom_type_scat_dispersion_real
_atom_type_scat_dispersion_imag
_atom_type_scat_source
C C 0.0033 0.0016 'International Tables Vol C Tables 4.2.6.8 and 6.1.1.4'
H H 0.0000 0.0000 'International Tables Vol C Tables 4.2.6.8 and 6.1.1.4'
N N 0.0061 0.0033 'International Tables Vol C Tables 4.2.6.8 and 6.1.1.4'
O O 0.0106 0.0060 'International Tables Vol C Tables 4.2.6.8 and 6.1.1.4'
loop_
_geom_angle_atom_site_label_1
_geom_angle_atom_site_label_2
_geom_angle_atom_site_label_3
_geom_angle
_geom_angle_publ_flag
O1 C1 C6 118.07(19) no
O1 C1 C2 122.96(19) no
C6 C1 C2 118.97(19) no
C3 C2 C1 119.90(19) no
C3 C2 H2 120.0 no
C1 C2 H2 120.0 no
C2 C3 C4 121.43(18) no
C2 C3 H3 119.3 no
C4 C3 H3 119.3 no
C3 C4 C5 118.08(19) no
C3 C4 C7 118.44(17) no
C5 C4 C7 123.47(18) no
C6 C5 C4 120.96(19) no
C6 C5 H5 119.5 no
C4 C5 H5 119.5 no
C5 C6 C1 120.50(19) no
C5 C6 H6 119.8 no
C1 C6 H6 119.8 no
O2 C7 N1 121.15(19) no
O2 C7 C4 122.25(17) no
N1 C7 C4 116.47(18) no
N2 C8 C9 125.7(2) no
N2 C8 C10 116.5(2) no
C9 C8 C10 117.8(2) no
C8 C9 H9A 109.5 no
C8 C9 H9B 109.5 no
H9A C9 H9B 109.5 no
C8 C9 H9C 109.5 no
H9A C9 H9C 109.5 no
H9B C9 H9C 109.5 no
C8 C10 H10A 109.5 no
C8 C10 H10B 109.5 no
H10A C10 H10B 109.5 no
C8 C10 H10C 109.5 no
H10A C10 H10C 109.5 no
H10B C10 H10C 109.5 no
C7 N1 N2 118.12(17) no
C7 N1 H1 124.9(19) no
N2 N1 H1 116.6(19) no
C8 N2 N1 117.30(17) no
C1 O1 H1O 114.2(19) no
loop_
_geom_bond_atom_site_label_1
_geom_bond_atom_site_label_2
_geom_bond_distance
_geom_bond_publ_flag
C1 O1 1.350(3) no
C1 C6 1.381(3) no
C1 C2 1.388(3) no
C2 C3 1.372(3) no
C2 H2 0.9300 no
C3 C4 1.377(3) no
C3 H3 0.9300 no
C4 C5 1.389(3) no
C4 C7 1.481(3) no
C5 C6 1.367(3) no
C5 H5 0.9300 no
C6 H6 0.9300 no
C7 O2 1.224(2) no
C7 N1 1.351(3) no
C8 N2 1.271(3) no
C8 C9 1.488(3) no
C8 C10 1.491(4) no
C9 H9A 0.9600 no
C9 H9B 0.9600 no
C9 H9C 0.9600 no
C10 H10A 0.9600 no
C10 H10B 0.9600 no
C10 H10C 0.9600 no
N1 N2 1.390(3) no
N1 H1 0.80(3) no
O1 H1O 0.83(3) no
loop_
_geom_torsion_atom_site_label_1
_geom_torsion_atom_site_label_2
_geom_torsion_atom_site_label_3
_geom_torsion_atom_site_label_4
_geom_torsion
_geom_torsion_publ_flag
O1 C1 C2 C3 177.5(2) no
C6 C1 C2 C3 -2.1(3) no
C1 C2 C3 C4 -1.4(3) no
C2 C3 C4 C5 3.9(3) no
C2 C3 C4 C7 -176.60(18) no
C3 C4 C5 C6 -2.9(3) no
C7 C4 C5 C6 177.59(19) no
C4 C5 C6 C1 -0.5(3) no
O1 C1 C6 C5 -176.5(2) no
C2 C1 C6 C5 3.1(3) no
C3 C4 C7 O2 -26.8(3) no
C5 C4 C7 O2 152.7(2) no
C3 C4 C7 N1 149.17(18) no
C5 C4 C7 N1 -31.3(3) no
O2 C7 N1 N2 -7.8(3) no
C4 C7 N1 N2 176.24(16) no
C9 C8 N2 N1 -4.2(3) no
C10 C8 N2 N1 176.8(2) no
C7 N1 N2 C8 153.58(19) no
loop_
_reflns_scale_group_code
_reflns_scale_meas_F
1 1.0
