#------------------------------------------------------------------------------
#$Date: 2016-03-26 18:11:22 +0200 (Sat, 26 Mar 2016) $
#$Revision: 180415 $
#$URL: svn://www.crystallography.net/cod/cif/7/20/84/7208446.cif $
#------------------------------------------------------------------------------
#
# This file is available in the Crystallography Open Database (COD),
# http://www.crystallography.net/
#
# All data on this site have been placed in the public domain by the
# contributors.
#
data_7208446
loop_
_publ_author_name
'Minkov, Vasily S.'
'Boldyreva, Elena V.'
'Drebushchak, Tatiana N.'
'Görbitz, Carl Henrik'
_publ_section_title
;
 Stabilizing structures of cysteine-containing crystals with respect to
 variations of temperature and pressure by immobilizing amino acid side
 chains
;
_journal_issue                   18
_journal_name_full               CrystEngComm
_journal_page_first              5943
_journal_paper_doi               10.1039/c2ce25241d
_journal_volume                  14
_journal_year                    2012
_chemical_absolute_configuration rmad
_chemical_formula_moiety         'C3 H8 N O2 S, C2 H O4'
_chemical_formula_sum            'C5 H9 N O6 S'
_chemical_formula_weight         211.20
_chemical_name_common            'DL-cysteinium semioxalate'
_space_group_IT_number           2
_symmetry_cell_setting           triclinic
_symmetry_Int_Tables_number      2
_symmetry_space_group_name_Hall  '-P 1'
_symmetry_space_group_name_H-M   'P -1'
_atom_sites_solution_hydrogens   geom
_atom_sites_solution_primary     direct
_atom_sites_solution_secondary   difmap
_audit_creation_method           SHELXL-97
_cell_angle_alpha                110.208(4)
_cell_angle_beta                 102.193(3)
_cell_angle_gamma                99.702(3)
_cell_formula_units_Z            2
_cell_length_a                   5.65706(14)
_cell_length_b                   8.9064(4)
_cell_length_c                   9.7446(4)
_cell_measurement_temperature    150(2)
_cell_volume                     434.47(3)
_computing_structure_refinement  'SHELXL-97 (Sheldrick, 1997)'
_computing_structure_solution    'SHELXS-97 (Sheldrick, 1990)'
_diffrn_ambient_temperature      150(2)
_diffrn_measured_fraction_theta_full 0.999
_diffrn_measured_fraction_theta_max 0.999
_diffrn_radiation_monochromator  graphite
_diffrn_radiation_probe          x-ray
_diffrn_radiation_source         'fine-focus sealed tube'
_diffrn_radiation_type           MoK\a
_diffrn_radiation_wavelength     0.71073
_diffrn_reflns_av_R_equivalents  0.0292
_diffrn_reflns_av_sigmaI/netI    0.0201
_diffrn_reflns_limit_h_max       8
_diffrn_reflns_limit_h_min       -8
_diffrn_reflns_limit_k_max       12
_diffrn_reflns_limit_k_min       -12
_diffrn_reflns_limit_l_max       13
_diffrn_reflns_limit_l_min       -13
_diffrn_reflns_number            13582
_diffrn_reflns_theta_full        30.51
_diffrn_reflns_theta_max         30.51
_diffrn_reflns_theta_min         3.82
_exptl_absorpt_coefficient_mu    0.373
_exptl_absorpt_correction_T_max  0.9672
_exptl_absorpt_correction_T_min  0.8502
_exptl_absorpt_correction_type   multi-scan
_exptl_absorpt_process_details   'CrysAlis RED (Oxford Diffraction, 2008)'
_exptl_crystal_colour            colorless
_exptl_crystal_density_diffrn    1.614
_exptl_crystal_density_method    'not measured'
_exptl_crystal_description       plate
_exptl_crystal_F_000             220
_exptl_crystal_size_max          0.45
_exptl_crystal_size_mid          0.26
_exptl_crystal_size_min          0.09
_refine_diff_density_max         0.471
_refine_diff_density_min         -0.243
_refine_diff_density_rms         0.057
_refine_ls_extinction_method     none
_refine_ls_goodness_of_fit_ref   1.037
_refine_ls_hydrogen_treatment    mixed
_refine_ls_matrix_type           full
_refine_ls_number_parameters     124
_refine_ls_number_reflns         2640
_refine_ls_number_restraints     1
_refine_ls_restrained_S_all      1.037
_refine_ls_R_factor_all          0.0351
_refine_ls_R_factor_gt           0.0307
_refine_ls_shift/su_max          0.000
_refine_ls_shift/su_mean         0.000
_refine_ls_structure_factor_coef Fsqd
_refine_ls_weighting_details
'calc w=1/[σ²(Fo²)+(0.0463P)²+0.1287P] where P=(Fo²+2Fc²)/3'
_refine_ls_weighting_scheme      calc
_refine_ls_wR_factor_gt          0.0809
_refine_ls_wR_factor_ref         0.0839
_reflns_number_gt                2364
_reflns_number_total             2640
_reflns_threshold_expression     >2sigma(I)
_cod_data_source_file            c2ce25241d.txt
_cod_data_source_block           DL-cys_ox_11_150K
_cod_database_code               7208446
loop_
_symmetry_equiv_pos_as_xyz
'x, y, z'
'-x, -y, -z'
loop_
_atom_site_label
_atom_site_type_symbol
_atom_site_fract_x
_atom_site_fract_y
_atom_site_fract_z
_atom_site_U_iso_or_equiv
_atom_site_adp_type
_atom_site_occupancy
_atom_site_symmetry_multiplicity
_atom_site_calc_flag
_atom_site_refinement_flags
S1 S 0.86836(5) 0.39719(4) 0.24655(4) 0.02306(9) Uani 1 1 d D
H1S H 0.766(3) 0.400(2) 0.1267(16) 0.028 Uiso 1 1 d D
N1 N 0.51849(17) 0.08273(12) 0.25680(10) 0.01593(17) Uani 1 1 d .
H2N H 0.3952 -0.0130 0.2217 0.019 Uiso 1 1 calc R
H1N H 0.5981 0.1113 0.3572 0.019 Uiso 1 1 calc R
H3N H 0.6306 0.0677 0.2020 0.019 Uiso 1 1 calc R
C1 C 0.5999(2) 0.38542(14) 0.32004(12) 0.0182(2) Uani 1 1 d .
H12 H 0.6592 0.4093 0.4304 0.022 Uiso 1 1 calc R
H11 H 0.5180 0.4723 0.3093 0.022 Uiso 1 1 calc R
C2 C 0.40628(18) 0.21745(13) 0.23958(11) 0.01495(19) Uani 1 1 d .
H2 H 0.2695 0.2219 0.2900 0.018 Uiso 1 1 calc R
O2 O 0.24587(15) 0.03076(10) -0.02346(9) 0.01981(17) Uani 1 1 d .
O1 O 0.23419(16) 0.29682(11) 0.04207(9) 0.02198(18) Uani 1 1 d .
H1O H 0.1449 0.2630 -0.0488 0.026 Uiso 1 1 calc R
O3 O 0.64831(14) 0.19165(11) 0.57491(9) 0.01856(17) Uani 1 1 d .
C3 C 0.28749(18) 0.17053(14) 0.07036(12) 0.01545(19) Uani 1 1 d .
O5 O 1.28649(14) 0.21692(11) 0.70013(9) 0.01856(17) Uani 1 1 d .
H5O H 1.4036 0.2158 0.6595 0.022 Uiso 1 1 calc R
C4 C 0.84916(18) 0.19894(13) 0.66464(11) 0.01373(18) Uani 1 1 d .
O4 O 0.87498(14) 0.20102(11) 0.79552(9) 0.01912(17) Uani 1 1 d .
C5 C 1.07655(18) 0.19804(13) 0.59943(12) 0.01438(18) Uani 1 1 d .
O6 O 1.05204(15) 0.17728(11) 0.46734(9) 0.02187(18) Uani 1 1 d .
loop_
_atom_site_aniso_label
_atom_site_aniso_U_11
_atom_site_aniso_U_22
_atom_site_aniso_U_33
_atom_site_aniso_U_23
_atom_site_aniso_U_13
_atom_site_aniso_U_12
S1 0.01720(14) 0.01983(15) 0.03056(16) 0.00885(12) 0.00768(11) 0.00233(10)
N1 0.0158(4) 0.0186(4) 0.0141(4) 0.0081(3) 0.0035(3) 0.0040(3)
C1 0.0184(5) 0.0179(5) 0.0152(5) 0.0038(4) 0.0037(4) 0.0045(4)
C2 0.0141(4) 0.0189(5) 0.0130(4) 0.0071(4) 0.0040(3) 0.0054(4)
O2 0.0174(4) 0.0229(4) 0.0161(4) 0.0050(3) 0.0035(3) 0.0053(3)
O1 0.0238(4) 0.0239(4) 0.0165(4) 0.0096(3) -0.0003(3) 0.0064(3)
O3 0.0108(3) 0.0302(4) 0.0157(3) 0.0104(3) 0.0031(3) 0.0060(3)
C3 0.0104(4) 0.0227(5) 0.0140(4) 0.0084(4) 0.0038(3) 0.0034(4)
O5 0.0108(3) 0.0296(4) 0.0180(4) 0.0118(3) 0.0046(3) 0.0066(3)
C4 0.0115(4) 0.0157(4) 0.0141(4) 0.0065(4) 0.0036(3) 0.0027(3)
O4 0.0141(3) 0.0304(4) 0.0162(4) 0.0131(3) 0.0048(3) 0.0052(3)
C5 0.0121(4) 0.0161(5) 0.0157(4) 0.0072(4) 0.0041(3) 0.0035(3)
O6 0.0170(4) 0.0349(5) 0.0156(4) 0.0114(3) 0.0060(3) 0.0070(3)
loop_
_atom_type_symbol
_atom_type_description
_atom_type_scat_dispersion_real
_atom_type_scat_dispersion_imag
_atom_type_scat_source
C C 0.0033 0.0016 'International Tables Vol C Tables 4.2.6.8 and 6.1.1.4'
O O 0.0106 0.0060 'International Tables Vol C Tables 4.2.6.8 and 6.1.1.4'
N N 0.0061 0.0033 'International Tables Vol C Tables 4.2.6.8 and 6.1.1.4'
S S 0.1246 0.1234 'International Tables Vol C Tables 4.2.6.8 and 6.1.1.4'
H H 0.0000 0.0000 'International Tables Vol C Tables 4.2.6.8 and 6.1.1.4'
loop_
_geom_angle_atom_site_label_1
_geom_angle_atom_site_label_2
_geom_angle_atom_site_label_3
_geom_angle
C1 S1 H1S 97.8(8)
C2 N1 H2N 109.5
C2 N1 H1N 109.5
H2N N1 H1N 109.5
C2 N1 H3N 109.5
H2N N1 H3N 109.5
H1N N1 H3N 109.5
C2 C1 S1 113.71(7)
C2 C1 H12 108.8
S1 C1 H12 108.8
C2 C1 H11 108.8
S1 C1 H11 108.8
H12 C1 H11 107.7
N1 C2 C3 108.21(8)
N1 C2 C1 110.94(8)
C3 C2 C1 114.19(9)
N1 C2 H2 107.8
C3 C2 H2 107.8
C1 C2 H2 107.8
C3 O1 H1O 109.5
O2 C3 O1 125.85(10)
O2 C3 C2 122.06(10)
O1 C3 C2 112.08(9)
C5 O5 H5O 109.5
O4 C4 O3 125.57(9)
O4 C4 C5 119.32(9)
O3 C4 C5 115.06(8)
O6 C5 O5 125.76(9)
O6 C5 C4 121.09(9)
O5 C5 C4 113.13(8)
loop_
_geom_bond_atom_site_label_1
_geom_bond_atom_site_label_2
_geom_bond_distance
S1 C1 1.8133(11)
S1 H1S 1.200(13)
N1 C2 1.4905(13)
N1 H2N 0.9100
N1 H1N 0.9100
N1 H3N 0.9100
C1 C2 1.5255(15)
C1 H12 0.9900
C1 H11 0.9900
C2 C3 1.5188(14)
C2 H2 1.0000
O2 C3 1.2103(14)
O1 C3 1.3136(13)
O1 H1O 0.8400
O3 C4 1.2554(12)
O5 C5 1.3146(12)
O5 H5O 0.8400
C4 O4 1.2459(12)
C4 C5 1.5504(13)
C5 O6 1.2091(13)
loop_
_geom_hbond_atom_site_label_D
_geom_hbond_atom_site_label_H
_geom_hbond_atom_site_label_A
_geom_hbond_distance_DH
_geom_hbond_distance_HA
_geom_hbond_distance_DA
_geom_hbond_angle_DHA
_geom_hbond_site_symmetry_A
N1 H1N O3 0.91 1.93 2.7947(12) 158.2 1
N1 H1N O6 0.91 2.45 3.0598(12) 125.0 1
N1 H2N O4 0.91 2.00 2.8871(12) 164.3 2_656
N1 H3N O2 0.91 1.99 2.8488(12) 157.4 2_655
O1 H1O O5 0.84 2.65 3.2475(11) 128.9 1_454
O1 H1O O4 0.84 1.76 2.5626(11) 159.3 1_454
O5 H5O O3 0.84 1.76 2.5980(10) 173.6 1_655
loop_
_geom_torsion_atom_site_label_1
_geom_torsion_atom_site_label_2
_geom_torsion_atom_site_label_3
_geom_torsion_atom_site_label_4
_geom_torsion
S1 C1 C2 N1 60.40(10)
S1 C1 C2 C3 -62.20(10)
N1 C2 C3 O2 15.48(13)
C1 C2 C3 O2 139.55(10)
N1 C2 C3 O1 -165.75(8)
C1 C2 C3 O1 -41.68(12)
O4 C4 C5 O6 171.60(10)
O3 C4 C5 O6 -6.05(15)
O4 C4 C5 O5 -6.62(14)
O3 C4 C5 O5 175.74(9)
