#------------------------------------------------------------------------------
#$Date: 2016-03-26 20:49:26 +0200 (Sat, 26 Mar 2016) $
#$Revision: 180450 $
#$URL: svn://www.crystallography.net/cod/cif/7/21/19/7211919.cif $
#------------------------------------------------------------------------------
#
# This file is available in the Crystallography Open Database (COD),
# http://www.crystallography.net/
#
# All data on this site have been placed in the public domain by the
# contributors.
#
data_7211919
loop_
_publ_author_name
'Kanoo, Prakash'
'Gurunatha, K. L.'
'Maji, Tapas Kumar'
_publ_section_title
;
 Versatile functionalities in MOFs assembled from the same building units:
 interplay of structural flexibility, rigidity and regularity
;
_journal_issue                   7
_journal_name_full               'Journal of Materials Chemistry'
_journal_page_first              1322
_journal_paper_doi               10.1039/b917029d
_journal_volume                  20
_journal_year                    2010
_chemical_formula_moiety         'C12 H4 Cu O4, O1.63'
_chemical_formula_sum            'C12 H4 Cu O5.63'
_chemical_formula_weight         301.73
_chemical_name_systematic
;
?
;
_space_group_IT_number           139
_symmetry_cell_setting           tetragonal
_symmetry_Int_Tables_number      139
_symmetry_space_group_name_Hall  '-I 4 2'
_symmetry_space_group_name_H-M   'I 4/m m m'
_atom_sites_solution_hydrogens   geom
_atom_sites_solution_primary     direct
_atom_sites_solution_secondary   difmap
_audit_creation_method           SHELXL-97
_cell_angle_alpha                90.00
_cell_angle_beta                 90.00
_cell_angle_gamma                90.00
_cell_formula_units_Z            4
_cell_length_a                   10.8058(6)
_cell_length_b                   10.8058(6)
_cell_length_c                   14.2168(13)
_cell_measurement_temperature    293(2)
_cell_volume                     1660.0(2)
_computing_structure_refinement  'SHELXL-97 (Sheldrick, 1997)'
_diffrn_ambient_temperature      293(2)
_diffrn_measured_fraction_theta_full 0.978
_diffrn_measured_fraction_theta_max 0.978
_diffrn_radiation_monochromator  graphite
_diffrn_radiation_source         'fine-focus sealed tube'
_diffrn_radiation_type           MoK\a
_diffrn_radiation_wavelength     0.71073
_diffrn_reflns_av_R_equivalents  0.0683
_diffrn_reflns_av_sigmaI/netI    0.0331
_diffrn_reflns_limit_h_max       13
_diffrn_reflns_limit_h_min       -14
_diffrn_reflns_limit_k_max       14
_diffrn_reflns_limit_k_min       -14
_diffrn_reflns_limit_l_max       10
_diffrn_reflns_limit_l_min       -17
_diffrn_reflns_number            7515
_diffrn_reflns_theta_full        27.53
_diffrn_reflns_theta_max         27.53
_diffrn_reflns_theta_min         2.37
_exptl_absorpt_coefficient_mu    1.326
_exptl_crystal_density_diffrn    1.207
_exptl_crystal_density_method    'not measured'
_exptl_crystal_F_000             600
_refine_diff_density_max         1.760
_refine_diff_density_min         -0.617
_refine_diff_density_rms         0.175
_refine_ls_extinction_coef       0.016(5)
_refine_ls_extinction_expression Fc^*^=kFc[1+0.001xFc²λ³/sin(2θ)]^-1/4^
_refine_ls_extinction_method     SHELXL
_refine_ls_goodness_of_fit_ref   1.200
_refine_ls_hydrogen_treatment    mixed
_refine_ls_matrix_type           full
_refine_ls_number_parameters     59
_refine_ls_number_reflns         579
_refine_ls_number_restraints     13
_refine_ls_restrained_S_all      1.186
_refine_ls_R_factor_all          0.0880
_refine_ls_R_factor_gt           0.0832
_refine_ls_shift/su_max          0.000
_refine_ls_shift/su_mean         0.000
_refine_ls_structure_factor_coef Fsqd
_refine_ls_weighting_details
'calc w=1/[σ²(Fo²)+(0.1558P)²+11.7658P] where P=(Fo²+2Fc²)/3'
_refine_ls_weighting_scheme      calc
_refine_ls_wR_factor_gt          0.2472
_refine_ls_wR_factor_ref         0.2509
_reflns_number_gt                531
_reflns_number_total             579
_reflns_threshold_expression     >2sigma(I)
_cod_data_source_file            b917029d.txt
_cod_data_source_block           i4mmm
_cod_depositor_comments
;
The following automatic conversions were performed:

'_symmetry_cell_setting' value 'Tetragonal' changed to 'tetragonal'
according to /home/saulius/struct/CIF-dictionaries/cif_core.dic
dictionary named 'cif_core.dic' version 2.4.2 from 2011-04-26.

Automatic conversion script
Id: cif_fix_values 1891 2012-01-12 08:04:46Z andrius 
;
_cod_database_code               7211919
loop_
_symmetry_equiv_pos_as_xyz
'x, y, z'
'-y, x, z'
'-x, -y, z'
'y, -x, z'
'x, -y, -z'
'y, x, -z'
'-x, y, -z'
'-y, -x, -z'
'x+1/2, y+1/2, z+1/2'
'-y+1/2, x+1/2, z+1/2'
'-x+1/2, -y+1/2, z+1/2'
'y+1/2, -x+1/2, z+1/2'
'x+1/2, -y+1/2, -z+1/2'
'y+1/2, x+1/2, -z+1/2'
'-x+1/2, y+1/2, -z+1/2'
'-y+1/2, -x+1/2, -z+1/2'
'-x, -y, -z'
'y, -x, -z'
'x, y, -z'
'-y, x, -z'
'-x, y, z'
'-y, -x, z'
'x, -y, z'
'y, x, z'
'-x+1/2, -y+1/2, -z+1/2'
'y+1/2, -x+1/2, -z+1/2'
'x+1/2, y+1/2, -z+1/2'
'-y+1/2, x+1/2, -z+1/2'
'-x+1/2, y+1/2, z+1/2'
'-y+1/2, -x+1/2, z+1/2'
'x+1/2, -y+1/2, z+1/2'
'y+1/2, x+1/2, z+1/2'
loop_
_atom_site_label
_atom_site_type_symbol
_atom_site_fract_x
_atom_site_fract_y
_atom_site_fract_z
_atom_site_U_iso_or_equiv
_atom_site_adp_type
_atom_site_occupancy
_atom_site_symmetry_multiplicity
_atom_site_calc_flag
_atom_site_refinement_flags
Cu1 Cu 0.5000 0.5000 0.40788(10) 0.0229(8) Uani 1 8 d S
O1 O 0.5000 0.6782(6) 0.4217(4) 0.0503(19) Uani 1 2 d S
O1W O 0.5000 0.5000 0.2601(9) 0.059(4) Uani 1 8 d S
C1 C 0.5000 0.7330(10) 0.5000 0.026(2) Uani 1 4 d S
C2 C 0.5000 0.8706(9) 0.5000 0.0254(19) Uani 1 4 d S
C3 C 0.4315(12) 0.9356(11) 0.4318(7) 0.034(2) Uani 0.50 1 d P
C4 C 0.349(2) 0.871(2) 0.3680(14) 0.037(5) Uani 0.25 1 d P
H4 H 0.3510 0.7855 0.3652 0.045 Uiso 0.25 1 calc PR
C5 C 0.268(3) 0.9362(9) 0.3112(17) 0.049(7) Uani 0.25 1 d PD
H5 H 0.2133 0.8935 0.2728 0.059 Uiso 0.25 1 calc PR
O2W O 0.137(4) 1.137(4) 0.5000 0.0429(18) Uani 0.16(2) 4 d SPU
O3W O 0.2500 0.2500 0.2500 0.0449(18) Uani 0.15(2) 4 d SPU
loop_
_atom_site_aniso_label
_atom_site_aniso_U_11
_atom_site_aniso_U_22
_atom_site_aniso_U_33
_atom_site_aniso_U_23
_atom_site_aniso_U_13
_atom_site_aniso_U_12
Cu1 0.0274(9) 0.0274(9) 0.0140(10) 0.000 0.000 0.000
O1 0.098(6) 0.025(3) 0.027(3) 0.002(2) 0.000 0.000
O1W 0.077(6) 0.077(6) 0.023(6) 0.000 0.000 0.000
C1 0.016(4) 0.033(5) 0.030(5) 0.000 0.000 0.000
C2 0.029(5) 0.026(5) 0.022(4) 0.000 0.000 0.000
C3 0.050(7) 0.033(5) 0.019(4) -0.003(4) -0.010(5) -0.001(5)
C4 0.056(14) 0.033(10) 0.022(9) -0.013(8) -0.013(9) 0.003(10)
C5 0.083(19) 0.026(11) 0.039(11) 0.004(9) -0.032(13) 0.011(12)
O2W 0.0429(18) 0.0429(18) 0.043(2) 0.000 0.000 -0.0001(10)
O3W 0.0449(18) 0.0449(18) 0.045(2) 0.0000(7) 0.0000(7) 0.0000(10)
loop_
_atom_type_symbol
_atom_type_description
_atom_type_scat_dispersion_real
_atom_type_scat_dispersion_imag
_atom_type_scat_source
C C 0.0033 0.0016 'International Tables Vol C Tables 4.2.6.8 and 6.1.1.4'
H H 0.0000 0.0000 'International Tables Vol C Tables 4.2.6.8 and 6.1.1.4'
Cu Cu 0.3201 1.2651 'International Tables Vol C Tables 4.2.6.8 and 6.1.1.4'
O O 0.0106 0.0060 'International Tables Vol C Tables 4.2.6.8 and 6.1.1.4'
loop_
_geom_angle_atom_site_label_1
_geom_angle_atom_site_label_2
_geom_angle_atom_site_label_3
_geom_angle
_geom_angle_site_symmetry_1
_geom_angle_site_symmetry_3
O1 Cu1 O1 168.4(3) . 3_665
O1 Cu1 O1 89.41(4) . 2_655
O1 Cu1 O1 89.41(4) 3_665 2_655
O1 Cu1 O1 89.41(4) . 4_565
O1 Cu1 O1 89.41(4) 3_665 4_565
O1 Cu1 O1 168.4(3) 2_655 4_565
O1 Cu1 O1W 95.82(17) . .
O1 Cu1 O1W 95.82(17) 3_665 .
O1 Cu1 O1W 95.82(17) 2_655 .
O1 Cu1 O1W 95.82(17) 4_565 .
O1 Cu1 Cu1 84.18(17) . 17_666
O1 Cu1 Cu1 84.18(17) 3_665 17_666
O1 Cu1 Cu1 84.18(17) 2_655 17_666
O1 Cu1 Cu1 84.18(17) 4_565 17_666
O1W Cu1 Cu1 180.000(1) . 17_666
C1 O1 Cu1 123.8(6) . .
O1 C1 O1 124.0(10) . 19_556
O1 C1 C2 118.0(5) . .
O1 C1 C2 118.0(5) 19_556 .
C3 C2 C3 87.1(11) 7_656 21_655
C3 C2 C3 120.2(11) 7_656 .
C3 C2 C3 63.5(11) 21_655 .
C3 C2 C3 63.5(11) 7_656 19_556
C3 C2 C3 120.2(11) 21_655 19_556
C3 C2 C3 87.1(10) . 19_556
C3 C2 C1 119.9(6) 7_656 .
C3 C2 C1 119.9(6) 21_655 .
C3 C2 C1 119.9(6) . .
C3 C2 C1 119.9(6) 19_556 .
C3 C3 C2 119.9(6) 23_575 .
C3 C3 C4 118.6(10) 23_575 .
C2 C3 C4 121.1(13) . .
C3 C3 C3 46.8(7) 23_575 3_675
C2 C3 C3 87.6(8) . 3_675
C4 C3 C3 140.9(11) . 3_675
C5 C4 C3 120.9(18) . .
C5 C4 H4 119.6 . .
C3 C4 H4 119.6 . .
C5 C5 C4 120.4(11) 23_575 .
C5 C5 H5 119.8 23_575 .
C4 C5 H5 119.8 . .
loop_
_geom_bond_atom_site_label_1
_geom_bond_atom_site_label_2
_geom_bond_distance
_geom_bond_site_symmetry_2
Cu1 O1 1.936(6) .
Cu1 O1 1.936(6) 3_665
Cu1 O1 1.936(6) 2_655
Cu1 O1 1.936(6) 4_565
Cu1 O1W 2.101(13) .
Cu1 Cu1 2.619(3) 17_666
O1 C1 1.261(7) .
C1 O1 1.261(7) 19_556
C1 C2 1.487(14) .
C2 C3 1.408(12) 7_656
C2 C3 1.408(12) 21_655
C2 C3 1.408(12) .
C2 C3 1.408(12) 19_556
C3 C3 1.39(2) 23_575
C3 C4 1.45(2) .
C4 C5 1.38(3) .
C4 H4 0.9300 .
C5 C5 1.378(19) 23_575
C5 H5 0.9300 .
