#------------------------------------------------------------------------------
#$Date: 2016-02-14 06:40:26 +0200 (Sun, 14 Feb 2016) $
#$Revision: 176432 $
#$URL: svn://www.crystallography.net/cod/cif/7/21/20/7212090.cif $
#------------------------------------------------------------------------------
#
# This file is available in the Crystallography Open Database (COD),
# http://www.crystallography.net/
#
# All data on this site have been placed in the public domain by the
# contributors.
#
data_7212090
loop_
_publ_author_name
'Hursthouse, Michael B.'
'Montis, Riccardo'
'Tizzard, Graham J.'
_publ_section_title
;
 Intriguing relationships and associations in the crystal structures of a
 family of substituted aspirin molecules
;
_journal_issue                   3
_journal_name_full               CrystEngComm
_journal_page_first              953
_journal_paper_doi               10.1039/b919538f
_journal_volume                  12
_journal_year                    2010
_chemical_formula_moiety         'C9 H7 F O4'
_chemical_formula_sum            'C9 H7 F O4'
_chemical_formula_weight         198.15
_chemical_melting_point          131
_chemical_name_common            '2-acetyloxy-5-fluorobenzoic acid'
_chemical_name_systematic        '2-acetyloxy-5-fluorobenzoic acid'
_space_group_IT_number           14
_symmetry_cell_setting           monoclinic
_symmetry_space_group_name_Hall  '-P 2yn'
_symmetry_space_group_name_H-M   'P 1 21/n 1'
_atom_sites_solution_hydrogens   geom
_atom_sites_solution_primary     direct
_atom_sites_solution_secondary   difmap
_audit_creation_method           SHELXL-97
_cell_angle_alpha                90.00
_cell_angle_beta                 104.739(3)
_cell_angle_gamma                90.00
_cell_formula_units_Z            4
_cell_length_a                   9.7655(5)
_cell_length_b                   4.8919(2)
_cell_length_c                   18.3338(10)
_cell_measurement_reflns_used    5271
_cell_measurement_temperature    120(2)
_cell_measurement_theta_max      27.48
_cell_measurement_theta_min      2.91
_cell_volume                     847.02(7)
_computing_cell_refinement
'DENZO (Otwinowski & Minor, 1997) & COLLECT (Hooft, R.W.W., 1998)'
_computing_data_collection       'COLLECT (Hooft, R.W.W., 1998)'
_computing_data_reduction
'DENZO (Otwinowski & Minor, 1997) & COLLECT (Hooft, R.W.W., 1998)'
_computing_structure_refinement  'SHELXL-97 (Sheldrick, 1997)'
_diffrn_ambient_temperature      120(2)
_diffrn_detector_area_resol_mean 9.091
_diffrn_measured_fraction_theta_full 0.996
_diffrn_measured_fraction_theta_max 0.996
_diffrn_measurement_device_type
'Bruker-Nonius 95mm CCD camera on κ-goniostat'
_diffrn_measurement_method       'φ & ω scans'
_diffrn_radiation_monochromator  graphite
_diffrn_radiation_source         'Bruker-Nonius FR591 rotating anode'
_diffrn_radiation_type           MoK\a
_diffrn_radiation_wavelength     0.71073
_diffrn_reflns_av_R_equivalents  0.0538
_diffrn_reflns_av_sigmaI/netI    0.0524
_diffrn_reflns_limit_h_max       12
_diffrn_reflns_limit_h_min       -11
_diffrn_reflns_limit_k_max       5
_diffrn_reflns_limit_k_min       -6
_diffrn_reflns_limit_l_max       23
_diffrn_reflns_limit_l_min       -23
_diffrn_reflns_number            7983
_diffrn_reflns_theta_full        27.48
_diffrn_reflns_theta_max         27.48
_diffrn_reflns_theta_min         3.57
_exptl_absorpt_coefficient_mu    0.137
_exptl_absorpt_correction_T_max  0.9973
_exptl_absorpt_correction_T_min  0.9537
_exptl_absorpt_correction_type   multi-scan
_exptl_absorpt_process_details   'SADABS V2.10 (Sheldrick, G.M., 2003)'
_exptl_crystal_colour            Colourless
_exptl_crystal_density_diffrn    1.554
_exptl_crystal_density_method    'not measured'
_exptl_crystal_description       Plate
_exptl_crystal_F_000             408
_exptl_crystal_size_max          0.35
_exptl_crystal_size_mid          0.17
_exptl_crystal_size_min          0.02
_refine_diff_density_max         0.219
_refine_diff_density_min         -0.292
_refine_diff_density_rms         0.062
_refine_ls_extinction_method     none
_refine_ls_goodness_of_fit_ref   0.981
_refine_ls_hydrogen_treatment    mixed
_refine_ls_matrix_type           full
_refine_ls_number_parameters     132
_refine_ls_number_reflns         1933
_refine_ls_number_restraints     0
_refine_ls_restrained_S_all      0.981
_refine_ls_R_factor_all          0.0726
_refine_ls_R_factor_gt           0.0445
_refine_ls_shift/su_max          0.001
_refine_ls_shift/su_mean         0.000
_refine_ls_structure_factor_coef Fsqd
_refine_ls_weighting_details
'calc w=1/[σ²(Fo²)+(0.0622P)²+0.3309P] where P=(Fo²+2Fc²)/3'
_refine_ls_weighting_scheme      calc
_refine_ls_wR_factor_gt          0.1056
_refine_ls_wR_factor_ref         0.1226
_reflns_number_gt                1371
_reflns_number_total             1933
_reflns_threshold_expression     >2sigma(I)
_cod_data_source_file            b919538f.txt
_cod_data_source_block           shelxl4
_cod_original_sg_symbol_Hall     -P2yn
_cod_original_sg_symbol_H-M      P2(1)/n
_cod_database_code               7212090
loop_
_symmetry_equiv_pos_as_xyz
'x, y, z'
'-x+1/2, y+1/2, -z+1/2'
'-x, -y, -z'
'x-1/2, -y-1/2, z-1/2'
loop_
_atom_site_label
_atom_site_type_symbol
_atom_site_fract_x
_atom_site_fract_y
_atom_site_fract_z
_atom_site_U_iso_or_equiv
_atom_site_adp_type
_atom_site_occupancy
_atom_site_symmetry_multiplicity
_atom_site_calc_flag
_atom_site_refinement_flags
H1 H 0.406(3) 1.093(6) 0.4540(19) 0.073(9) Uiso 1 1 d .
C1 C 0.48881(18) 0.7282(4) 0.32746(10) 0.0187(4) Uani 1 1 d .
C2 C 0.57180(19) 0.5081(4) 0.31555(10) 0.0198(4) Uani 1 1 d .
C3 C 0.5756(2) 0.4307(4) 0.24341(10) 0.0222(4) Uani 1 1 d .
H3 H 0.6336 0.2819 0.2366 0.027 Uiso 1 1 calc R
C4 C 0.4954(2) 0.5695(4) 0.18109(10) 0.0253(4) Uani 1 1 d .
H4 H 0.4977 0.5184 0.1314 0.030 Uiso 1 1 calc R
C5 C 0.4123(2) 0.7830(4) 0.19330(10) 0.0234(4) Uani 1 1 d .
C6 C 0.40687(19) 0.8651(4) 0.26438(10) 0.0213(4) Uani 1 1 d .
H6 H 0.3480 1.0134 0.2705 0.026 Uiso 1 1 calc R
C7 C 0.49036(18) 0.8303(4) 0.40391(10) 0.0194(4) Uani 1 1 d .
C8 C 0.77731(19) 0.4262(4) 0.41320(10) 0.0201(4) Uani 1 1 d .
C9 C 0.8331(2) 0.2470(4) 0.47958(11) 0.0247(4) Uani 1 1 d .
H9A H 0.9334 0.2884 0.5014 0.037 Uiso 1 1 calc R
H9B H 0.8231 0.0552 0.4637 0.037 Uiso 1 1 calc R
H9C H 0.7797 0.2793 0.5174 0.037 Uiso 1 1 calc R
O1 O 0.39019(14) 1.0106(3) 0.40388(8) 0.0264(3) Uani 1 1 d .
O2 O 0.57810(14) 0.7578(3) 0.46135(7) 0.0239(3) Uani 1 1 d .
O3 O 0.64446(13) 0.3446(3) 0.37531(7) 0.0207(3) Uani 1 1 d .
O4 O 0.83558(13) 0.6168(3) 0.39270(7) 0.0262(3) Uani 1 1 d .
F F 0.33388(12) 0.9229(2) 0.13308(6) 0.0321(3) Uani 1 1 d .
loop_
_atom_site_aniso_label
_atom_site_aniso_U_11
_atom_site_aniso_U_22
_atom_site_aniso_U_33
_atom_site_aniso_U_23
_atom_site_aniso_U_13
_atom_site_aniso_U_12
C1 0.0200(9) 0.0208(9) 0.0165(9) -0.0020(7) 0.0067(7) -0.0057(7)
C2 0.0217(9) 0.0204(9) 0.0172(9) -0.0002(7) 0.0047(7) -0.0040(7)
C3 0.0257(10) 0.0207(9) 0.0214(10) -0.0044(7) 0.0083(8) -0.0032(8)
C4 0.0344(11) 0.0260(10) 0.0175(9) -0.0050(7) 0.0102(8) -0.0084(8)
C5 0.0267(10) 0.0264(10) 0.0158(9) 0.0036(7) 0.0031(8) -0.0062(8)
C6 0.0213(9) 0.0204(9) 0.0221(9) 0.0018(7) 0.0054(7) -0.0011(7)
C7 0.0194(9) 0.0199(9) 0.0205(9) -0.0004(7) 0.0081(7) -0.0028(7)
C8 0.0215(9) 0.0211(9) 0.0188(9) -0.0053(7) 0.0070(7) -0.0021(7)
C9 0.0267(10) 0.0235(9) 0.0230(10) 0.0008(8) 0.0044(8) -0.0023(8)
O1 0.0258(7) 0.0324(8) 0.0215(7) -0.0055(6) 0.0065(6) 0.0061(6)
O2 0.0277(7) 0.0274(7) 0.0160(7) -0.0013(5) 0.0048(6) 0.0038(6)
O3 0.0220(6) 0.0193(6) 0.0197(6) 0.0009(5) 0.0032(5) -0.0008(5)
O4 0.0253(7) 0.0279(7) 0.0260(7) 0.0023(6) 0.0078(6) -0.0054(6)
F 0.0383(7) 0.0346(7) 0.0196(6) 0.0073(5) 0.0003(5) -0.0020(5)
loop_
_atom_type_symbol
_atom_type_description
_atom_type_scat_dispersion_real
_atom_type_scat_dispersion_imag
_atom_type_scat_source
C C 0.0033 0.0016 'International Tables Vol C Tables 4.2.6.8 and 6.1.1.4'
H H 0.0000 0.0000 'International Tables Vol C Tables 4.2.6.8 and 6.1.1.4'
O O 0.0106 0.0060 'International Tables Vol C Tables 4.2.6.8 and 6.1.1.4'
F F 0.0171 0.0103 'International Tables Vol C Tables 4.2.6.8 and 6.1.1.4'
loop_
_geom_angle_atom_site_label_1
_geom_angle_atom_site_label_2
_geom_angle_atom_site_label_3
_geom_angle
C2 C1 C6 118.18(16)
C2 C1 C7 122.66(16)
C6 C1 C7 119.08(16)
C3 C2 O3 117.47(16)
C3 C2 C1 121.14(16)
O3 C2 C1 121.19(16)
C2 C3 C4 120.38(18)
C2 C3 H3 119.8
C4 C3 H3 119.8
C5 C4 C3 118.07(17)
C5 C4 H4 121.0
C3 C4 H4 121.0
F C5 C4 118.96(17)
F C5 C6 118.25(17)
C4 C5 C6 122.78(17)
C5 C6 C1 119.43(17)
C5 C6 H6 120.3
C1 C6 H6 120.3
O2 C7 O1 123.33(16)
O2 C7 C1 123.34(16)
O1 C7 C1 113.32(15)
O4 C8 O3 122.12(17)
O4 C8 C9 127.56(17)
O3 C8 C9 110.32(15)
C8 C9 H9A 109.5
C8 C9 H9B 109.5
H9A C9 H9B 109.5
C8 C9 H9C 109.5
H9A C9 H9C 109.5
H9B C9 H9C 109.5
C7 O1 H1 109.7(18)
C8 O3 C2 117.35(14)
loop_
_geom_bond_atom_site_label_1
_geom_bond_atom_site_label_2
_geom_bond_distance
C1 C2 1.398(3)
C1 C6 1.398(3)
C1 C7 1.484(2)
C2 C3 1.385(3)
C2 O3 1.396(2)
C3 C4 1.387(3)
C3 H3 0.9500
C4 C5 1.376(3)
C4 H4 0.9500
C5 F 1.357(2)
C5 C6 1.377(3)
C6 H6 0.9500
C7 O2 1.229(2)
C7 O1 1.317(2)
C8 O4 1.201(2)
C8 O3 1.366(2)
C8 C9 1.486(3)
C9 H9A 0.9800
C9 H9B 0.9800
C9 H9C 0.9800
O1 H1 0.98(3)
