#------------------------------------------------------------------------------
#$Date: 2016-02-16 03:10:39 +0200 (Tue, 16 Feb 2016) $
#$Revision: 176453 $
#$URL: svn://www.crystallography.net/cod/cif/7/21/21/7212172.cif $
#------------------------------------------------------------------------------
#
# This file is available in the Crystallography Open Database (COD),
# http://www.crystallography.net/
#
# All data on this site have been placed in the public domain by the
# contributors.
#
data_7212172
loop_
_publ_author_name
'Johnstone, Russell D. L.'
'Lennie, Alistair R.'
'Parker, Stewart F.'
'Parsons, Simon'
'Pidcock, Elna'
'Richardson, Patricia R.'
'Warren, John E.'
'Wood, Peter A.'
_publ_section_title
;
 High-pressure polymorphism in salicylamide
;
_journal_issue                   4
_journal_name_full               CrystEngComm
_journal_page_first              1065
_journal_paper_doi               10.1039/b921288d
_journal_volume                  12
_journal_year                    2010
_chemical_formula_moiety         'C7 H7 N1 O2'
_chemical_formula_sum            'C7 H7 N O2'
_chemical_formula_weight         137.14
_chemical_name_common            Salicylamide
_space_group_IT_number           15
_symmetry_cell_setting           monoclinic
_symmetry_space_group_name_Hall  '-I 2ya'
_symmetry_space_group_name_H-M   'I 1 2/a 1'
_atom_sites_solution_hydrogens   geom
_atom_sites_solution_primary     direct
_cell_angle_alpha                90
_cell_angle_beta                 94.078(8)
_cell_angle_gamma                90
_cell_formula_units_Z            8
_cell_length_a                   12.3706(7)
_cell_length_b                   4.7918(3)
_cell_length_c                   18.398(3)
_cell_measurement_reflns_used    971
_cell_measurement_temperature    293
_cell_measurement_theta_max      20
_cell_measurement_theta_min      3
_cell_volume                     1087.8(2)
_computing_cell_refinement       'SAINT (Siemens ,1995)'
_computing_data_collection       'SMART (Siemens, 1993)'
_computing_data_reduction        'SAINT (Siemens ,1995)'
_computing_molecular_graphics    'CAMERON (Watkin et al., 1996)'
_computing_publication_material  'CRYSTALS (Betteridge et al., 2003)'
_computing_structure_refinement  'CRYSTALS (Betteridge et al., 2003)'
_computing_structure_solution    'SIR92 (Altomare et al., 1994)'
_diffrn_ambient_pressure         4000000
_diffrn_ambient_temperature      293
_diffrn_measured_fraction_theta_full 0.492
_diffrn_measured_fraction_theta_max 0.435
_diffrn_measurement_device       'Bruker SMART'
_diffrn_measurement_device_type  Area
_diffrn_measurement_method       ω
_diffrn_radiation_monochromator  silicon
_diffrn_radiation_type           synchrotron
_diffrn_radiation_wavelength     0.47540
_diffrn_reflns_av_R_equivalents  0.0581
_diffrn_reflns_limit_h_max       17
_diffrn_reflns_limit_h_min       -17
_diffrn_reflns_limit_k_max       6
_diffrn_reflns_limit_k_min       0
_diffrn_reflns_limit_l_max       12
_diffrn_reflns_limit_l_min       0
_diffrn_reflns_number            4172
_diffrn_reflns_reduction_process
;
Merged with SORTAV
R.H. Blessing, (1987) Cryst. Rev. 1, 3-58
;
_diffrn_reflns_theta_full        15.078
_diffrn_reflns_theta_max         19.840
_diffrn_reflns_theta_min         3.050
_diffrn_standards_number         0
_exptl_absorpt_coefficient_mu    0.125
_exptl_absorpt_correction_T_max  0.99
_exptl_absorpt_correction_T_min  0.84
_exptl_absorpt_correction_type   multi-scan
_exptl_absorpt_process_details   'SADABS (Siemens, 1996)'
_exptl_crystal_colour            colourless
_exptl_crystal_density_diffrn    1.675
_exptl_crystal_density_method    'not measured'
_exptl_crystal_description       block
_exptl_crystal_F_000             576
_exptl_crystal_recrystallization_method 'From MeOH/EtOH'
_exptl_crystal_size_max          0.20
_exptl_crystal_size_mid          0.10
_exptl_crystal_size_min          0.10
_refine_diff_density_max         0.31
_refine_diff_density_min         -0.31
_refine_ls_extinction_method     None
_refine_ls_goodness_of_fit_ref   0.9982
_refine_ls_hydrogen_treatment    mixed
_refine_ls_matrix_type           full
_refine_ls_number_parameters     95
_refine_ls_number_reflns         720
_refine_ls_number_restraints     114
_refine_ls_R_factor_all          0.0722
_refine_ls_R_factor_gt           0.0503
_refine_ls_shift/su_max          0.000123
_refine_ls_structure_factor_coef Fsqd
_refine_ls_weighting_details
;
Method= Modified Sheldrick
w=1/[σ²(F²) + ( 0.05P)² + 1.83P]
,where P=(max(Fo²,0) + 2Fc²)/3
;
_refine_ls_weighting_scheme      calc
_refine_ls_wR_factor_all         0.1193
_refine_ls_wR_factor_gt          0.1116
_refine_ls_wR_factor_ref         0.1193
_reflns_limit_h_max              17
_reflns_limit_h_min              -17
_reflns_limit_k_max              6
_reflns_limit_k_min              0
_reflns_limit_l_max              12
_reflns_limit_l_min              0
_reflns_number_gt                542
_reflns_number_total             721
_reflns_threshold_expression     I>2.0σ(I)
_oxford_diffrn_Wilson_B_factor   0.00
_oxford_diffrn_Wilson_scale      0.00
_oxford_refine_ls_r_factor_ref   0.0722
_oxford_refine_ls_scale          4.27(17)
_oxford_reflns_number_all        720
_oxford_reflns_threshold_expression_ref I>-10.0\s(I)
_oxford_structure_analysis_title 'sala03 in I2/a'
_cod_data_source_file            b921288d.txt
_cod_data_source_block           4_0GPa_I.cif
_cod_depositor_comments
;
The following automatic conversions were performed:

'_symmetry_cell_setting' value 'Monoclinic' changed to 'monoclinic'
according to /home/saulius/struct/CIF-dictionaries/cif_core.dic
dictionary named 'cif_core.dic' version 2.4.2 from 2011-04-26.

Automatic conversion script
Id: cif_fix_values 1891 2012-01-12 08:04:46Z andrius 
;
_cod_original_sg_symbol_H-M      'I 1 2/a 1 '
_cod_original_formula_sum        'C7 H7 N1 O2'
_cod_database_code               7212172
loop_
_symmetry_equiv_pos_as_xyz
x,y,z
-x,-y,-z
x+1/2,y+1/2,z+1/2
-x+1/2,-y+1/2,-z+1/2
-x+1/2,y,-z
x+1/2,-y,z
-x+1,y+1/2,-z+1/2
x+1,-y+1/2,z+1/2
loop_
_atom_site_label
_atom_site_type_symbol
_atom_site_fract_x
_atom_site_fract_y
_atom_site_fract_z
_atom_site_U_iso_or_equiv
_atom_site_occupancy
_atom_site_adp_type
_atom_site_refinement_flags_posn
_atom_site_refinement_flags_adp
N1 N 0.55971(14) 0.7262(3) 0.5526(2) 0.0193 1.0000 Uani D U
O1 O 0.38309(12) 0.8270(3) 0.53325(19) 0.0235 1.0000 Uani D U
O2 O 0.24174(11) 0.5831(3) 0.59777(19) 0.0299 1.0000 Uani D U
C1 C 0.31915(15) 0.4097(4) 0.6260(2) 0.0196 1.0000 Uani D U
C2 C 0.42875(14) 0.4469(4) 0.6120(2) 0.0178 1.0000 Uani D U
C3 C 0.50513(16) 0.2653(4) 0.6451(3) 0.0215 1.0000 Uani D U
C4 C 0.47532(17) 0.0539(4) 0.6904(3) 0.0227 1.0000 Uani D U
C5 C 0.36613(19) 0.0170(4) 0.7025(3) 0.0240 1.0000 Uani D U
C6 C 0.28889(17) 0.1922(4) 0.6703(3) 0.0223 1.0000 Uani D U
C7 C 0.45665(15) 0.6773(4) 0.5628(2) 0.0175 1.0000 Uani D U
H1 H 0.5794 0.2881 0.6364 0.0264 1.0000 Uiso . .
H2 H 0.5286 -0.0657 0.7132 0.0292 1.0000 Uiso . .
H3 H 0.3449 -0.1307 0.7326 0.0267 1.0000 Uiso . .
H4 H 0.2148 0.1656 0.6787 0.0258 1.0000 Uiso . .
H5 H 0.5775 0.8655 0.5247 0.0277 1.0000 Uiso . .
H6 H 0.6105 0.6189 0.5737 0.0277 1.0000 Uiso . .
H7 H 0.274(3) 0.694(4) 0.5710(8) 0.0675(19) 1.0000 Uiso D .
loop_
_atom_site_aniso_label
_atom_site_aniso_U_11
_atom_site_aniso_U_22
_atom_site_aniso_U_33
_atom_site_aniso_U_23
_atom_site_aniso_U_13
_atom_site_aniso_U_12
N1 0.0175(7) 0.0168(8) 0.024(6) 0.0015(11) 0.0021(15) -0.0004(6)
O1 0.0191(7) 0.0196(7) 0.031(4) 0.0035(9) -0.0002(12) 0.0012(5)
O2 0.0151(7) 0.0250(8) 0.049(5) 0.0076(10) 0.0019(13) 0.0005(5)
C1 0.0163(8) 0.0190(9) 0.024(5) -0.0019(12) 0.0032(15) 0.0001(7)
C2 0.0167(8) 0.0155(8) 0.021(5) -0.0029(11) 0.0025(14) -0.0027(6)
C3 0.0171(8) 0.0190(9) 0.029(5) 0.0010(13) 0.0045(15) 0.0004(7)
C4 0.0248(9) 0.0167(9) 0.027(5) 0.0000(12) 0.0035(17) 0.0005(8)
C5 0.0280(10) 0.0187(9) 0.026(6) 0.0001(13) 0.0060(17) -0.0050(7)
C6 0.0214(9) 0.0226(10) 0.023(5) -0.0036(12) 0.0048(16) -0.0052(7)
C7 0.0180(8) 0.0138(8) 0.021(5) -0.0025(12) 0.0013(14) 0.0003(7)
loop_
_atom_type_symbol
_atom_type_scat_dispersion_real
_atom_type_scat_dispersion_imag
_atom_type_scat_Cromer_Mann_a1
_atom_type_scat_Cromer_Mann_b1
_atom_type_scat_Cromer_Mann_a2
_atom_type_scat_Cromer_Mann_b2
_atom_type_scat_Cromer_Mann_a3
_atom_type_scat_Cromer_Mann_b3
_atom_type_scat_Cromer_Mann_a4
_atom_type_scat_Cromer_Mann_b4
_atom_type_scat_Cromer_Mann_c
_atom_type_scat_source
C 0.0000 0.0010 2.3100 20.8439 1.0200 10.2075 1.5886 0.5687 0.8650 51.6512
0.2156 'International Tables Vol C 4.2.6.8 and 6.1.1.4'
H 0.0000 0.0000 0.4930 10.5109 0.3229 26.1257 0.1402 3.1424 0.0408 57.7998
0.0030 'International Tables Vol C 4.2.6.8 and 6.1.1.4'
N 0.0010 0.0010 12.2126 0.0057 3.1322 9.8933 2.0125 28.9975 1.1663 0.5826
-11.5290 'International Tables Vol C 4.2.6.8 and 6.1.1.4'
O 0.0030 0.0020 3.0485 13.2771 2.2868 5.7011 1.5463 0.3239 0.8670 32.9089
0.2508 'International Tables Vol C 4.2.6.8 and 6.1.1.4'
loop_
_geom_angle_atom_site_label_1
_geom_angle_atom_site_label_2
_geom_angle_atom_site_label_3
_geom_angle
_geom_angle_publ_flag
C7 N1 H5 120.0 no
C7 N1 H6 119.9 no
H5 N1 H6 120.0 no
C1 O2 H7 105(3) no
O2 C1 C2 121.34(19) yes
O2 C1 C6 118.39(16) yes
C2 C1 C6 120.26(18) yes
C1 C2 C3 118.25(19) yes
C1 C2 C7 118.26(18) yes
C3 C2 C7 123.49(16) yes
C2 C3 C4 121.41(16) yes
C2 C3 H1 119.2 no
C4 C3 H1 119.4 no
C3 C4 C5 119.6(2) yes
C3 C4 H2 120.2 no
C5 C4 H2 120.2 no
C4 C5 C6 120.3(2) yes
C4 C5 H3 120.0 no
C6 C5 H3 119.7 no
C1 C6 C5 120.17(17) yes
C1 C6 H4 120.0 no
C5 C6 H4 119.8 no
C2 C7 N1 119.1(2) yes
C2 C7 O1 119.86(16) yes
N1 C7 O1 121.0(2) yes
loop_
_geom_bond_atom_site_label_1
_geom_bond_atom_site_label_2
_geom_bond_distance
_geom_bond_publ_flag
N1 C7 1.323(2) yes
N1 H5 0.880 no
N1 H6 0.880 no
O1 C7 1.252(3) yes
O2 C1 1.344(3) yes
O2 H7 0.843(9) no
C1 C2 1.409(2) yes
C1 C6 1.391(4) yes
C2 C3 1.392(4) yes
C2 C7 1.484(3) yes
C3 C4 1.377(4) yes
C3 H1 0.950 no
C4 C5 1.396(3) yes
C4 H2 0.949 no
C5 C6 1.374(4) yes
C5 H3 0.948 no
C6 H4 0.950 no
