#------------------------------------------------------------------------------
#$Date: 2016-03-26 20:54:12 +0200 (Sat, 26 Mar 2016) $
#$Revision: 180454 $
#$URL: svn://www.crystallography.net/cod/cif/7/21/23/7212313.cif $
#------------------------------------------------------------------------------
#
# This file is available in the Crystallography Open Database (COD),
# http://www.crystallography.net/
#
# All data on this site have been placed in the public domain by the
# contributors.
#
data_7212313
loop_
_publ_author_name
'Jha, Sushil'
'Silversides, Jon D.'
'Boyle, Ross W.'
'Archibald, Stephen J.'
_publ_section_title
;
 Hydrogen bonded dimers vs. one-dimensional chains in
 2-thiooxoimidazolidin-4-one (thiohydantoin) drug derivatives
;
_journal_issue                   6
_journal_name_full               CrystEngComm
_journal_page_first              1730
_journal_paper_doi               10.1039/b924683e
_journal_volume                  12
_journal_year                    2010
_chemical_formula_moiety         'C9 H8 N2 O S'
_chemical_formula_sum            'C9 H8 N2 O S'
_chemical_formula_weight         192.23
_chemical_name_systematic
;
?
;
_space_group_IT_number           14
_symmetry_cell_setting           monoclinic
_symmetry_space_group_name_Hall  '-P 2ybc'
_symmetry_space_group_name_H-M   'P 1 21/c 1'
_atom_sites_solution_hydrogens   geom
_atom_sites_solution_primary     direct
_atom_sites_solution_secondary   difmap
_audit_creation_method           SHELXL-97
_cell_angle_alpha                90.00
_cell_angle_beta                 91.27(3)
_cell_angle_gamma                90.00
_cell_formula_units_Z            4
_cell_length_a                   12.377(4)
_cell_length_b                   5.6900(12)
_cell_length_c                   12.515(4)
_cell_measurement_reflns_used    292
_cell_measurement_temperature    150(2)
_cell_measurement_theta_max      67.00
_cell_measurement_theta_min      8.69
_cell_volume                     881.2(4)
_computing_cell_refinement       'X-AREA (Stoe & Cie, 2002)'
_computing_data_collection       'X-AREA (Stoe & Cie, 2002)'
_computing_data_reduction        'X-RED (Stoe & Cie, 2002)'
_computing_molecular_graphics    'ORTEP III (Farrugia, 1997)'
_computing_publication_material
'SHELXL97(Sheldrick, 1997) and WinGX (Farrugia, 1999)'
_computing_structure_refinement  'SHELXL97 (Sheldrick, 1997)'
_computing_structure_solution    'SHELXS97 (Sheldrick, 1997)'
_diffrn_ambient_temperature      150(2)
_diffrn_measured_fraction_theta_full 0.979
_diffrn_measured_fraction_theta_max 0.979
_diffrn_measurement_device_type  'Stoe IPDS-II image plate'
_diffrn_measurement_method
'ω scans, 65 frames at 2° intervals, exposure time 2 minutes'
_diffrn_radiation_monochromator  graphite
_diffrn_radiation_source         'fine-focus sealed tube'
_diffrn_radiation_type           MoK\a
_diffrn_radiation_wavelength     0.71073
_diffrn_reflns_av_R_equivalents  0.0992
_diffrn_reflns_av_sigmaI/netI    0.0935
_diffrn_reflns_limit_h_max       19
_diffrn_reflns_limit_h_min       -14
_diffrn_reflns_limit_k_max       7
_diffrn_reflns_limit_k_min       -9
_diffrn_reflns_limit_l_max       19
_diffrn_reflns_limit_l_min       -19
_diffrn_reflns_number            8162
_diffrn_reflns_theta_full        34.75
_diffrn_reflns_theta_max         34.75
_diffrn_reflns_theta_min         3.62
_exptl_absorpt_coefficient_mu    0.323
_exptl_absorpt_correction_type   none
_exptl_crystal_colour            colourless
_exptl_crystal_density_diffrn    1.449
_exptl_crystal_density_method    'not measured'
_exptl_crystal_description       block
_exptl_crystal_F_000             400
_exptl_crystal_size_max          0.25
_exptl_crystal_size_mid          0.22
_exptl_crystal_size_min          0.14
_refine_diff_density_max         0.763
_refine_diff_density_min         -0.820
_refine_diff_density_rms         0.173
_refine_ls_extinction_coef       0.43(6)
_refine_ls_extinction_expression Fc^*^=kFc[1+0.001xFc²λ³/sin(2θ)]^-1/4^
_refine_ls_extinction_method     SHELXL
_refine_ls_goodness_of_fit_ref   1.176
_refine_ls_hydrogen_treatment    constr
_refine_ls_matrix_type           full
_refine_ls_number_parameters     119
_refine_ls_number_reflns         3714
_refine_ls_number_restraints     0
_refine_ls_restrained_S_all      1.176
_refine_ls_R_factor_all          0.2063
_refine_ls_R_factor_gt           0.1199
_refine_ls_shift/su_max          0.006
_refine_ls_shift/su_mean         0.001
_refine_ls_structure_factor_coef Fsqd
_refine_ls_weighting_details
'calc w=1/[σ²(Fo²)+(0.2000P)²+0.0000P] where P=(Fo²+2Fc²)/3'
_refine_ls_weighting_scheme      calc
_refine_ls_wR_factor_gt          0.3058
_refine_ls_wR_factor_ref         0.4126
_reflns_number_gt                1498
_reflns_number_total             3714
_reflns_threshold_expression     >2sigma(I)
_cod_data_source_file            b924683e.txt
_cod_data_source_block           sja15_06
_cod_depositor_comments
;
The following automatic conversions were performed:

'_symmetry_cell_setting' value 'Monoclinic' changed to 'monoclinic'
according to /home/saulius/struct/CIF-dictionaries/cif_core.dic
dictionary named 'cif_core.dic' version 2.4.2 from 2011-04-26.

Automatic conversion script
Id: cif_fix_values 1891 2012-01-12 08:04:46Z andrius 
;
_cod_original_sg_symbol_H-M      P21/c
_cod_database_code               7212313
loop_
_symmetry_equiv_pos_as_xyz
'x, y, z'
'-x, y+1/2, -z+1/2'
'-x, -y, -z'
'x, -y-1/2, z-1/2'
loop_
_atom_site_label
_atom_site_type_symbol
_atom_site_fract_x
_atom_site_fract_y
_atom_site_fract_z
_atom_site_U_iso_or_equiv
_atom_site_adp_type
_atom_site_occupancy
_atom_site_symmetry_multiplicity
_atom_site_calc_flag
_atom_site_refinement_flags
C1 C 0.1333(3) -0.1950(8) 0.5927(3) 0.0504(10) Uani 1 1 d .
C2 C 0.2446(4) -0.5016(8) 0.5502(3) 0.0485(10) Uani 1 1 d .
C3 C 0.1627(4) -0.4737(8) 0.4613(3) 0.0516(10) Uani 1 1 d .
H3A H 0.1975 -0.4371 0.3928 0.062 Uiso 1 1 calc R
H3B H 0.1179 -0.6168 0.4525 0.062 Uiso 1 1 calc R
C4 C 0.2877(3) -0.2945(8) 0.7194(3) 0.0448(9) Uani 1 1 d .
C5 C 0.2879(4) -0.4674(8) 0.7974(3) 0.0503(10) Uani 1 1 d .
H5 H 0.2417 -0.6002 0.7906 0.060 Uiso 1 1 calc R
C6 C 0.3567(4) -0.4429(8) 0.8853(3) 0.0509(10) Uani 1 1 d .
H6 H 0.3579 -0.5595 0.9396 0.061 Uiso 1 1 calc R
C7 C 0.4232(4) -0.2505(9) 0.8943(3) 0.0529(10) Uani 1 1 d .
H7 H 0.4700 -0.2347 0.9551 0.063 Uiso 1 1 calc R
C8 C 0.4229(3) -0.0788(9) 0.8153(3) 0.0512(10) Uani 1 1 d .
H8 H 0.4694 0.0534 0.8221 0.061 Uiso 1 1 calc R
C9 C 0.3547(4) -0.1011(8) 0.7271(3) 0.0490(9) Uani 1 1 d .
H9 H 0.3539 0.0150 0.6725 0.059 Uiso 1 1 calc R
N1 N 0.2220(3) -0.3284(6) 0.6249(2) 0.0474(8) Uani 1 1 d .
N2 N 0.0993(3) -0.2774(7) 0.4983(3) 0.0509(9) Uani 1 1 d .
H2 H 0.0439 -0.2184 0.4621 0.061 Uiso 1 1 calc R
O1 O 0.3185(3) -0.6414(6) 0.5579(2) 0.0547(8) Uani 1 1 d .
S1 S 0.08109(10) 0.0243(2) 0.66314(8) 0.0555(5) Uani 1 1 d .
loop_
_atom_site_aniso_label
_atom_site_aniso_U_11
_atom_site_aniso_U_22
_atom_site_aniso_U_33
_atom_site_aniso_U_23
_atom_site_aniso_U_13
_atom_site_aniso_U_12
C1 0.047(2) 0.061(3) 0.0426(17) 0.0101(17) -0.0075(15) -0.0007(18)
C2 0.054(2) 0.053(2) 0.0383(17) 0.0008(15) -0.0003(16) 0.0043(17)
C3 0.061(3) 0.058(3) 0.0354(16) -0.0004(16) -0.0036(16) 0.0012(19)
C4 0.0470(19) 0.051(2) 0.0364(15) 0.0008(15) -0.0036(13) 0.0050(16)
C5 0.063(3) 0.049(2) 0.0392(18) 0.0042(15) -0.0017(17) 0.0007(19)
C6 0.060(2) 0.056(3) 0.0366(17) 0.0069(16) -0.0024(16) 0.0016(19)
C7 0.058(2) 0.063(3) 0.0376(16) -0.0026(17) -0.0061(15) 0.005(2)
C8 0.054(2) 0.056(2) 0.0440(19) -0.0014(18) -0.0042(16) -0.0005(18)
C9 0.056(2) 0.053(2) 0.0379(17) 0.0043(16) -0.0033(15) 0.0036(19)
N1 0.0510(18) 0.052(2) 0.0387(14) 0.0026(14) -0.0051(13) 0.0030(15)
N2 0.0528(18) 0.059(2) 0.0406(15) -0.0011(14) -0.0095(13) 0.0061(16)
O1 0.0633(19) 0.059(2) 0.0415(14) -0.0005(12) -0.0042(12) 0.0086(15)
S1 0.0607(8) 0.0647(9) 0.0407(6) -0.0028(4) -0.0089(5) 0.0115(5)
loop_
_atom_type_symbol
_atom_type_description
_atom_type_scat_dispersion_real
_atom_type_scat_dispersion_imag
_atom_type_scat_source
C C 0.0033 0.0016 'International Tables Vol C Tables 4.2.6.8 and 6.1.1.4'
N N 0.0061 0.0033 'International Tables Vol C Tables 4.2.6.8 and 6.1.1.4'
O O 0.0106 0.0060 'International Tables Vol C Tables 4.2.6.8 and 6.1.1.4'
S S 0.1246 0.1234 'International Tables Vol C Tables 4.2.6.8 and 6.1.1.4'
H H 0.0000 0.0000 'International Tables Vol C Tables 4.2.6.8 and 6.1.1.4'
loop_
_geom_angle_atom_site_label_1
_geom_angle_atom_site_label_2
_geom_angle_atom_site_label_3
_geom_angle
N2 C1 N1 107.3(4)
N2 C1 S1 127.9(3)
N1 C1 S1 124.7(3)
O1 C2 N1 125.0(4)
O1 C2 C3 128.7(4)
N1 C2 C3 106.3(4)
N2 C3 C2 102.0(3)
N2 C3 H3A 111.4
C2 C3 H3A 111.4
N2 C3 H3B 111.4
C2 C3 H3B 111.4
H3A C3 H3B 109.2
C9 C4 C5 121.7(4)
C9 C4 N1 119.6(3)
C5 C4 N1 118.5(4)
C6 C5 C4 118.6(4)
C6 C5 H5 120.7
C4 C5 H5 120.7
C7 C6 C5 120.2(4)
C7 C6 H6 119.9
C5 C6 H6 119.9
C6 C7 C8 120.7(4)
C6 C7 H7 119.7
C8 C7 H7 119.7
C9 C8 C7 119.8(4)
C9 C8 H8 120.1
C7 C8 H8 120.1
C4 C9 C8 119.0(4)
C4 C9 H9 120.5
C8 C9 H9 120.5
C1 N1 C2 111.3(3)
C1 N1 C4 126.7(4)
C2 N1 C4 122.0(3)
C1 N2 C3 113.2(3)
C1 N2 H2 123.4
C3 N2 H2 123.4
loop_
_geom_bond_atom_site_label_1
_geom_bond_atom_site_label_2
_geom_bond_distance
C1 N2 1.331(5)
C1 N1 1.387(5)
C1 S1 1.666(5)
C2 O1 1.214(5)
C2 N1 1.391(5)
C2 C3 1.497(6)
C3 N2 1.447(6)
C3 H3A 0.9900
C3 H3B 0.9900
C4 C9 1.380(6)
C4 C5 1.386(6)
C4 N1 1.434(5)
C5 C6 1.383(6)
C5 H5 0.9500
C6 C7 1.373(7)
C6 H6 0.9500
C7 C8 1.389(6)
C7 H7 0.9500
C8 C9 1.380(5)
C8 H8 0.9500
C9 H9 0.9500
N2 H2 0.8800
loop_
_geom_hbond_atom_site_label_D
_geom_hbond_atom_site_label_H
_geom_hbond_atom_site_label_A
_geom_hbond_distance_DH
_geom_hbond_distance_HA
_geom_hbond_distance_DA
_geom_hbond_angle_DHA
_geom_hbond_site_symmetry_A
N2 H2 S1 0.88 2.44 3.308(4) 168.1 3_556
loop_
_geom_torsion_atom_site_label_1
_geom_torsion_atom_site_label_2
_geom_torsion_atom_site_label_3
_geom_torsion_atom_site_label_4
_geom_torsion
O1 C2 C3 N2 -178.9(5)
N1 C2 C3 N2 -0.2(5)
C9 C4 C5 C6 0.5(6)
N1 C4 C5 C6 175.7(4)
C4 C5 C6 C7 -0.1(7)
C5 C6 C7 C8 -0.3(7)
C6 C7 C8 C9 0.2(7)
C5 C4 C9 C8 -0.6(7)
N1 C4 C9 C8 -175.7(4)
C7 C8 C9 C4 0.2(6)
N2 C1 N1 C2 -0.7(5)
S1 C1 N1 C2 178.6(3)
N2 C1 N1 C4 176.8(4)
S1 C1 N1 C4 -3.9(6)
O1 C2 N1 C1 179.4(4)
C3 C2 N1 C1 0.6(5)
O1 C2 N1 C4 1.7(7)
C3 C2 N1 C4 -177.0(4)
C9 C4 N1 C1 -69.8(6)
C5 C4 N1 C1 114.9(5)
C9 C4 N1 C2 107.4(5)
C5 C4 N1 C2 -67.9(5)
N1 C1 N2 C3 0.6(5)
S1 C1 N2 C3 -178.8(4)
C2 C3 N2 C1 -0.2(5)
