#------------------------------------------------------------------------------
#$Date: 2016-02-14 06:40:26 +0200 (Sun, 14 Feb 2016) $
#$Revision: 176432 $
#$URL: svn://www.crystallography.net/cod/cif/7/21/25/7212540.cif $
#------------------------------------------------------------------------------
#
# This file is available in the Crystallography Open Database (COD),
# http://www.crystallography.net/
#
# All data on this site have been placed in the public domain by the
# contributors.
#
data_7212540
loop_
_publ_author_name
'Oswald, Iain D. H.'
'Lennie, Alistair R.'
'Pulham, Colin R.'
'Shankland, Kenneth'
_publ_section_title
;
 High-pressure structural studies of the pharmaceutical, chlorothiazide
;
_journal_issue                   9
_journal_name_full               CrystEngComm
_journal_page_first              2533
_journal_paper_doi               10.1039/c001355b
_journal_volume                  12
_journal_year                    2010
_chemical_absolute_configuration ad
_chemical_formula_moiety         'C7 H6 Cl1 N3 O4 S2'
_chemical_formula_sum            'C7 H6 Cl N3 O4 S2'
_chemical_formula_weight         295.73
_space_group_IT_number           1
_symmetry_cell_setting           triclinic
_symmetry_space_group_name_Hall  'P 1'
_symmetry_space_group_name_H-M   'P 1'
_atom_sites_solution_hydrogens   geom
_atom_sites_solution_primary     direct
_cell_angle_alpha                76.06(3)
_cell_angle_beta                 84.56(3)
_cell_angle_gamma                81.25(2)
_cell_formula_units_Z            1
_cell_length_a                   4.760(2)
_cell_length_b                   6.1455(12)
_cell_length_c                   8.737(4)
_cell_measurement_reflns_used    552
_cell_measurement_temperature    293
_cell_measurement_theta_max      25
_cell_measurement_theta_min      3
_cell_volume                     244.71(16)
_computing_cell_refinement       'SAINT (Siemens ,1995)'
_computing_data_collection       'SMART (Siemens, 1993)'
_computing_data_reduction        'SAINT (Siemens ,1995)'
_computing_molecular_graphics    'CAMERON (Watkin et al., 1996)'
_computing_publication_material  'CRYSTALS (Betteridge et al., 2003)'
_computing_structure_refinement  'CRYSTALS (Betteridge et al., 2003)'
_computing_structure_solution    'From Literature'
_diffrn_ambient_temperature      293
_diffrn_measured_fraction_theta_full 0.642
_diffrn_measured_fraction_theta_max 0.610
_diffrn_measurement_device       'Bruker SMART'
_diffrn_measurement_device_type  Area
_diffrn_measurement_method       ω
_diffrn_radiation_monochromator  graphite
_diffrn_radiation_type           'Mo K\a'
_diffrn_radiation_wavelength     0.71073
_diffrn_reflns_av_R_equivalents  0.0638
_diffrn_reflns_limit_h_max       5
_diffrn_reflns_limit_h_min       -5
_diffrn_reflns_limit_k_max       7
_diffrn_reflns_limit_k_min       -7
_diffrn_reflns_limit_l_max       9
_diffrn_reflns_limit_l_min       -9
_diffrn_reflns_number            5000
_diffrn_reflns_theta_full        25.011
_diffrn_reflns_theta_max         26.327
_diffrn_reflns_theta_min         3.447
_diffrn_standards_number         0
_exptl_absorpt_coefficient_mu    0.823
_exptl_absorpt_correction_T_max  0.96
_exptl_absorpt_correction_T_min  0.54
_exptl_absorpt_correction_type   multi-scan
_exptl_absorpt_process_details   'SADABS (Siemens, 1996)'
_exptl_crystal_colour            colourless
_exptl_crystal_density_diffrn    2.006
_exptl_crystal_density_method    'not measured'
_exptl_crystal_description       plate
_exptl_crystal_F_000             150
_exptl_crystal_size_max          0.10
_exptl_crystal_size_mid          0.10
_exptl_crystal_size_min          0.05
_refine_diff_density_max         0.35
_refine_diff_density_min         -0.33
_refine_ls_abs_structure_details 'Flack (1983), 0 Friedel-pairs'
_refine_ls_abs_structure_Flack   .000(0)
_refine_ls_extinction_method     None
_refine_ls_goodness_of_fit_ref   1.0489
_refine_ls_hydrogen_treatment    constr
_refine_ls_matrix_type           full
_refine_ls_number_parameters     72
_refine_ls_number_reflns         596
_refine_ls_number_restraints     12
_refine_ls_R_factor_all          0.0631
_refine_ls_R_factor_gt           0.0539
_refine_ls_shift/su_max          0.000040
_refine_ls_structure_factor_coef Fsqd
_refine_ls_weighting_details
;
Method= Modified Sheldrick
w=1/[σ²(F²) + ( 0.04P)² + 1.07P]
,where P=(max(Fo²,0) + 2Fc²)/3
;
_refine_ls_weighting_scheme      calc
_refine_ls_wR_factor_all         0.1350
_refine_ls_wR_factor_gt          0.1278
_refine_ls_wR_factor_ref         0.1350
_reflns_limit_h_max              5
_reflns_limit_h_min              -5
_reflns_limit_k_max              7
_reflns_limit_k_min              -6
_reflns_limit_l_max              9
_reflns_limit_l_min              0
_reflns_number_gt                517
_reflns_number_total             602
_reflns_threshold_expression     I>2.0σ(I)
_oxford_diffrn_Wilson_B_factor   2.57
_oxford_diffrn_Wilson_scale      0.04
_oxford_refine_ls_r_factor_ref   0.0631
_oxford_refine_ls_scale          8.7(13)
_oxford_reflns_number_all        596
_oxford_reflns_threshold_expression_ref I>-10.0\s(I)
_cod_data_source_file            c001355b.txt
_cod_data_source_block           3
_cod_depositor_comments
;
The following automatic conversions were performed:

'_symmetry_cell_setting' value 'Triclinic' changed to 'triclinic'
according to /home/saulius/struct/CIF-dictionaries/cif_core.dic
dictionary named 'cif_core.dic' version 2.4.2 from 2011-04-26.

Automatic conversion script
Id: cif_fix_values 1891 2012-01-12 08:04:46Z andrius 
;
_cod_original_cell_volume        244.75(16)
_cod_original_sg_symbol_Hall     'P 1 '
_cod_original_sg_symbol_H-M      'P 1 '
_cod_original_formula_sum        'C7 H6 Cl1 N3 O4 S2'
_cod_database_code               7212540
loop_
_symmetry_equiv_pos_as_xyz
x,y,z
loop_
_atom_site_label
_atom_site_type_symbol
_atom_site_fract_x
_atom_site_fract_y
_atom_site_fract_z
_atom_site_U_iso_or_equiv
_atom_site_occupancy
_atom_site_adp_type
_atom_site_refinement_flags_posn
Cl1 Cl -0.3667(8) 0.3639(7) 1.0396(5) 0.0360 1.0000 Uani D
S1 S 0.6073(8) 0.0228(6) 0.5973(5) 0.0203 1.0000 Uani .
S2 S -0.0218(8) -0.1449(6) 1.1498(5) 0.0219 1.0000 Uani .
O1 O 0.8571(19) -0.0743(15) 0.6762(12) 0.0266(8) 1.0000 Uiso .
O2 O 0.4840(19) -0.1190(15) 0.5244(12) 0.0266(8) 1.0000 Uiso .
O3 O 0.1455(19) -0.3593(15) 1.1474(12) 0.0266(8) 1.0000 Uiso .
O4 O -0.3246(19) -0.1382(15) 1.1696(13) 0.0266(8) 1.0000 Uiso .
N1 N 0.671(2) 0.2475(19) 0.4656(14) 0.0266(8) 1.0000 Uiso .
N2 N 0.267(2) 0.4800(19) 0.5418(13) 0.0266(8) 1.0000 Uiso D
N3 N 0.080(2) -0.0573(19) 1.2900(14) 0.0266(8) 1.0000 Uiso .
C1 C 0.497(3) 0.433(2) 0.4462(17) 0.0266(8) 1.0000 Uiso D
C2 C 0.203(3) 0.332(2) 0.6851(16) 0.0266(8) 1.0000 Uiso D
C3 C 0.356(3) 0.117(2) 0.7313(16) 0.0266(8) 1.0000 Uiso D
C4 C 0.287(3) -0.025(2) 0.8749(17) 0.0266(8) 1.0000 Uiso D
C5 C 0.061(3) 0.047(2) 0.9716(17) 0.0266(8) 1.0000 Uiso D
C6 C -0.091(2) 0.263(2) 0.9221(15) 0.0266(8) 1.0000 Uiso D
C7 C -0.024(3) 0.405(2) 0.7801(16) 0.0266(8) 1.0000 Uiso D
H1 H 0.5419 0.5485 0.3593 0.0300 1.0000 Uiso R
H2 H 0.1956 0.6156 0.5296 0.0300 1.0000 Uiso R
H31 H -0.0215 0.0497 1.3071 0.0300 1.0000 Uiso R
H32 H 0.2436 -0.0404 1.2835 0.0300 1.0000 Uiso R
H4 H 0.3866 -0.1693 0.9050 0.0300 1.0000 Uiso R
H7 H -0.1200 0.5510 0.7517 0.0300 1.0000 Uiso R
loop_
_atom_site_aniso_label
_atom_site_aniso_U_11
_atom_site_aniso_U_22
_atom_site_aniso_U_33
_atom_site_aniso_U_23
_atom_site_aniso_U_13
_atom_site_aniso_U_12
Cl1 0.035(3) 0.029(2) 0.042(4) -0.015(2) 0.0139(16) 0.0035(19)
S1 0.025(2) 0.0152(17) 0.019(3) -0.0022(16) 0.0042(13) -0.0032(16)
S2 0.019(2) 0.0230(19) 0.021(3) -0.0037(16) 0.0036(12) 0.0005(16)
loop_
_atom_type_symbol
_atom_type_scat_dispersion_real
_atom_type_scat_dispersion_imag
_atom_type_scat_Cromer_Mann_a1
_atom_type_scat_Cromer_Mann_b1
_atom_type_scat_Cromer_Mann_a2
_atom_type_scat_Cromer_Mann_b2
_atom_type_scat_Cromer_Mann_a3
_atom_type_scat_Cromer_Mann_b3
_atom_type_scat_Cromer_Mann_a4
_atom_type_scat_Cromer_Mann_b4
_atom_type_scat_Cromer_Mann_c
_atom_type_scat_source
C 0.0033 0.0016 2.3100 20.8439 1.0200 10.2075 1.5886 0.5687 0.8650 51.6512
0.2156 'International Tables Vol C 4.2.6.8 and 6.1.1.4'
H 0.0000 0.0000 0.4930 10.5109 0.3229 26.1257 0.1402 3.1424 0.0408 57.7998
0.0030 'International Tables Vol C 4.2.6.8 and 6.1.1.4'
N 0.0061 0.0033 12.2126 0.0057 3.1322 9.8933 2.0125 28.9975 1.1663 0.5826
-11.5290 'International Tables Vol C 4.2.6.8 and 6.1.1.4'
O 0.0106 0.0060 3.0485 13.2771 2.2868 5.7011 1.5463 0.3239 0.8670 32.9089
0.2508 'International Tables Vol C 4.2.6.8 and 6.1.1.4'
S 0.1246 0.1234 6.9053 1.4679 5.2034 22.2151 1.4379 0.2536 1.5863 56.1720
0.8669 'International Tables Vol C 4.2.6.8 and 6.1.1.4'
Cl 0.1484 0.1585 11.4604 0.0104 7.1964 1.1662 6.2556 18.5194 1.6455 47.7784
-9.5574 'International Tables Vol C 4.2.6.8 and 6.1.1.4'
loop_
_geom_angle_atom_site_label_1
_geom_angle_atom_site_label_2
_geom_angle_atom_site_label_3
_geom_angle
_geom_angle_publ_flag
O1 S1 O2 116.3(5) yes
O1 S1 N1 109.2(6) yes
O2 S1 N1 108.8(6) yes
O1 S1 C3 108.4(7) yes
O2 S1 C3 108.3(6) yes
N1 S1 C3 105.3(6) yes
O3 S2 O4 117.6(5) yes
O3 S2 N3 107.4(6) yes
O4 S2 N3 108.0(6) yes
O3 S2 C5 107.8(6) yes
O4 S2 C5 108.3(6) yes
N3 S2 C5 107.4(6) yes
S1 N1 C1 122.2(10) yes
C1 N2 C2 122.1(12) yes
C1 N2 H2 117.1 no
C2 N2 H2 117.6 no
S2 N3 H31 112.3 no
S2 N3 H32 115.5 no
H31 N3 H32 112.2 no
N2 C1 N1 126.6(14) yes
N2 C1 H1 117.5 no
N1 C1 H1 115.8 no
N2 C2 C3 122.2(11) yes
N2 C2 C7 117.4(12) yes
C3 C2 C7 120.4(13) yes
C2 C3 S1 118.2(10) yes
C2 C3 C4 120.7(12) yes
S1 C3 C4 120.9(9) yes
C3 C4 C5 119.3(13) yes
C3 C4 H4 120.6 no
C5 C4 H4 120.0 no
S2 C5 C4 117.1(10) yes
S2 C5 C6 123.8(10) yes
C4 C5 C6 119.0(13) yes
Cl1 C6 C5 120.9(10) yes
Cl1 C6 C7 117.2(9) yes
C5 C6 C7 121.9(12) yes
C2 C7 C6 118.6(13) yes
C2 C7 H7 120.5 no
C6 C7 H7 120.7 no
loop_
_geom_bond_atom_site_label_1
_geom_bond_atom_site_label_2
_geom_bond_distance
_geom_bond_publ_flag
Cl1 C6 1.723(12) yes
S1 O1 1.409(10) yes
S1 O2 1.415(9) yes
S1 N1 1.618(12) yes
S1 C3 1.731(16) yes
S2 O3 1.436(10) yes
S2 O4 1.431(9) yes
S2 N3 1.592(12) yes
S2 C5 1.765(14) yes
N1 C1 1.288(18) yes
N2 C1 1.352(13) yes
N2 C2 1.395(14) yes
N2 H2 0.836 no
N3 H31 0.790 no
N3 H32 0.797 no
C1 H1 0.939 no
C2 C3 1.393(14) yes
C2 C7 1.386(14) yes
C3 C4 1.388(14) yes
C4 C5 1.390(15) yes
C4 H4 0.929 no
C5 C6 1.401(14) yes
C6 C7 1.375(14) yes
C7 H7 0.929 no
loop_
_oxford_twin_element_scale_factors
0.510(8)
0.490(8)
