#------------------------------------------------------------------------------
#$Date: 2018-10-12 17:54:13 +0300 (Fri, 12 Oct 2018) $
#$Revision: 211415 $
#$URL: file:///home/coder/svn-repositories/cod/cif/7/21/39/7213973.cif $
#------------------------------------------------------------------------------
#
# This file is available in the Crystallography Open Database (COD),
# http://www.crystallography.net/
#
# All data on this site have been placed in the public domain by the
# contributors.
#
data_7213973
loop_
_publ_author_name
'Woodall, Christopher H.'
'Brayshaw, Simon K.'
'Schiffers, Stefanie'
'Allan, David R.'
'Parsons, Simon'
'Valiente, Rafael'
'Raithby, Paul R.'
_publ_section_title
;
 High-pressure crystallographic and spectroscopic studies on two molecular
 dithienylethene switches
;
_journal_issue                   11
_journal_name_full               CrystEngComm
_journal_page_first              2119
_journal_paper_doi               10.1039/c3ce41933a
_journal_volume                  16
_journal_year                    2014
_chemical_formula_moiety         'C23 H14 F6 S2'
_chemical_formula_sum            'C23 H14 F6 S2'
_chemical_formula_weight         468.46
_chemical_name_common            BenzothiopheneDTE
_chemical_name_systematic
;
 1,2-Bis(2-methyl benzothiophen-3-yl) perfluorocyclopentene
;
_space_group_IT_number           14
_symmetry_cell_setting           monoclinic
_symmetry_space_group_name_Hall  '-P 2yn'
_symmetry_space_group_name_H-M   'P 1 21/n 1'
_atom_sites_solution_hydrogens   geom
_atom_sites_solution_primary     direct
_atom_sites_solution_secondary   difmap
_audit_creation_method           SHELXL-97
_cell_angle_alpha                90.00
_cell_angle_beta                 113.73(6)
_cell_angle_gamma                90.00
_cell_formula_units_Z            4
_cell_length_a                   11.262(6)
_cell_length_b                   14.9356(12)
_cell_length_c                   12.497(4)
_cell_measurement_reflns_used    881
_cell_measurement_temperature    293
_cell_measurement_theta_max      22.5022
_cell_measurement_theta_min      3.3580
_cell_volume                     1924.3(15)
_computing_cell_refinement
;
CrysAlisPro, Oxford Diffraction Ltd.,
Version 1.171.34.9 (release 08-12-2009 CrysAlis171 .NET)
(compiled Dec  8 2009,17:31:18)
;
_computing_data_collection
;
CrysAlisPro, Oxford Diffraction Ltd.,
Version 1.171.34.9 (release 08-12-2009 CrysAlis171 .NET)
(compiled Dec  8 2009,17:31:18)
;
_computing_data_reduction
;
CrysAlisPro, Oxford Diffraction Ltd.,
Version 1.171.34.9 (release 08-12-2009 CrysAlis171 .NET)
(compiled Dec  8 2009,17:31:18)
;
_computing_structure_refinement  'SHELXL-97 (Sheldrick, 1997)'
_computing_structure_solution    'SIR92 (Altomare et al., 1994)'
_diffrn_ambient_temperature      293
_diffrn_measured_fraction_theta_full 0.327
_diffrn_measured_fraction_theta_max 0.327
_diffrn_measurement_device
;
CrystalLogic Kappa (3 circle)
;
_diffrn_measurement_device_type
;
Rigaku Saturn724+ (2x2 bin mode)
;
_diffrn_measurement_method       ω
_diffrn_radiation_monochromator  Synchrotron
_diffrn_radiation_type           synchrotron
_diffrn_radiation_wavelength     0.6889
_diffrn_reflns_av_R_equivalents  0.0846
_diffrn_reflns_av_sigmaI/netI    0.0919
_diffrn_reflns_limit_h_max       8
_diffrn_reflns_limit_h_min       -8
_diffrn_reflns_limit_k_max       18
_diffrn_reflns_limit_k_min       -18
_diffrn_reflns_limit_l_max       10
_diffrn_reflns_limit_l_min       -11
_diffrn_reflns_number            6487
_diffrn_reflns_theta_full        25.55
_diffrn_reflns_theta_max         25.55
_diffrn_reflns_theta_min         3.33
_exptl_absorpt_coefficient_mu    0.264
_exptl_absorpt_correction_T_max  1.00000
_exptl_absorpt_correction_T_min  0.84497
_exptl_absorpt_correction_type   multi-scan
_exptl_absorpt_process_details
;
CrysAlisPro, Oxford Diffraction Ltd.,
Version 1.171.34.9 (release 08-12-2009 CrysAlis171 .NET)
(compiled Dec  8 2009,17:31:18)
Empirical absorption correction using spherical harmonics,
 implemented in SCALE3 ABSPACK scaling algorithm.
;
_exptl_crystal_colour            colourless
_exptl_crystal_density_diffrn    1.617
_exptl_crystal_description       block
_exptl_crystal_F_000             952
_exptl_crystal_size_max          0.16
_exptl_crystal_size_mid          0.10
_exptl_crystal_size_min          0.10
_refine_diff_density_max         0.463
_refine_diff_density_min         -0.427
_refine_diff_density_rms         0.076
_refine_ls_extinction_method     none
_refine_ls_goodness_of_fit_ref   1.555
_refine_ls_hydrogen_treatment    constr
_refine_ls_matrix_type           full
_refine_ls_number_parameters     137
_refine_ls_number_reflns         1294
_refine_ls_number_restraints     70
_refine_ls_restrained_S_all      1.524
_refine_ls_R_factor_all          0.1415
_refine_ls_R_factor_gt           0.0989
_refine_ls_shift/su_max          0.003
_refine_ls_shift/su_mean         0.000
_refine_ls_structure_factor_coef Fsqd
_refine_ls_weighting_details
'calc w=1/[σ²(Fo²)+(0.0877P)²+0.3336P] where P=(Fo²+2Fc²)/3'
_refine_ls_weighting_scheme      calc
_refine_ls_wR_factor_gt          0.2333
_refine_ls_wR_factor_ref         0.2625
_reflns_number_gt                865
_reflns_number_total             1294
_reflns_threshold_expression     >2sigma(I)
_cod_data_source_file            c3ce41933a.txt
_cod_data_source_block           0.86GPaBenzothiopheneDTE
_cod_depositor_comments
;
The following automatic conversions were performed:

'_symmetry_cell_setting' value 'Monoclinic' changed to 'monoclinic'
according to
/usr/data/users/saulius/automatic-downloads/current/RSC/lib/dictionaries/cif_core.dic
dictionary named 'cif_core.dic' version 2.4.2 from 2011-04-26.

Automatic conversion script
Id: cif_fix_values 2281 2013-09-26 08:29:07Z andrius 
;
_cod_original_cell_volume        1924.3(13)
_cod_original_sg_symbol_H-M      'P 1 21/n 1 '
_cod_database_code               7213973
loop_
_symmetry_equiv_pos_as_xyz
x,y,z
-x+1/2,y+1/2,-z+1/2
-x,-y,-z
x-1/2,-y-1/2,z-1/2
loop_
_atom_site_label
_atom_site_type_symbol
_atom_site_fract_x
_atom_site_fract_y
_atom_site_fract_z
_atom_site_U_iso_or_equiv
_atom_site_adp_type
_atom_site_occupancy
_atom_site_symmetry_multiplicity
_atom_site_calc_flag
_atom_site_refinement_flags
C1 C 0.5565(12) 0.1187(5) 0.8053(9) 0.028(2) Uiso 1 1 d D
C2 C 0.4831(11) 0.1691(5) 0.8632(9) 0.038(2) Uiso 1 1 d D
C3 C 0.5903(10) 0.2129(5) 0.9709(10) 0.049(3) Uiso 1 1 d D
C4 C 0.7104(9) 0.1567(4) 0.9900(7) 0.031(2) Uiso 1 1 d D
C5 C 0.6820(10) 0.1134(4) 0.8755(7) 0.0236(19) Uiso 1 1 d D
C11 C 0.5966(14) 0.1993(5) 0.5941(10) 0.039(2) Uiso 1 1 d D
H11A H 0.6089 0.2407 0.6564 0.059 Uiso 1 1 calc R
H11B H 0.5642 0.2308 0.5209 0.059 Uiso 1 1 calc R
H11C H 0.6779 0.1717 0.6061 0.059 Uiso 1 1 calc R
C12 C 0.5009(11) 0.1287(5) 0.5921(8) 0.030(2) Uiso 1 1 d D
C13 C 0.4840(11) 0.0892(5) 0.6835(8) 0.027(2) Uiso 1 1 d D
C14 C 0.3804(11) 0.0238(5) 0.6467(8) 0.029(2) Uiso 1 1 d D
C15 C 0.3383(12) -0.0317(5) 0.7147(9) 0.037(2) Uiso 1 1 d D
H15 H 0.3785 -0.0297 0.7959 0.044 Uiso 1 1 calc R
C16 C 0.2364(15) -0.0892(6) 0.6596(11) 0.058(3) Uiso 1 1 d D
H16 H 0.2081 -0.1273 0.7034 0.069 Uiso 1 1 calc R
C17 C 0.1754(14) -0.0903(6) 0.5375(9) 0.046(3) Uiso 1 1 d D
H17 H 0.1059 -0.1290 0.5022 0.056 Uiso 1 1 calc R
C18 C 0.2126(12) -0.0377(5) 0.4684(10) 0.040(2) Uiso 1 1 d D
H18 H 0.1700 -0.0394 0.3873 0.048 Uiso 1 1 calc R
C19 C 0.3184(11) 0.0193(5) 0.5246(7) 0.030(2) Uiso 1 1 d D
C31 C 0.7111(13) -0.0918(5) 0.8819(10) 0.038(2) Uiso 1 1 d D
H31A H 0.7617 -0.1301 0.9457 0.056 Uiso 1 1 calc R
H31B H 0.6671 -0.1273 0.8132 0.056 Uiso 1 1 calc R
H31C H 0.6484 -0.0601 0.9015 0.056 Uiso 1 1 calc R
C32 C 0.7977(10) -0.0267(5) 0.8591(9) 0.036(2) Uiso 1 1 d D
C33 C 0.7842(11) 0.0651(5) 0.8546(8) 0.027(2) Uiso 1 1 d D
C34 C 0.8888(11) 0.1073(5) 0.8368(8) 0.028(2) Uiso 1 1 d D
C35 C 0.9079(14) 0.1991(5) 0.8210(9) 0.035(2) Uiso 1 1 d D
H35 H 0.8507 0.2415 0.8275 0.042 Uiso 1 1 calc R
C36 C 1.0104(13) 0.2255(7) 0.7963(10) 0.046(3) Uiso 1 1 d D
H36 H 1.0225 0.2861 0.7864 0.055 Uiso 1 1 calc R
C37 C 1.0972(15) 0.1630(6) 0.7855(11) 0.058(3) Uiso 1 1 d D
H37 H 1.1660 0.1822 0.7682 0.070 Uiso 1 1 calc R
C38 C 1.0814(14) 0.0744(7) 0.8003(11) 0.059(3) Uiso 1 1 d D
H38 H 1.1388 0.0327 0.7926 0.071 Uiso 1 1 calc R
C39 C 0.9795(12) 0.0469(5) 0.8267(9) 0.034(2) Uiso 1 1 d D
F1 F 0.4008(10) 0.2287(3) 0.7940(8) 0.0641(19) Uiso 1 1 d D
F2 F 0.4147(11) 0.1133(4) 0.9045(8) 0.076(2) Uiso 1 1 d D
F3 F 0.6100(10) 0.2973(3) 0.9430(7) 0.0611(18) Uiso 1 1 d D
F4 F 0.5630(10) 0.2169(4) 1.0643(9) 0.088(3) Uiso 1 1 d D
F5 F 0.8187(9) 0.2075(3) 1.0304(7) 0.0490(16) Uiso 1 1 d D
F6 F 0.7277(10) 0.0947(3) 1.0731(7) 0.0518(16) Uiso 1 1 d D
S1 S 0.3906(4) 0.08999(13) 0.4585(3) 0.042(4) Uani 1 1 d D
S2 S 0.9348(5) -0.06182(14) 0.8427(3) 0.035(4) Uani 1 1 d D
loop_
_atom_site_aniso_label
_atom_site_aniso_U_11
_atom_site_aniso_U_22
_atom_site_aniso_U_33
_atom_site_aniso_U_23
_atom_site_aniso_U_13
_atom_site_aniso_U_12
S1 0.043(6) 0.0392(13) 0.032(3) 0.0032(12) 0.004(4) -0.0044(16)
S2 0.028(6) 0.0380(14) 0.051(4) 0.0044(12) 0.029(4) 0.0129(17)
loop_
_atom_type_symbol
_atom_type_description
_atom_type_scat_dispersion_real
_atom_type_scat_dispersion_imag
_atom_type_scat_source
C C 0.0029 0.0015 'International Tables Vol C Tables 4.2.6.8 and 6.1.1.4'
H H 0.0000 0.0000 'International Tables Vol C Tables 4.2.6.8 and 6.1.1.4'
F F 0.0165 0.0096 'International Tables Vol C Tables 4.2.6.8 and 6.1.1.4'
S S 0.1188 0.1164 'International Tables Vol C Tables 4.2.6.8 and 6.1.1.4'
loop_
_geom_angle_atom_site_label_1
_geom_angle_atom_site_label_2
_geom_angle_atom_site_label_3
_geom_angle
C5 C1 C13 131.4(13)
C5 C1 C2 110.9(9)
C13 C1 C2 117.6(9)
F1 C2 F2 107.7(10)
F1 C2 C1 113.5(11)
F2 C2 C1 112.2(8)
F1 C2 C3 112.3(7)
F2 C2 C3 106.8(9)
C1 C2 C3 104.1(9)
F4 C3 F3 107.9(10)
F4 C3 C4 113.1(9)
F3 C3 C4 109.1(10)
F4 C3 C2 114.2(11)
F3 C3 C2 108.8(8)
C4 C3 C2 103.6(8)
F5 C4 F6 105.7(6)
F5 C4 C5 114.7(10)
F6 C4 C5 110.7(6)
F5 C4 C3 111.0(7)
F6 C4 C3 110.0(10)
C5 C4 C3 104.8(7)
C1 C5 C33 127.7(9)
C1 C5 C4 111.7(10)
C33 C5 C4 120.3(7)
C13 C12 C11 129.1(7)
C13 C12 S1 112.1(7)
C11 C12 S1 118.8(8)
C12 C13 C14 113.1(7)
C12 C13 C1 122.0(9)
C14 C13 C1 124.7(11)
C15 C14 C19 119.4(8)
C15 C14 C13 129.3(8)
C19 C14 C13 111.2(9)
C16 C15 C14 118.9(11)
C15 C16 C17 119.9(13)
C18 C17 C16 123.2(11)
C17 C18 C19 116.8(10)
C14 C19 C18 121.7(10)
C14 C19 S1 111.5(6)
C18 C19 S1 126.8(8)
C33 C32 C31 126.2(11)
C33 C32 S2 112.8(9)
C31 C32 S2 121.0(7)
C32 C33 C34 111.2(10)
C32 C33 C5 124.2(10)
C34 C33 C5 124.4(7)
C39 C34 C35 116.9(12)
C39 C34 C33 113.9(8)
C35 C34 C33 129.1(11)
C36 C35 C34 120.1(13)
C35 C36 C37 121.0(12)
C38 C37 C36 120.3(15)
C37 C38 C39 119.3(14)
C38 C39 C34 122.4(9)
C38 C39 S2 127.9(9)
C34 C39 S2 109.6(9)
C19 S1 C12 92.0(5)
C32 S2 C39 92.5(6)
loop_
_geom_bond_atom_site_label_1
_geom_bond_atom_site_label_2
_geom_bond_distance
C1 C5 1.333(12)
C1 C13 1.475(10)
C1 C2 1.502(16)
C2 F1 1.324(8)
C2 F2 1.369(12)
C2 C3 1.546(9)
C3 F4 1.322(13)
C3 F3 1.349(10)
C3 C4 1.527(10)
C4 F5 1.350(10)
C4 F6 1.346(10)
C4 C5 1.483(11)
C5 C33 1.469(12)
C11 C12 1.502(12)
C12 C13 1.364(12)
C12 S1 1.731(7)
C13 C14 1.448(10)
C14 C15 1.399(13)
C14 C19 1.401(10)
C15 C16 1.376(11)
C16 C17 1.398(11)
C17 C18 1.353(13)
C18 C19 1.402(10)
C19 S1 1.732(11)
C31 C32 1.483(12)
C32 C33 1.378(9)
C32 S2 1.720(12)
C33 C34 1.430(12)
C34 C39 1.405(12)
C34 C35 1.413(9)
C35 C36 1.368(14)
C36 C37 1.396(13)
C37 C38 1.357(10)
C38 C39 1.379(14)
C39 S2 1.735(9)
