#------------------------------------------------------------------------------
#$Date: 2025-08-22 17:55:42 +0300 (Fri, 22 Aug 2025) $
#$Revision: 301864 $
#$URL: file:///home/coder/svn-repositories/cod/cif/7/21/39/7213975.cif $
#------------------------------------------------------------------------------
#
# This file is available in the Crystallography Open Database (COD),
# http://www.crystallography.net/
#
# All data on this site have been placed in the public domain by the
# contributors.
#
data_7213975
loop_
_publ_author_name
'Woodall, Christopher H.'
'Brayshaw, Simon K.'
'Schiffers, Stefanie'
'Allan, David R.'
'Parsons, Simon'
'Valiente, Rafael'
'Raithby, Paul R.'
_publ_section_title
;
 High-pressure crystallographic and spectroscopic studies on two molecular
 dithienylethene switches
;
_journal_issue                   11
_journal_name_full               CrystEngComm
_journal_page_first              2119
_journal_paper_doi               10.1039/c3ce41933a
_journal_volume                  16
_journal_year                    2014
_chemical_formula_moiety         'C23 H14 F6 S2'
_chemical_formula_sum            'C23 H14 F6 S2'
_chemical_formula_weight         468.46
_chemical_name_common            BenzothiopheneDTE
_chemical_name_systematic
;
 1,2-Bis(2-methyl benzothiophen-3-yl) perfluorocyclopentene
;
_space_group_IT_number           14
_symmetry_cell_setting           monoclinic
_symmetry_space_group_name_Hall  '-P 2yn'
_symmetry_space_group_name_H-M   'P 1 21/n 1'
_atom_sites_solution_hydrogens   geom
_atom_sites_solution_primary     direct
_atom_sites_solution_secondary   difmap
_audit_creation_method           SHELXL-97
_cell_angle_alpha                90.00
_cell_angle_beta                 113.76(3)
_cell_angle_gamma                90.00
_cell_formula_units_Z            4
_cell_length_a                   11.053(2)
_cell_length_b                   14.338(3)
_cell_length_c                   12.136(2)
_cell_measurement_reflns_used    943
_cell_measurement_temperature    293
_cell_measurement_theta_max      25.7659
_cell_measurement_theta_min      3.2925
_cell_volume                     1760.3(7)
_computing_cell_refinement
;
CrysAlisPro, Oxford Diffraction Ltd.,
Version 1.171.34.9 (release 08-12-2009 CrysAlis171 .NET)
(compiled Dec  8 2009,17:31:18)
;
_computing_data_collection
;
CrysAlisPro, Oxford Diffraction Ltd.,
Version 1.171.34.9 (release 08-12-2009 CrysAlis171 .NET)
(compiled Dec  8 2009,17:31:18)
;
_computing_data_reduction
;
CrysAlisPro, Oxford Diffraction Ltd.,
Version 1.171.34.9 (release 08-12-2009 CrysAlis171 .NET)
(compiled Dec  8 2009,17:31:18)
;
_computing_structure_refinement  'SHELXL-97 (Sheldrick, 1997)'
_computing_structure_solution    'SIR92 (Altomare et al., 1994)'
_diffrn_ambient_temperature      293
_diffrn_measured_fraction_theta_full 0.323
_diffrn_measured_fraction_theta_max 0.323
_diffrn_measurement_device
;
CrystalLogic Kappa (3 circle)
;
_diffrn_measurement_device_type
;
Rigaku Saturn724+ (2x2 bin mode)
;
_diffrn_measurement_method       ω
_diffrn_radiation_monochromator  Synchrotron
_diffrn_radiation_type           synchrotron
_diffrn_radiation_wavelength     0.6889
_diffrn_reflns_av_R_equivalents  0.1017
_diffrn_reflns_av_sigmaI/netI    0.0996
_diffrn_reflns_limit_h_max       8
_diffrn_reflns_limit_h_min       -8
_diffrn_reflns_limit_k_max       16
_diffrn_reflns_limit_k_min       -16
_diffrn_reflns_limit_l_max       10
_diffrn_reflns_limit_l_min       -10
_diffrn_reflns_number            4747
_diffrn_reflns_theta_full        23.97
_diffrn_reflns_theta_max         23.97
_diffrn_reflns_theta_min         3.38
_exptl_absorpt_coefficient_mu    0.289
_exptl_absorpt_correction_T_max  1.00000
_exptl_absorpt_correction_T_min  0.50977
_exptl_absorpt_correction_type   multi-scan
_exptl_absorpt_process_details
;
CrysAlisPro, Oxford Diffraction Ltd.,
Version 1.171.34.9 (release 08-12-2009 CrysAlis171 .NET)
(compiled Dec  8 2009,17:31:18)
Empirical absorption correction using spherical harmonics,
 implemented in SCALE3 ABSPACK scaling algorithm.
;
_exptl_crystal_colour            colourless
_exptl_crystal_density_diffrn    1.768
_exptl_crystal_description       block
_exptl_crystal_F_000             952
_exptl_crystal_size_max          0.16
_exptl_crystal_size_mid          0.10
_exptl_crystal_size_min          0.10
_refine_diff_density_max         0.397
_refine_diff_density_min         -0.363
_refine_diff_density_rms         0.073
_refine_ls_extinction_method     none
_refine_ls_goodness_of_fit_ref   1.490
_refine_ls_hydrogen_treatment    constr
_refine_ls_matrix_type           full
_refine_ls_number_parameters     137
_refine_ls_number_reflns         976
_refine_ls_number_restraints     68
_refine_ls_restrained_S_all      1.445
_refine_ls_R_factor_all          0.1241
_refine_ls_R_factor_gt           0.0770
_refine_ls_shift/su_max          0.000
_refine_ls_shift/su_mean         0.000
_refine_ls_structure_factor_coef Fsqd
_refine_ls_weighting_details
'calc w=1/[σ²(Fo²)+(0.0415P)²+1.4160P] where P=(Fo²+2Fc²)/3'
_refine_ls_weighting_scheme      calc
_refine_ls_wR_factor_gt          0.1592
_refine_ls_wR_factor_ref         0.1864
_reflns_number_gt                631
_reflns_number_total             976
_reflns_threshold_expression     >2sigma(I)
_cod_data_source_file            c3ce41933a.txt
_cod_data_source_block           2.55GPaBenzothiopheneDTE
_cod_depositor_comments
;
The following automatic conversions were performed:

'_symmetry_cell_setting' value 'Monoclinic' changed to 'monoclinic'
according to
/usr/data/users/saulius/automatic-downloads/current/RSC/lib/dictionaries/cif_core.dic
dictionary named 'cif_core.dic' version 2.4.2 from 2011-04-26.

Automatic conversion script
Id: cif_fix_values 2281 2013-09-26 08:29:07Z andrius 
;
_cod_original_cell_volume        1760.4(6)
_cod_original_sg_symbol_H-M      'P 1 21/n 1 '
_cod_database_code               7213975
loop_
_symmetry_equiv_pos_as_xyz
x,y,z
-x+1/2,y+1/2,-z+1/2
-x,-y,-z
x-1/2,-y-1/2,z-1/2
loop_
_atom_site_label
_atom_site_type_symbol
_atom_site_fract_x
_atom_site_fract_y
_atom_site_fract_z
_atom_site_U_iso_or_equiv
_atom_site_adp_type
_atom_site_occupancy
_atom_site_symmetry_multiplicity
_atom_site_calc_flag
_atom_site_refinement_flags
C1 C 0.5596(14) 0.1183(6) 0.8045(10) 0.023(2) Uiso 1 1 d D
C2 C 0.4839(12) 0.1706(6) 0.8625(10) 0.033(3) Uiso 1 1 d D
C3 C 0.5900(11) 0.2190(6) 0.9727(11) 0.042(3) Uiso 1 1 d D
C4 C 0.7126(11) 0.1613(5) 0.9933(8) 0.022(2) Uiso 1 1 d D
C5 C 0.6865(12) 0.1129(5) 0.8766(9) 0.022(2) Uiso 1 1 d D
C11 C 0.6062(15) 0.1981(6) 0.5909(13) 0.037(3) Uiso 1 1 d D
H11A H 0.6591 0.2140 0.6733 0.056 Uiso 1 1 calc R
H11B H 0.5618 0.2529 0.5482 0.056 Uiso 1 1 calc R
H11C H 0.6620 0.1737 0.5543 0.056 Uiso 1 1 calc R
C12 C 0.5059(13) 0.1261(6) 0.5862(9) 0.025(2) Uiso 1 1 d D
C13 C 0.4852(12) 0.0872(5) 0.6796(9) 0.023(2) Uiso 1 1 d D
C14 C 0.3757(12) 0.0229(5) 0.6432(9) 0.024(2) Uiso 1 1 d D
C15 C 0.3287(13) -0.0337(6) 0.7116(11) 0.030(3) Uiso 1 1 d D
H15 H 0.3715 -0.0348 0.7951 0.036 Uiso 1 1 calc R
C16 C 0.2184(16) -0.0875(6) 0.6531(13) 0.047(3) Uiso 1 1 d D
H16 H 0.1883 -0.1267 0.6978 0.056 Uiso 1 1 calc R
C17 C 0.1507(16) -0.0845(7) 0.5283(11) 0.040(3) Uiso 1 1 d D
H17 H 0.0735 -0.1189 0.4915 0.048 Uiso 1 1 calc R
C18 C 0.1959(13) -0.0322(6) 0.4597(12) 0.032(3) Uiso 1 1 d D
H18 H 0.1508 -0.0310 0.3764 0.039 Uiso 1 1 calc R
C19 C 0.3111(11) 0.0198(5) 0.5162(8) 0.020(2) Uiso 1 1 d D
C31 C 0.7100(14) -0.0963(6) 0.8852(11) 0.033(3) Uiso 1 1 d D
H31A H 0.7480 -0.1163 0.9677 0.050 Uiso 1 1 calc R
H31B H 0.6942 -0.1496 0.8334 0.050 Uiso 1 1 calc R
H31C H 0.6280 -0.0648 0.8692 0.050 Uiso 1 1 calc R
C32 C 0.8023(11) -0.0318(5) 0.8628(9) 0.022(2) Uiso 1 1 d D
C33 C 0.7912(12) 0.0629(5) 0.8570(9) 0.021(2) Uiso 1 1 d D
C34 C 0.8982(12) 0.1083(5) 0.8380(10) 0.026(2) Uiso 1 1 d D
C35 C 0.9164(16) 0.2037(6) 0.8222(11) 0.030(3) Uiso 1 1 d D
H35 H 0.8585 0.2480 0.8293 0.036 Uiso 1 1 calc R
C36 C 1.0216(15) 0.2301(8) 0.7961(11) 0.037(3) Uiso 1 1 d D
H36 H 1.0334 0.2931 0.7850 0.044 Uiso 1 1 calc R
C37 C 1.1105(16) 0.1667(6) 0.7857(12) 0.049(3) Uiso 1 1 d D
H37 H 1.1793 0.1866 0.7659 0.059 Uiso 1 1 calc R
C38 C 1.0957(14) 0.0743(6) 0.8048(11) 0.039(3) Uiso 1 1 d D
H38 H 1.1572 0.0314 0.8014 0.047 Uiso 1 1 calc R
C39 C 0.9899(12) 0.0437(5) 0.8293(10) 0.025(3) Uiso 1 1 d D
F1 F 0.3969(11) 0.2300(3) 0.7897(9) 0.0447(17) Uiso 1 1 d D
F2 F 0.4171(12) 0.1122(5) 0.9073(9) 0.062(2) Uiso 1 1 d D
F3 F 0.6056(11) 0.3067(3) 0.9396(8) 0.0441(17) Uiso 1 1 d D
F4 F 0.5617(11) 0.2236(4) 1.0676(10) 0.067(2) Uiso 1 1 d D
F5 F 0.8233(10) 0.2155(3) 1.0346(8) 0.0375(16) Uiso 1 1 d D
F6 F 0.7301(11) 0.0977(3) 1.0818(8) 0.0436(17) Uiso 1 1 d D
S1 S 0.3894(5) 0.08937(15) 0.4484(4) 0.055(6) Uani 1 1 d D
S2 S 0.9425(6) -0.06892(16) 0.8465(4) 0.044(6) Uani 1 1 d D
loop_
_atom_site_aniso_label
_atom_site_aniso_U_11
_atom_site_aniso_U_22
_atom_site_aniso_U_33
_atom_site_aniso_U_23
_atom_site_aniso_U_13
_atom_site_aniso_U_12
S1 0.064(8) 0.0271(13) 0.040(5) 0.0006(15) -0.014(6) -0.0025(19)
S2 0.044(8) 0.0333(15) 0.046(5) 0.0044(16) 0.008(6) 0.011(2)
loop_
_atom_type_symbol
_atom_type_description
_atom_type_scat_dispersion_real
_atom_type_scat_dispersion_imag
_atom_type_scat_source
C C 0.0029 0.0015 'International Tables Vol C Tables 4.2.6.8 and 6.1.1.4'
H H 0.0000 0.0000 'International Tables Vol C Tables 4.2.6.8 and 6.1.1.4'
F F 0.0165 0.0096 'International Tables Vol C Tables 4.2.6.8 and 6.1.1.4'
S S 0.1188 0.1164 'International Tables Vol C Tables 4.2.6.8 and 6.1.1.4'
loop_
_geom_angle_atom_site_label_1
_geom_angle_atom_site_label_2
_geom_angle_atom_site_label_3
_geom_angle
C5 C1 C13 131.8(15)
C5 C1 C2 111.3(10)
C13 C1 C2 116.8(10)
F1 C2 F2 107.2(12)
F1 C2 C1 113.8(12)
F2 C2 C1 112.1(9)
F1 C2 C3 112.6(7)
F2 C2 C3 105.9(10)
C1 C2 C3 105.1(10)
F4 C3 F3 108.5(11)
F4 C3 C4 113.3(9)
F3 C3 C4 110.1(11)
F4 C3 C2 114.6(12)
F3 C3 C2 107.7(8)
C4 C3 C2 102.3(9)
F5 C4 F6 105.7(7)
F5 C4 C5 114.6(11)
F6 C4 C5 110.3(7)
F5 C4 C3 111.0(7)
F6 C4 C3 109.2(11)
C5 C4 C3 106.1(8)
C1 C5 C33 128.3(10)
C1 C5 C4 110.4(11)
C33 C5 C4 121.2(8)
C13 C12 C11 128.3(9)
C13 C12 S1 111.7(8)
C11 C12 S1 119.8(9)
C12 C13 C14 114.1(8)
C12 C13 C1 121.4(10)
C14 C13 C1 124.1(12)
C15 C14 C19 118.8(9)
C15 C14 C13 130.8(8)
C19 C14 C13 110.3(10)
C16 C15 C14 118.9(12)
C15 C16 C17 121.3(15)
C18 C17 C16 121.0(13)
C17 C18 C19 118.9(11)
C18 C19 C14 120.9(11)
C18 C19 S1 127.4(9)
C14 C19 S1 111.7(7)
C33 C32 C31 125.3(11)
C33 C32 S2 111.6(10)
C31 C32 S2 123.1(8)
C32 C33 C34 113.2(11)
C32 C33 C5 122.7(12)
C34 C33 C5 123.9(8)
C35 C34 C39 118.9(13)
C35 C34 C33 129.0(12)
C39 C34 C33 112.0(9)
C36 C35 C34 118.6(14)
C35 C36 C37 122.6(13)
C38 C37 C36 119.0(16)
C37 C38 C39 120.7(15)
C38 C39 C34 120.1(9)
C38 C39 S2 129.8(9)
C34 C39 S2 110.0(10)
C19 S1 C12 92.1(6)
C32 S2 C39 93.2(6)
loop_
_geom_bond_atom_site_label_1
_geom_bond_atom_site_label_2
_geom_bond_distance
C1 C5 1.323(13)
C1 C13 1.472(10)
C1 C2 1.494(16)
C2 F1 1.322(9)
C2 F2 1.366(13)
C2 C3 1.543(10)
C3 F4 1.311(13)
C3 F3 1.352(10)
C3 C4 1.520(12)
C4 F5 1.362(10)
C4 F6 1.361(10)
C4 C5 1.496(11)
C5 C33 1.460(13)
C11 C12 1.499(13)
C12 C13 1.363(13)
C12 S1 1.731(7)
C13 C14 1.442(11)
C14 C15 1.401(13)
C14 C19 1.414(10)
C15 C16 1.375(12)
C16 C17 1.393(12)
C17 C18 1.358(13)
C18 C19 1.394(11)
C19 S1 1.730(12)
C31 C32 1.481(13)
C32 C33 1.363(9)
C32 S2 1.724(13)
C33 C34 1.448(13)
C34 C35 1.406(10)
C34 C39 1.408(12)
C35 C36 1.376(14)
C36 C37 1.380(13)
C37 C38 1.366(11)
C38 C39 1.389(14)
C39 S2 1.736(10)
loop_
_cod_related_entry_id
_cod_related_entry_database
_cod_related_entry_code
1 PubChem 11408746
