#------------------------------------------------------------------------------
#$Date: 2025-08-22 17:55:42 +0300 (Fri, 22 Aug 2025) $
#$Revision: 301864 $
#$URL: file:///home/coder/svn-repositories/cod/cif/7/21/39/7213977.cif $
#------------------------------------------------------------------------------
#
# This file is available in the Crystallography Open Database (COD),
# http://www.crystallography.net/
#
# All data on this site have been placed in the public domain by the
# contributors.
#
data_7213977
loop_
_publ_author_name
'Woodall, Christopher H.'
'Brayshaw, Simon K.'
'Schiffers, Stefanie'
'Allan, David R.'
'Parsons, Simon'
'Valiente, Rafael'
'Raithby, Paul R.'
_publ_section_title
;
 High-pressure crystallographic and spectroscopic studies on two molecular
 dithienylethene switches
;
_journal_issue                   11
_journal_name_full               CrystEngComm
_journal_page_first              2119
_journal_paper_doi               10.1039/c3ce41933a
_journal_volume                  16
_journal_year                    2014
_chemical_formula_moiety         'C23 H14 F6 S2'
_chemical_formula_sum            'C23 H14 F6 S2'
_chemical_formula_weight         468.46
_chemical_name_common            BenzothiopheneDTE
_chemical_name_systematic
;
 1,2-Bis(2-methyl benzothiophen-3-yl) perfluorocyclopentene
;
_space_group_IT_number           14
_symmetry_cell_setting           monoclinic
_symmetry_space_group_name_Hall  '-P 2yn'
_symmetry_space_group_name_H-M   'P 1 21/n 1'
_atom_sites_solution_hydrogens   geom
_atom_sites_solution_primary     direct
_atom_sites_solution_secondary   difmap
_audit_creation_method           SHELXL-97
_cell_angle_alpha                90.00
_cell_angle_beta                 113.77(3)
_cell_angle_gamma                90.00
_cell_formula_units_Z            4
_cell_length_a                   10.954(2)
_cell_length_b                   14.032(3)
_cell_length_c                   11.962(2)
_cell_measurement_reflns_used    1494
_cell_measurement_temperature    293
_cell_measurement_theta_max      25.7611
_cell_measurement_theta_min      3.3601
_cell_volume                     1682.7(7)
_computing_cell_refinement
;
CrysAlisPro, Oxford Diffraction Ltd.,
Version 1.171.34.9 (release 08-12-2009 CrysAlis171 .NET)
(compiled Dec  8 2009,17:31:18)
;
_computing_data_collection
;
CrysAlisPro, Oxford Diffraction Ltd.,
Version 1.171.34.9 (release 08-12-2009 CrysAlis171 .NET)
(compiled Dec  8 2009,17:31:18)
;
_computing_data_reduction
;
CrysAlisPro, Oxford Diffraction Ltd.,
Version 1.171.34.9 (release 08-12-2009 CrysAlis171 .NET)
(compiled Dec  8 2009,17:31:18)
;
_computing_structure_refinement  'SHELXL-97 (Sheldrick, 1997)'
_computing_structure_solution    'SIR92 (Altomare et al., 1994)'
_diffrn_ambient_temperature      293
_diffrn_measured_fraction_theta_full 0.363
_diffrn_measured_fraction_theta_max 0.363
_diffrn_measurement_device
;
CrystalLogic Kappa (3 circle)
;
_diffrn_measurement_device_type
;
Rigaku Saturn724+ (2x2 bin mode)
;
_diffrn_measurement_method       ω
_diffrn_radiation_monochromator  Synchrotron
_diffrn_radiation_type           synchrotron
_diffrn_radiation_wavelength     0.6889
_diffrn_reflns_av_R_equivalents  0.0515
_diffrn_reflns_av_sigmaI/netI    0.0361
_diffrn_reflns_limit_h_max       8
_diffrn_reflns_limit_h_min       -8
_diffrn_reflns_limit_k_max       15
_diffrn_reflns_limit_k_min       -15
_diffrn_reflns_limit_l_max       10
_diffrn_reflns_limit_l_min       -10
_diffrn_reflns_number            4815
_diffrn_reflns_theta_full        22.42
_diffrn_reflns_theta_max         22.42
_diffrn_reflns_theta_min         3.34
_exptl_absorpt_coefficient_mu    0.302
_exptl_absorpt_correction_T_max  1.00000
_exptl_absorpt_correction_T_min  0.80191
_exptl_absorpt_correction_type   multi-scan
_exptl_absorpt_process_details
;
CrysAlisPro, Oxford Diffraction Ltd.,
Version 1.171.34.9 (release 08-12-2009 CrysAlis171 .NET)
(compiled Dec  8 2009,17:31:18)
Empirical absorption correction using spherical harmonics,
 implemented in SCALE3 ABSPACK scaling algorithm.
;
_exptl_crystal_colour            colourless
_exptl_crystal_density_diffrn    1.849
_exptl_crystal_description       block
_exptl_crystal_F_000             952
_exptl_crystal_size_max          0.16
_exptl_crystal_size_mid          0.10
_exptl_crystal_size_min          0.10
_refine_diff_density_max         0.379
_refine_diff_density_min         -0.303
_refine_diff_density_rms         0.061
_refine_ls_extinction_method     none
_refine_ls_goodness_of_fit_ref   1.488
_refine_ls_hydrogen_treatment    constr
_refine_ls_matrix_type           full
_refine_ls_number_parameters     137
_refine_ls_number_reflns         873
_refine_ls_number_restraints     68
_refine_ls_restrained_S_all      1.439
_refine_ls_R_factor_all          0.0753
_refine_ls_R_factor_gt           0.0674
_refine_ls_shift/su_max          0.000
_refine_ls_shift/su_mean         0.000
_refine_ls_structure_factor_coef Fsqd
_refine_ls_weighting_details
'calc w=1/[σ²(Fo²)+(0.0547P)²+3.8984P] where P=(Fo²+2Fc²)/3'
_refine_ls_weighting_scheme      calc
_refine_ls_wR_factor_gt          0.1630
_refine_ls_wR_factor_ref         0.1687
_reflns_number_gt                759
_reflns_number_total             873
_reflns_threshold_expression     >2sigma(I)
_cod_data_source_file            c3ce41933a.txt
_cod_data_source_block           4.08GPaBenzothiopheneDTE
_cod_depositor_comments
;
The following automatic conversions were performed:

'_symmetry_cell_setting' value 'Monoclinic' changed to 'monoclinic'
according to
/usr/data/users/saulius/automatic-downloads/current/RSC/lib/dictionaries/cif_core.dic
dictionary named 'cif_core.dic' version 2.4.2 from 2011-04-26.

Automatic conversion script
Id: cif_fix_values 2281 2013-09-26 08:29:07Z andrius 
;
_cod_original_cell_volume        1682.7(6)
_cod_original_sg_symbol_H-M      'P 1 21/n 1 '
_cod_database_code               7213977
loop_
_symmetry_equiv_pos_as_xyz
x,y,z
-x+1/2,y+1/2,-z+1/2
-x,-y,-z
x-1/2,-y-1/2,z-1/2
loop_
_atom_site_label
_atom_site_type_symbol
_atom_site_fract_x
_atom_site_fract_y
_atom_site_fract_z
_atom_site_U_iso_or_equiv
_atom_site_adp_type
_atom_site_occupancy
_atom_site_symmetry_multiplicity
_atom_site_calc_flag
_atom_site_refinement_flags
C1 C 0.5582(11) 0.1170(4) 0.8042(9) 0.0203(18) Uiso 1 1 d D
C2 C 0.4810(10) 0.1696(5) 0.8643(8) 0.029(2) Uiso 1 1 d D
C3 C 0.5883(9) 0.2216(5) 0.9708(10) 0.035(2) Uiso 1 1 d D
C4 C 0.7136(9) 0.1644(4) 0.9938(7) 0.0173(17) Uiso 1 1 d D
C5 C 0.6866(10) 0.1144(4) 0.8758(8) 0.0189(18) Uiso 1 1 d D
C11 C 0.6096(13) 0.1959(5) 0.5887(11) 0.033(2) Uiso 1 1 d D
H11A H 0.6568 0.2171 0.6714 0.049 Uiso 1 1 calc R
H11B H 0.5676 0.2494 0.5377 0.049 Uiso 1 1 calc R
H11C H 0.6712 0.1668 0.5604 0.049 Uiso 1 1 calc R
C12 C 0.5061(10) 0.1250(4) 0.5836(8) 0.0217(19) Uiso 1 1 d D
C13 C 0.4858(10) 0.0851(4) 0.6776(8) 0.0210(18) Uiso 1 1 d D
C14 C 0.3716(10) 0.0227(4) 0.6390(8) 0.0209(18) Uiso 1 1 d D
C15 C 0.3249(11) -0.0345(5) 0.7085(9) 0.026(2) Uiso 1 1 d D
H15 H 0.3704 -0.0377 0.7930 0.031 Uiso 1 1 calc R
C16 C 0.2099(13) -0.0861(5) 0.6491(11) 0.040(2) Uiso 1 1 d D
H16 H 0.1781 -0.1251 0.6943 0.048 Uiso 1 1 calc R
C17 C 0.1400(13) -0.0812(6) 0.5230(9) 0.039(2) Uiso 1 1 d D
H17 H 0.0597 -0.1138 0.4858 0.047 Uiso 1 1 calc R
C18 C 0.1878(11) -0.0295(5) 0.4543(10) 0.028(2) Uiso 1 1 d D
H18 H 0.1422 -0.0279 0.3698 0.033 Uiso 1 1 calc R
C19 C 0.3065(9) 0.0215(5) 0.5116(7) 0.0232(19) Uiso 1 1 d D
C31 C 0.7094(12) -0.1004(5) 0.8860(10) 0.031(2) Uiso 1 1 d D
H31A H 0.7511 -0.1255 0.9674 0.047 Uiso 1 1 calc R
H31B H 0.6870 -0.1518 0.8283 0.047 Uiso 1 1 calc R
H31C H 0.6297 -0.0668 0.8771 0.047 Uiso 1 1 calc R
C32 C 0.8027(9) -0.0341(4) 0.8632(8) 0.0224(19) Uiso 1 1 d D
C33 C 0.7924(9) 0.0629(4) 0.8576(8) 0.0192(18) Uiso 1 1 d D
C34 C 0.9005(10) 0.1073(4) 0.8401(9) 0.0227(19) Uiso 1 1 d D
C35 C 0.9178(13) 0.2043(5) 0.8210(9) 0.028(2) Uiso 1 1 d D
H35 H 0.8574 0.2490 0.8256 0.033 Uiso 1 1 calc R
C36 C 1.0236(12) 0.2331(6) 0.7956(9) 0.033(2) Uiso 1 1 d D
H36 H 1.0345 0.2975 0.7838 0.040 Uiso 1 1 calc R
C37 C 1.1143(14) 0.1679(6) 0.7872(11) 0.052(3) Uiso 1 1 d D
H37 H 1.1841 0.1881 0.7675 0.062 Uiso 1 1 calc R
C38 C 1.1004(13) 0.0724(6) 0.8082(10) 0.045(3) Uiso 1 1 d D
H38 H 1.1628 0.0286 0.8052 0.053 Uiso 1 1 calc R
C39 C 0.9948(10) 0.0416(5) 0.8335(8) 0.025(2) Uiso 1 1 d D
F1 F 0.3901(9) 0.2286(3) 0.7876(7) 0.0427(14) Uiso 1 1 d D
F2 F 0.4147(9) 0.1099(4) 0.9105(7) 0.0511(16) Uiso 1 1 d D
F3 F 0.6033(8) 0.3107(3) 0.9348(6) 0.0399(14) Uiso 1 1 d D
F4 F 0.5600(9) 0.2271(4) 1.0670(8) 0.0590(18) Uiso 1 1 d D
F5 F 0.8242(8) 0.2199(3) 1.0346(6) 0.0347(13) Uiso 1 1 d D
F6 F 0.7318(9) 0.1003(3) 1.0844(7) 0.0430(14) Uiso 1 1 d D
S1 S 0.3881(4) 0.08936(12) 0.4427(3) 0.039(4) Uani 1 1 d D
S2 S 0.9453(4) -0.07334(13) 0.8494(3) 0.031(4) Uani 1 1 d D
loop_
_atom_site_aniso_label
_atom_site_aniso_U_11
_atom_site_aniso_U_22
_atom_site_aniso_U_33
_atom_site_aniso_U_23
_atom_site_aniso_U_13
_atom_site_aniso_U_12
S1 0.050(4) 0.0245(10) 0.027(3) 0.0016(10) -0.001(4) -0.0051(13)
S2 0.040(5) 0.0276(11) 0.031(3) 0.0058(10) 0.018(4) 0.0105(13)
loop_
_atom_type_symbol
_atom_type_description
_atom_type_scat_dispersion_real
_atom_type_scat_dispersion_imag
_atom_type_scat_source
C C 0.0029 0.0015 'International Tables Vol C Tables 4.2.6.8 and 6.1.1.4'
H H 0.0000 0.0000 'International Tables Vol C Tables 4.2.6.8 and 6.1.1.4'
F F 0.0165 0.0096 'International Tables Vol C Tables 4.2.6.8 and 6.1.1.4'
S S 0.1188 0.1164 'International Tables Vol C Tables 4.2.6.8 and 6.1.1.4'
loop_
_geom_angle_atom_site_label_1
_geom_angle_atom_site_label_2
_geom_angle_atom_site_label_3
_geom_angle
C5 C1 C13 130.7(13)
C5 C1 C2 111.1(8)
C13 C1 C2 118.0(9)
F1 C2 F2 106.8(9)
F1 C2 C1 112.5(9)
F2 C2 C1 112.7(7)
F1 C2 C3 112.8(6)
F2 C2 C3 108.3(8)
C1 C2 C3 103.9(9)
F4 C3 F3 109.1(8)
F4 C3 C4 113.0(8)
F3 C3 C4 109.2(9)
F4 C3 C2 112.7(10)
F3 C3 C2 109.1(7)
C4 C3 C2 103.6(8)
F5 C4 F6 105.7(5)
F5 C4 C5 114.8(9)
F6 C4 C5 110.5(6)
F5 C4 C3 111.9(6)
F6 C4 C3 109.0(9)
C5 C4 C3 104.9(6)
C1 C5 C33 128.4(8)
C1 C5 C4 110.7(10)
C33 C5 C4 120.5(6)
C13 C12 C11 128.3(7)
C13 C12 S1 112.4(6)
C11 C12 S1 119.3(7)
C12 C13 C14 113.4(7)
C12 C13 C1 122.0(8)
C14 C13 C1 123.6(10)
C15 C14 C19 119.7(7)
C15 C14 C13 129.6(7)
C19 C14 C13 110.6(8)
C16 C15 C14 118.3(9)
C15 C16 C17 121.6(13)
C18 C17 C16 120.5(11)
C17 C18 C19 119.3(9)
C14 C19 C18 120.3(10)
C14 C19 S1 112.3(6)
C18 C19 S1 127.4(8)
C33 C32 C31 125.7(9)
C33 C32 S2 112.0(8)
C31 C32 S2 122.2(6)
C32 C33 C34 112.7(9)
C32 C33 C5 122.9(10)
C34 C33 C5 124.3(6)
C35 C34 C39 118.3(11)
C35 C34 C33 128.4(10)
C39 C34 C33 113.1(7)
C36 C35 C34 120.2(11)
C35 C36 C37 121.0(10)
C38 C37 C36 119.5(14)
C39 C38 C37 120.5(13)
C38 C39 C34 120.4(8)
C38 C39 S2 130.0(8)
C34 C39 S2 109.4(8)
C19 S1 C12 91.3(5)
C32 S2 C39 92.8(5)
loop_
_geom_bond_atom_site_label_1
_geom_bond_atom_site_label_2
_geom_bond_distance
C1 C5 1.320(11)
C1 C13 1.468(9)
C1 C2 1.506(15)
C2 F1 1.336(8)
C2 F2 1.362(12)
C2 C3 1.527(9)
C3 F4 1.310(12)
C3 F3 1.353(9)
C3 C4 1.517(11)
C4 F5 1.354(9)
C4 F6 1.360(10)
C4 C5 1.495(10)
C5 C33 1.454(12)
C11 C12 1.491(12)
C12 C13 1.352(12)
C12 S1 1.734(6)
C13 C14 1.443(10)
C14 C15 1.392(12)
C14 C19 1.398(10)
C15 C16 1.377(11)
C16 C17 1.391(11)
C17 C18 1.349(13)
C18 C19 1.399(10)
C19 S1 1.725(11)
C31 C32 1.487(12)
C32 C33 1.365(8)
C32 S2 1.726(11)
C33 C34 1.427(12)
C34 C35 1.405(9)
C34 C39 1.411(12)
C35 C36 1.373(13)
C36 C37 1.384(13)
C37 C38 1.383(10)
C38 C39 1.378(13)
C39 S2 1.736(8)
loop_
_cod_related_entry_id
_cod_related_entry_database
_cod_related_entry_code
1 PubChem 11408746
