#------------------------------------------------------------------------------
#$Date: 2025-08-22 17:55:42 +0300 (Fri, 22 Aug 2025) $
#$Revision: 301864 $
#$URL: file:///home/coder/svn-repositories/cod/cif/7/21/39/7213979.cif $
#------------------------------------------------------------------------------
#
# This file is available in the Crystallography Open Database (COD),
# http://www.crystallography.net/
#
# All data on this site have been placed in the public domain by the
# contributors.
#
data_7213979
loop_
_publ_author_name
'Woodall, Christopher H.'
'Brayshaw, Simon K.'
'Schiffers, Stefanie'
'Allan, David R.'
'Parsons, Simon'
'Valiente, Rafael'
'Raithby, Paul R.'
_publ_section_title
;
 High-pressure crystallographic and spectroscopic studies on two molecular
 dithienylethene switches
;
_journal_issue                   11
_journal_name_full               CrystEngComm
_journal_page_first              2119
_journal_paper_doi               10.1039/c3ce41933a
_journal_volume                  16
_journal_year                    2014
_chemical_formula_moiety         'C23 H14 F6 S2'
_chemical_formula_sum            'C23 H14 F6 S2'
_chemical_formula_weight         468.46
_chemical_name_common            BenzothiopheneDTE
_chemical_name_systematic
;
 1,2-Bis(2-methyl benzothiophen-3-yl) perfluorocyclopentene
;
_space_group_IT_number           14
_symmetry_cell_setting           monoclinic
_symmetry_space_group_name_Hall  '-P 2yn'
_symmetry_space_group_name_H-M   'P 1 21/n 1'
_atom_sites_solution_hydrogens   geom
_atom_sites_solution_primary     direct
_atom_sites_solution_secondary   difmap
_audit_creation_method           SHELXL-97
_cell_angle_alpha                90.00
_cell_angle_beta                 107.52(9)
_cell_angle_gamma                90.00
_cell_formula_units_Z            4
_cell_length_a                   10.135(9)
_cell_length_b                   15.0384(16)
_cell_length_c                   10.900(7)
_cell_measurement_reflns_used    1182
_cell_measurement_temperature    293
_cell_measurement_theta_max      25.4164
_cell_measurement_theta_min      3.3120
_cell_volume                     1584.2(19)
_computing_cell_refinement
;
CrysAlisPro, Oxford Diffraction Ltd.,
Version 1.171.34.9 (release 08-12-2009 CrysAlis171 .NET)
(compiled Dec  8 2009,17:31:18)
;
_computing_data_collection
;
CrysAlisPro, Oxford Diffraction Ltd.,
Version 1.171.34.9 (release 08-12-2009 CrysAlis171 .NET)
(compiled Dec  8 2009,17:31:18)
;
_computing_data_reduction
;
CrysAlisPro, Oxford Diffraction Ltd.,
Version 1.171.34.9 (release 08-12-2009 CrysAlis171 .NET)
(compiled Dec  8 2009,17:31:18)
;
_computing_structure_refinement  'SHELXL-97 (Sheldrick, 1997)'
_computing_structure_solution    'SIR92 (Altomare et al., 1994)'
_diffrn_ambient_temperature      293
_diffrn_measured_fraction_theta_full 0.321
_diffrn_measured_fraction_theta_max 0.321
_diffrn_measurement_device
;
CrystalLogic Kappa (3 circle)
;
_diffrn_measurement_device_type
;
Rigaku Saturn724+ (2x2 bin mode)
;
_diffrn_measurement_method       ω
_diffrn_radiation_monochromator  Synchrotron
_diffrn_radiation_type           synchrotron
_diffrn_radiation_wavelength     0.6889
_diffrn_reflns_av_R_equivalents  0.0679
_diffrn_reflns_av_sigmaI/netI    0.0772
_diffrn_reflns_limit_h_max       9
_diffrn_reflns_limit_h_min       -8
_diffrn_reflns_limit_k_max       18
_diffrn_reflns_limit_k_min       -18
_diffrn_reflns_limit_l_max       9
_diffrn_reflns_limit_l_min       -9
_diffrn_reflns_number            5277
_diffrn_reflns_theta_full        25.55
_diffrn_reflns_theta_max         25.55
_diffrn_reflns_theta_min         3.33
_exptl_absorpt_coefficient_mu    0.321
_exptl_absorpt_correction_T_max  1.00000
_exptl_absorpt_correction_T_min  0.86998
_exptl_absorpt_correction_type   multi-scan
_exptl_absorpt_process_details
;
CrysAlisPro, Oxford Diffraction Ltd.,
Version 1.171.34.9 (release 08-12-2009 CrysAlis171 .NET)
(compiled Dec  8 2009,17:31:18)
Empirical absorption correction using spherical harmonics,
 implemented in SCALE3 ABSPACK scaling algorithm.
;
_exptl_crystal_colour            colourless
_exptl_crystal_density_diffrn    1.964
_exptl_crystal_description       block
_exptl_crystal_F_000             952
_exptl_crystal_size_max          0.16
_exptl_crystal_size_mid          0.10
_exptl_crystal_size_min          0.10
_refine_diff_density_max         0.351
_refine_diff_density_min         -0.320
_refine_diff_density_rms         0.059
_refine_ls_extinction_method     none
_refine_ls_goodness_of_fit_ref   1.411
_refine_ls_hydrogen_treatment    constr
_refine_ls_matrix_type           full
_refine_ls_number_parameters     137
_refine_ls_number_reflns         1046
_refine_ls_number_restraints     68
_refine_ls_restrained_S_all      1.380
_refine_ls_R_factor_all          0.0794
_refine_ls_R_factor_gt           0.0561
_refine_ls_shift/su_max          0.000
_refine_ls_shift/su_mean         0.000
_refine_ls_structure_factor_coef Fsqd
_refine_ls_weighting_details
'calc w=1/[σ²(Fo²)+(0.0339P)²+1.4145P] where P=(Fo²+2Fc²)/3'
_refine_ls_weighting_scheme      calc
_refine_ls_wR_factor_gt          0.1083
_refine_ls_wR_factor_ref         0.1193
_reflns_number_gt                799
_reflns_number_total             1046
_reflns_threshold_expression     >2sigma(I)
_cod_data_source_file            c3ce41933a.txt
_cod_data_source_block           5.38GPaBenzothiopheneDTE
_cod_depositor_comments
;
The following automatic conversions were performed:

'_symmetry_cell_setting' value 'Monoclinic' changed to 'monoclinic'
according to
/usr/data/users/saulius/automatic-downloads/current/RSC/lib/dictionaries/cif_core.dic
dictionary named 'cif_core.dic' version 2.4.2 from 2011-04-26.

Automatic conversion script
Id: cif_fix_values 2281 2013-09-26 08:29:07Z andrius 
;
_cod_original_cell_volume        1584.3(17)
_cod_original_sg_symbol_H-M      'P 1 21/n 1 '
_cod_database_code               7213979
loop_
_symmetry_equiv_pos_as_xyz
x,y,z
-x+1/2,y+1/2,-z+1/2
-x,-y,-z
x-1/2,-y-1/2,z-1/2
loop_
_atom_site_label
_atom_site_type_symbol
_atom_site_fract_x
_atom_site_fract_y
_atom_site_fract_z
_atom_site_U_iso_or_equiv
_atom_site_adp_type
_atom_site_occupancy
_atom_site_symmetry_multiplicity
_atom_site_calc_flag
_atom_site_refinement_flags
C1 C 0.5439(10) 0.1663(3) 0.8041(8) 0.0170(14) Uiso 1 1 d D
C2 C 0.4788(9) 0.2466(3) 0.8392(7) 0.0194(15) Uiso 1 1 d D
C3 C 0.5510(10) 0.2637(4) 0.9851(8) 0.019(2) Uiso 1 1 d D
C4 C 0.6677(8) 0.1953(3) 1.0201(7) 0.0173(14) Uiso 1 1 d D
C5 C 0.6498(9) 0.1379(3) 0.9021(8) 0.0169(14) Uiso 1 1 d D
C11 C 0.6779(10) 0.2193(4) 0.5926(10) 0.0232(16) Uiso 1 1 d D
H11A H 0.6964 0.2531 0.6707 0.035 Uiso 1 1 calc R
H11B H 0.6604 0.2590 0.5206 0.035 Uiso 1 1 calc R
H11C H 0.7565 0.1827 0.5958 0.035 Uiso 1 1 calc R
C12 C 0.5540(9) 0.1616(3) 0.5784(8) 0.0171(15) Uiso 1 1 d D
C13 C 0.4996(9) 0.1315(3) 0.6713(8) 0.0148(14) Uiso 1 1 d D
C14 C 0.3905(9) 0.0670(3) 0.6236(8) 0.0160(14) Uiso 1 1 d D
C15 C 0.3227(10) 0.0131(3) 0.6900(9) 0.0246(16) Uiso 1 1 d D
H15 H 0.3474 0.0152 0.7793 0.030 Uiso 1 1 calc R
C16 C 0.2179(11) -0.0440(4) 0.6216(9) 0.0303(17) Uiso 1 1 d D
H16 H 0.1728 -0.0804 0.6651 0.036 Uiso 1 1 calc R
C17 C 0.1815(10) -0.0463(4) 0.4888(8) 0.0233(16) Uiso 1 1 d D
H17 H 0.1061 -0.0803 0.4432 0.028 Uiso 1 1 calc R
C18 C 0.2540(10) 0.0004(3) 0.4238(9) 0.0219(16) Uiso 1 1 d D
H18 H 0.2329 -0.0053 0.3351 0.026 Uiso 1 1 calc R
C19 C 0.3599(8) 0.0568(3) 0.4908(7) 0.0137(14) Uiso 1 1 d D
C31 C 0.6161(10) -0.0702(4) 0.9249(9) 0.0268(17) Uiso 1 1 d D
H31A H 0.5486 -0.0293 0.9374 0.040 Uiso 1 1 calc R
H31B H 0.6512 -0.1060 1.0007 0.040 Uiso 1 1 calc R
H31C H 0.5738 -0.1079 0.8526 0.040 Uiso 1 1 calc R
C32 C 0.7316(8) -0.0200(3) 0.9003(8) 0.0199(15) Uiso 1 1 d D
C33 C 0.7486(9) 0.0701(3) 0.8949(8) 0.0177(15) Uiso 1 1 d D
C34 C 0.8739(9) 0.0930(3) 0.8668(8) 0.0180(15) Uiso 1 1 d D
C35 C 0.9210(11) 0.1779(3) 0.8471(8) 0.0161(15) Uiso 1 1 d D
H35 H 0.8725 0.2283 0.8578 0.019 Uiso 1 1 calc R
C36 C 1.0395(10) 0.1858(4) 0.8118(8) 0.0210(16) Uiso 1 1 d D
H36 H 1.0700 0.2421 0.7977 0.025 Uiso 1 1 calc R
C37 C 1.1153(10) 0.1116(3) 0.7966(9) 0.0268(17) Uiso 1 1 d D
H37 H 1.1949 0.1187 0.7719 0.032 Uiso 1 1 calc R
C38 C 1.0724(10) 0.0278(4) 0.8180(8) 0.0228(17) Uiso 1 1 d D
H38 H 1.1239 -0.0218 0.8097 0.027 Uiso 1 1 calc R
C39 C 0.9517(9) 0.0179(3) 0.8522(8) 0.0146(15) Uiso 1 1 d D
F1 F 0.4908(6) 0.3181(2) 0.7688(6) 0.0287(10) Uiso 1 1 d D
F2 F 0.3396(6) 0.23819(19) 0.8209(6) 0.0278(9) Uiso 1 1 d D
F3 F 0.6022(6) 0.34786(18) 1.0027(6) 0.0259(9) Uiso 1 1 d D
F4 F 0.4653(8) 0.2542(2) 1.0532(7) 0.0354(14) Uiso 1 1 d D
F5 F 0.7937(6) 0.23536(19) 1.0529(6) 0.0275(9) Uiso 1 1 d D
F6 F 0.6664(6) 0.14680(19) 1.1236(6) 0.0282(10) Uiso 1 1 d D
S1 S 0.4675(3) 0.11770(9) 0.4291(3) 0.027(3) Uani 1 1 d D
S2 S 0.8677(3) -0.07792(9) 0.8737(3) 0.035(3) Uani 1 1 d D
loop_
_atom_site_aniso_label
_atom_site_aniso_U_11
_atom_site_aniso_U_22
_atom_site_aniso_U_33
_atom_site_aniso_U_23
_atom_site_aniso_U_13
_atom_site_aniso_U_12
S1 0.039(4) 0.0194(8) 0.019(3) -0.0002(9) 0.001(3) 0.0018(11)
S2 0.040(4) 0.0162(8) 0.040(4) 0.0005(9) -0.003(4) 0.0015(11)
loop_
_atom_type_symbol
_atom_type_description
_atom_type_scat_dispersion_real
_atom_type_scat_dispersion_imag
_atom_type_scat_source
C C 0.0029 0.0015 'International Tables Vol C Tables 4.2.6.8 and 6.1.1.4'
H H 0.0000 0.0000 'International Tables Vol C Tables 4.2.6.8 and 6.1.1.4'
F F 0.0165 0.0096 'International Tables Vol C Tables 4.2.6.8 and 6.1.1.4'
S S 0.1188 0.1164 'International Tables Vol C Tables 4.2.6.8 and 6.1.1.4'
loop_
_geom_angle_atom_site_label_1
_geom_angle_atom_site_label_2
_geom_angle_atom_site_label_3
_geom_angle
C5 C1 C13 127.2(8)
C5 C1 C2 111.5(7)
C13 C1 C2 121.0(5)
F1 C2 F2 104.8(5)
F1 C2 C1 112.3(9)
F2 C2 C1 114.0(5)
F1 C2 C3 110.7(5)
F2 C2 C3 108.1(8)
C1 C2 C3 106.8(5)
F4 C3 F3 108.2(8)
F4 C3 C4 112.4(7)
F3 C3 C4 111.0(6)
F4 C3 C2 111.9(7)
F3 C3 C2 109.9(6)
C4 C3 C2 103.6(6)
F6 C4 F5 105.4(5)
F6 C4 C5 112.0(5)
F5 C4 C5 109.8(8)
F6 C4 C3 111.8(8)
F5 C4 C3 111.3(5)
C5 C4 C3 106.6(5)
C1 C5 C33 125.7(8)
C1 C5 C4 111.1(7)
C33 C5 C4 122.7(5)
C13 C12 C11 128.9(6)
C13 C12 S1 111.5(5)
C11 C12 S1 119.4(8)
C12 C13 C14 113.0(7)
C12 C13 C1 122.5(7)
C14 C13 C1 124.4(9)
C15 C14 C19 118.9(6)
C15 C14 C13 130.2(7)
C19 C14 C13 110.7(8)
C16 C15 C14 119.6(9)
C17 C16 C15 119.7(10)
C18 C17 C16 121.1(7)
C17 C18 C19 119.6(9)
C18 C19 C14 120.5(9)
C18 C19 S1 127.1(8)
C14 C19 S1 112.4(5)
C33 C32 C31 128.9(8)
C33 C32 S2 111.9(8)
C31 C32 S2 119.1(5)
C32 C33 C34 112.2(8)
C32 C33 C5 126.6(9)
C34 C33 C5 120.8(6)
C35 C34 C39 118.9(10)
C35 C34 C33 128.0(8)
C39 C34 C33 113.0(6)
C36 C35 C34 119.2(8)
C35 C36 C37 121.7(8)
C38 C37 C36 120.0(11)
C37 C38 C39 119.5(8)
C38 C39 C34 120.6(7)
C38 C39 S2 129.6(6)
C34 C39 S2 109.7(8)
C19 S1 C12 92.1(5)
C32 S2 C39 93.1(4)
loop_
_geom_bond_atom_site_label_1
_geom_bond_atom_site_label_2
_geom_bond_distance
C1 C5 1.336(6)
C1 C13 1.477(10)
C1 C2 1.481(11)
C2 F1 1.348(8)
C2 F2 1.370(10)
C2 C3 1.558(9)
C3 F4 1.310(12)
C3 F3 1.359(7)
C3 C4 1.527(9)
C4 F6 1.347(9)
C4 F5 1.358(8)
C4 C5 1.514(10)
C5 C33 1.448(10)
C11 C12 1.496(10)
C12 C13 1.368(12)
C12 S1 1.729(7)
C13 C14 1.445(8)
C14 C15 1.397(12)
C14 C19 1.394(10)
C15 C16 1.394(8)
C16 C17 1.382(10)
C17 C18 1.360(12)
C18 C19 1.390(7)
C19 S1 1.709(10)
C31 C32 1.483(12)
C32 C33 1.368(7)
C32 S2 1.729(10)
C33 C34 1.435(12)
C34 C35 1.403(9)
C34 C39 1.414(9)
C35 C36 1.372(13)
C36 C37 1.392(10)
C37 C38 1.375(9)
C38 C39 1.390(13)
C39 S2 1.725(8)
loop_
_cod_related_entry_id
_cod_related_entry_database
_cod_related_entry_code
1 PubChem 11408746
