#------------------------------------------------------------------------------
#$Date: 2018-10-12 17:54:13 +0300 (Fri, 12 Oct 2018) $
#$Revision: 211415 $
#$URL: file:///home/coder/svn-repositories/cod/cif/7/21/39/7213980.cif $
#------------------------------------------------------------------------------
#
# This file is available in the Crystallography Open Database (COD),
# http://www.crystallography.net/
#
# All data on this site have been placed in the public domain by the
# contributors.
#
data_7213980
loop_
_publ_author_name
'Woodall, Christopher H.'
'Brayshaw, Simon K.'
'Schiffers, Stefanie'
'Allan, David R.'
'Parsons, Simon'
'Valiente, Rafael'
'Raithby, Paul R.'
_publ_section_title
;
 High-pressure crystallographic and spectroscopic studies on two molecular
 dithienylethene switches
;
_journal_issue                   11
_journal_name_full               CrystEngComm
_journal_page_first              2119
_journal_paper_doi               10.1039/c3ce41933a
_journal_volume                  16
_journal_year                    2014
_chemical_formula_moiety         'C23 H14 F6 S2'
_chemical_formula_sum            'C23 H14 F6 S2'
_chemical_formula_weight         468.46
_chemical_name_common            BenzothiopheneDTE
_chemical_name_systematic
;
 1,2-Bis(2-methyl benzothiophen-3-yl) perfluorocyclopentene
;
_space_group_IT_number           14
_symmetry_cell_setting           monoclinic
_symmetry_space_group_name_Hall  '-P 2yn'
_symmetry_space_group_name_H-M   'P 1 21/n 1'
_atom_sites_solution_hydrogens   geom
_atom_sites_solution_primary     direct
_atom_sites_solution_secondary   difmap
_audit_creation_method           SHELXL-97
_cell_angle_alpha                90.00
_cell_angle_beta                 107.53(16)
_cell_angle_gamma                90.00
_cell_formula_units_Z            4
_cell_length_a                   10.118(18)
_cell_length_b                   15.012(3)
_cell_length_c                   10.877(11)
_cell_measurement_reflns_used    1258
_cell_measurement_temperature    293
_cell_measurement_theta_max      25.4318
_cell_measurement_theta_min      3.3195
_cell_volume                     1575(4)
_computing_cell_refinement
;
CrysAlisPro, Oxford Diffraction Ltd.,
Version 1.171.34.9 (release 08-12-2009 CrysAlis171 .NET)
(compiled Dec  8 2009,17:31:18)
;
_computing_data_collection
;
CrysAlisPro, Oxford Diffraction Ltd.,
Version 1.171.34.9 (release 08-12-2009 CrysAlis171 .NET)
(compiled Dec  8 2009,17:31:18)
;
_computing_data_reduction
;
CrysAlisPro, Oxford Diffraction Ltd.,
Version 1.171.34.9 (release 08-12-2009 CrysAlis171 .NET)
(compiled Dec  8 2009,17:31:18)
;
_computing_structure_refinement  'SHELXL-97 (Sheldrick, 1997)'
_computing_structure_solution    'SIR92 (Altomare et al., 1994)'
_diffrn_ambient_temperature      293
_diffrn_measured_fraction_theta_full 0.305
_diffrn_measured_fraction_theta_max 0.305
_diffrn_measurement_device
;
CrystalLogic Kappa (3 circle)
;
_diffrn_measurement_device_type
;
Rigaku Saturn724+ (2x2 bin mode)
;
_diffrn_measurement_method       ω
_diffrn_radiation_monochromator  Synchrotron
_diffrn_radiation_type           synchrotron
_diffrn_radiation_wavelength     0.6889
_diffrn_reflns_av_R_equivalents  0.0780
_diffrn_reflns_av_sigmaI/netI    0.0728
_diffrn_reflns_limit_h_max       8
_diffrn_reflns_limit_h_min       -8
_diffrn_reflns_limit_k_max       18
_diffrn_reflns_limit_k_min       -18
_diffrn_reflns_limit_l_max       10
_diffrn_reflns_limit_l_min       -10
_diffrn_reflns_number            5291
_diffrn_reflns_theta_full        25.57
_diffrn_reflns_theta_max         25.57
_diffrn_reflns_theta_min         3.33
_exptl_absorpt_coefficient_mu    0.323
_exptl_absorpt_correction_T_max  1.00000
_exptl_absorpt_correction_T_min  0.82288
_exptl_absorpt_correction_type   multi-scan
_exptl_absorpt_process_details
;
CrysAlisPro, Oxford Diffraction Ltd.,
Version 1.171.34.9 (release 08-12-2009 CrysAlis171 .NET)
(compiled Dec  8 2009,17:31:18)
Empirical absorption correction using spherical harmonics,
 implemented in SCALE3 ABSPACK scaling algorithm.
;
_exptl_crystal_colour            colourless
_exptl_crystal_density_diffrn    1.975
_exptl_crystal_description       block
_exptl_crystal_F_000             952
_exptl_crystal_size_max          0.16
_exptl_crystal_size_mid          0.10
_exptl_crystal_size_min          0.10
_refine_diff_density_max         0.346
_refine_diff_density_min         -0.351
_refine_diff_density_rms         0.058
_refine_ls_extinction_method     none
_refine_ls_goodness_of_fit_ref   1.456
_refine_ls_hydrogen_treatment    constr
_refine_ls_matrix_type           full
_refine_ls_number_parameters     137
_refine_ls_number_reflns         992
_refine_ls_number_restraints     69
_refine_ls_restrained_S_all      1.422
_refine_ls_R_factor_all          0.0724
_refine_ls_R_factor_gt           0.0545
_refine_ls_shift/su_max          0.000
_refine_ls_shift/su_mean         0.000
_refine_ls_structure_factor_coef Fsqd
_refine_ls_weighting_details
'calc w=1/[σ²(Fo²)+(0.0339P)²+1.4145P] where P=(Fo²+2Fc²)/3'
_refine_ls_weighting_scheme      calc
_refine_ls_wR_factor_gt          0.1129
_refine_ls_wR_factor_ref         0.1223
_reflns_number_gt                781
_reflns_number_total             992
_reflns_threshold_expression     >2sigma(I)
_cod_data_source_file            c3ce41933a.txt
_cod_data_source_block           5.50GPaBenzothiopheneDTE
_cod_depositor_comments
;
The following automatic conversions were performed:

'_symmetry_cell_setting' value 'Monoclinic' changed to 'monoclinic'
according to
/usr/data/users/saulius/automatic-downloads/current/RSC/lib/dictionaries/cif_core.dic
dictionary named 'cif_core.dic' version 2.4.2 from 2011-04-26.

Automatic conversion script
Id: cif_fix_values 2281 2013-09-26 08:29:07Z andrius 
;
_cod_original_cell_volume        1575(3)
_cod_original_sg_symbol_H-M      'P 1 21/n 1 '
_cod_database_code               7213980
loop_
_symmetry_equiv_pos_as_xyz
x,y,z
-x+1/2,y+1/2,-z+1/2
-x,-y,-z
x-1/2,-y-1/2,z-1/2
loop_
_atom_site_label
_atom_site_type_symbol
_atom_site_fract_x
_atom_site_fract_y
_atom_site_fract_z
_atom_site_U_iso_or_equiv
_atom_site_adp_type
_atom_site_occupancy
_atom_site_symmetry_multiplicity
_atom_site_calc_flag
_atom_site_refinement_flags
C1 C 0.5434(11) 0.1664(3) 0.8048(8) 0.0158(14) Uiso 1 1 d D
C2 C 0.4789(9) 0.2469(3) 0.8390(7) 0.0164(14) Uiso 1 1 d D
C3 C 0.5510(10) 0.2642(4) 0.9854(8) 0.019(2) Uiso 1 1 d D
C4 C 0.6668(9) 0.1955(3) 1.0204(7) 0.0139(14) Uiso 1 1 d D
C5 C 0.6497(10) 0.1379(3) 0.9032(8) 0.0144(14) Uiso 1 1 d D
C11 C 0.6777(11) 0.2193(4) 0.5942(9) 0.0208(15) Uiso 1 1 d D
H11A H 0.6939 0.2542 0.6713 0.031 Uiso 1 1 calc R
H11B H 0.6616 0.2582 0.5211 0.031 Uiso 1 1 calc R
H11C H 0.7573 0.1828 0.6002 0.031 Uiso 1 1 calc R
C12 C 0.5540(9) 0.1614(3) 0.5787(8) 0.0166(15) Uiso 1 1 d D
C13 C 0.5000(9) 0.1317(3) 0.6720(7) 0.0140(14) Uiso 1 1 d D
C14 C 0.3902(9) 0.0672(3) 0.6243(7) 0.0135(14) Uiso 1 1 d D
C15 C 0.3208(10) 0.0130(3) 0.6904(9) 0.0228(16) Uiso 1 1 d D
H15 H 0.3441 0.0152 0.7798 0.027 Uiso 1 1 calc R
C16 C 0.2175(12) -0.0439(4) 0.6208(9) 0.0296(17) Uiso 1 1 d D
H16 H 0.1717 -0.0808 0.6634 0.036 Uiso 1 1 calc R
C17 C 0.1825(11) -0.0457(4) 0.4873(8) 0.0201(15) Uiso 1 1 d D
H17 H 0.1072 -0.0799 0.4410 0.024 Uiso 1 1 calc R
C18 C 0.2547(10) 0.0006(3) 0.4230(9) 0.0158(15) Uiso 1 1 d D
H18 H 0.2342 -0.0050 0.3340 0.019 Uiso 1 1 calc R
C19 C 0.3599(9) 0.0570(3) 0.4912(7) 0.0127(14) Uiso 1 1 d D
C31 C 0.6155(11) -0.0706(3) 0.9249(9) 0.0228(16) Uiso 1 1 d D
H31A H 0.5481 -0.0296 0.9378 0.034 Uiso 1 1 calc R
H31B H 0.6506 -0.1068 1.0005 0.034 Uiso 1 1 calc R
H31C H 0.5730 -0.1080 0.8522 0.034 Uiso 1 1 calc R
C32 C 0.7312(9) -0.0203(3) 0.9006(7) 0.0190(15) Uiso 1 1 d D
C33 C 0.7499(10) 0.0703(3) 0.8949(8) 0.0154(15) Uiso 1 1 d D
C34 C 0.8744(10) 0.0935(3) 0.8674(7) 0.0162(15) Uiso 1 1 d D
C35 C 0.9220(12) 0.1784(4) 0.8481(8) 0.0151(16) Uiso 1 1 d D
H35 H 0.8739 0.2290 0.8592 0.018 Uiso 1 1 calc R
C36 C 1.0403(11) 0.1858(4) 0.8124(8) 0.0188(17) Uiso 1 1 d D
H36 H 1.0710 0.2421 0.7982 0.023 Uiso 1 1 calc R
C37 C 1.1157(11) 0.1117(3) 0.7971(8) 0.0257(16) Uiso 1 1 d D
H37 H 1.1954 0.1184 0.7722 0.031 Uiso 1 1 calc R
C38 C 1.0713(11) 0.0274(4) 0.8190(8) 0.0208(17) Uiso 1 1 d D
H38 H 1.1227 -0.0225 0.8111 0.025 Uiso 1 1 calc R
C39 C 0.9501(10) 0.0174(3) 0.8528(7) 0.0149(15) Uiso 1 1 d D
F1 F 0.4905(7) 0.31845(19) 0.7698(5) 0.0250(9) Uiso 1 1 d D
F2 F 0.3398(7) 0.23855(19) 0.8211(5) 0.0262(9) Uiso 1 1 d D
F3 F 0.6027(7) 0.34834(18) 1.0029(6) 0.0237(9) Uiso 1 1 d D
F4 F 0.4662(9) 0.2546(2) 1.0544(7) 0.0320(14) Uiso 1 1 d D
F5 F 0.7930(7) 0.23568(19) 1.0540(5) 0.0262(9) Uiso 1 1 d D
F6 F 0.6658(7) 0.14720(18) 1.1259(5) 0.0265(10) Uiso 1 1 d D
S1 S 0.4685(3) 0.11777(9) 0.4289(3) 0.028(3) Uani 1 1 d D
S2 S 0.8675(4) -0.07850(8) 0.8740(3) 0.029(4) Uani 1 1 d D
loop_
_atom_site_aniso_label
_atom_site_aniso_U_11
_atom_site_aniso_U_22
_atom_site_aniso_U_33
_atom_site_aniso_U_23
_atom_site_aniso_U_13
_atom_site_aniso_U_12
S1 0.042(5) 0.0167(8) 0.018(3) -0.0004(9) -0.002(4) 0.0022(12)
S2 0.036(5) 0.0131(8) 0.032(3) 0.0016(9) 0.000(4) -0.0004(11)
loop_
_atom_type_symbol
_atom_type_description
_atom_type_scat_dispersion_real
_atom_type_scat_dispersion_imag
_atom_type_scat_source
C C 0.0029 0.0015 'International Tables Vol C Tables 4.2.6.8 and 6.1.1.4'
H H 0.0000 0.0000 'International Tables Vol C Tables 4.2.6.8 and 6.1.1.4'
F F 0.0165 0.0096 'International Tables Vol C Tables 4.2.6.8 and 6.1.1.4'
S S 0.1188 0.1164 'International Tables Vol C Tables 4.2.6.8 and 6.1.1.4'
loop_
_geom_angle_atom_site_label_1
_geom_angle_atom_site_label_2
_geom_angle_atom_site_label_3
_geom_angle
C5 C1 C2 111.8(6)
C5 C1 C13 127.0(8)
C2 C1 C13 120.9(5)
F1 C2 F2 104.8(5)
F1 C2 C1 113.3(9)
F2 C2 C1 113.8(5)
F1 C2 C3 110.3(5)
F2 C2 C3 107.8(8)
C1 C2 C3 106.7(5)
F4 C3 F3 108.3(8)
F4 C3 C4 111.8(7)
F3 C3 C4 111.1(7)
F4 C3 C2 112.4(7)
F3 C3 C2 109.9(6)
C4 C3 C2 103.3(6)
F5 C4 F6 104.7(5)
F5 C4 C5 109.9(8)
F6 C4 C5 112.3(5)
F5 C4 C3 110.9(5)
F6 C4 C3 111.9(9)
C5 C4 C3 107.1(5)
C1 C5 C33 125.5(8)
C1 C5 C4 110.6(7)
C33 C5 C4 123.2(5)
C13 C12 C11 128.1(6)
C13 C12 S1 112.2(6)
C11 C12 S1 119.5(8)
C12 C13 C14 112.9(7)
C12 C13 C1 123.1(7)
C14 C13 C1 123.9(9)
C19 C14 C15 118.6(6)
C19 C14 C13 110.5(8)
C15 C14 C13 130.7(7)
C16 C15 C14 119.2(9)
C15 C16 C17 119.8(11)
C18 C17 C16 121.7(7)
C17 C18 C19 119.1(8)
C18 C19 C14 121.0(9)
C18 C19 S1 126.4(8)
C14 C19 S1 112.6(5)
C33 C32 C31 129.6(9)
C33 C32 S2 111.4(8)
C31 C32 S2 119.0(5)
C32 C33 C34 113.1(8)
C32 C33 C5 125.3(10)
C34 C33 C5 121.3(6)
C35 C34 C39 119.8(10)
C35 C34 C33 128.3(8)
C39 C34 C33 111.8(7)
C36 C35 C34 119.1(9)
C35 C36 C37 121.9(9)
C36 C37 C38 119.5(11)
C39 C38 C37 120.1(9)
C38 C39 C34 119.6(7)
C38 C39 S2 129.1(6)
C34 C39 S2 111.2(8)
C19 S1 C12 91.6(5)
C39 S2 C32 92.5(5)
loop_
_geom_bond_atom_site_label_1
_geom_bond_atom_site_label_2
_geom_bond_distance
C1 C5 1.339(7)
C1 C2 1.474(11)
C1 C13 1.473(9)
C2 F1 1.337(7)
C2 F2 1.368(10)
C2 C3 1.561(9)
C3 F4 1.307(13)
C3 F3 1.358(7)
C3 C4 1.521(9)
C4 F5 1.359(9)
C4 F6 1.360(9)
C4 C5 1.507(10)
C5 C33 1.456(10)
C11 C12 1.491(11)
C12 C13 1.365(12)
C12 S1 1.727(7)
C13 C14 1.447(8)
C14 C19 1.396(10)
C14 C15 1.406(12)
C15 C16 1.385(8)
C16 C17 1.388(10)
C17 C18 1.347(12)
C18 C19 1.387(7)
C19 S1 1.717(10)
C31 C32 1.482(12)
C32 C33 1.378(7)
C32 S2 1.730(10)
C33 C34 1.423(12)
C34 C35 1.401(9)
C34 C39 1.410(10)
C35 C36 1.369(13)
C36 C37 1.388(10)
C37 C38 1.386(9)
C38 C39 1.391(13)
C39 S2 1.715(8)
