#------------------------------------------------------------------------------
#$Date: 2025-08-22 17:55:42 +0300 (Fri, 22 Aug 2025) $
#$Revision: 301864 $
#$URL: file:///home/coder/svn-repositories/cod/cif/7/21/39/7213982.cif $
#------------------------------------------------------------------------------
#
# This file is available in the Crystallography Open Database (COD),
# http://www.crystallography.net/
#
# All data on this site have been placed in the public domain by the
# contributors.
#
data_7213982
loop_
_publ_author_name
'Woodall, Christopher H.'
'Brayshaw, Simon K.'
'Schiffers, Stefanie'
'Allan, David R.'
'Parsons, Simon'
'Valiente, Rafael'
'Raithby, Paul R.'
_publ_section_title
;
 High-pressure crystallographic and spectroscopic studies on two molecular
 dithienylethene switches
;
_journal_issue                   11
_journal_name_full               CrystEngComm
_journal_page_first              2119
_journal_paper_doi               10.1039/c3ce41933a
_journal_volume                  16
_journal_year                    2014
_chemical_formula_moiety         'C23 H14 F6 S2'
_chemical_formula_sum            'C23 H14 F6 S2'
_chemical_formula_weight         468.46
_chemical_name_common            BenzothiopheneDTE
_chemical_name_systematic
;
 1,2-Bis(2-methyl benzothiophen-3-yl) perfluorocyclopentene
;
_space_group_IT_number           14
_symmetry_cell_setting           monoclinic
_symmetry_space_group_name_Hall  '-P 2yn'
_symmetry_space_group_name_H-M   'P 1 21/n 1'
_atom_sites_solution_hydrogens   geom
_atom_sites_solution_primary     direct
_atom_sites_solution_secondary   difmap
_audit_creation_method           SHELXL-97
_cell_angle_alpha                90.00
_cell_angle_beta                 107.39(3)
_cell_angle_gamma                90.00
_cell_formula_units_Z            4
_cell_length_a                   10.052(2)
_cell_length_b                   14.932(3)
_cell_length_c                   10.789(2)
_cell_measurement_reflns_used    2294
_cell_measurement_temperature    293
_cell_measurement_theta_max      29.3887
_cell_measurement_theta_min      2.3181
_cell_volume                     1545.4(6)
_computing_cell_refinement
;
CrysAlisPro, Oxford Diffraction Ltd.,
Version 1.171.34.9 (release 08-12-2009 CrysAlis171 .NET)
(compiled Dec  8 2009,17:31:18)
;
_computing_data_collection
;
CrysAlisPro, Oxford Diffraction Ltd.,
Version 1.171.34.9 (release 08-12-2009 CrysAlis171 .NET)
(compiled Dec  8 2009,17:31:18)
;
_computing_data_reduction
;
CrysAlisPro, Oxford Diffraction Ltd.,
Version 1.171.34.9 (release 08-12-2009 CrysAlis171 .NET)
(compiled Dec  8 2009,17:31:18)
;
_computing_structure_refinement  'SHELXL-97 (Sheldrick, 1997)'
_computing_structure_solution    'SIR92 (Altomare et al., 1994)'
_diffrn_ambient_temperature      293
_diffrn_measured_fraction_theta_full 0.357
_diffrn_measured_fraction_theta_max 0.357
_diffrn_measurement_device
;
CrystalLogic Kappa (3 circle)
;
_diffrn_measurement_device_type
;
Rigaku Saturn724+ (2x2 bin mode)
;
_diffrn_measurement_method       ω
_diffrn_radiation_monochromator  Synchrotron
_diffrn_radiation_type           synchrotron
_diffrn_radiation_wavelength     0.6889
_diffrn_reflns_av_R_equivalents  0.0921
_diffrn_reflns_av_sigmaI/netI    0.0849
_diffrn_reflns_limit_h_max       8
_diffrn_reflns_limit_h_min       -8
_diffrn_reflns_limit_k_max       16
_diffrn_reflns_limit_k_min       -16
_diffrn_reflns_limit_l_max       9
_diffrn_reflns_limit_l_min       -9
_diffrn_reflns_number            4424
_diffrn_reflns_theta_full        22.60
_diffrn_reflns_theta_max         22.60
_diffrn_reflns_theta_min         3.35
_exptl_absorpt_coefficient_mu    0.329
_exptl_absorpt_correction_T_max  1.00000
_exptl_absorpt_correction_T_min  0.24565
_exptl_absorpt_correction_type   multi-scan
_exptl_absorpt_process_details
;
CrysAlisPro, Oxford Diffraction Ltd.,
Version 1.171.34.9 (release 08-12-2009 CrysAlis171 .NET)
(compiled Dec  8 2009,17:31:18)
Empirical absorption correction using spherical harmonics,
 implemented in SCALE3 ABSPACK scaling algorithm.
;
_exptl_crystal_colour            colourless
_exptl_crystal_density_diffrn    2.013
_exptl_crystal_description       block
_exptl_crystal_F_000             952
_exptl_crystal_size_max          0.16
_exptl_crystal_size_mid          0.10
_exptl_crystal_size_min          0.10
_refine_diff_density_max         0.279
_refine_diff_density_min         -0.283
_refine_diff_density_rms         0.060
_refine_ls_extinction_method     none
_refine_ls_goodness_of_fit_ref   1.261
_refine_ls_hydrogen_treatment    constr
_refine_ls_matrix_type           full
_refine_ls_number_parameters     137
_refine_ls_number_reflns         801
_refine_ls_number_restraints     68
_refine_ls_restrained_S_all      1.218
_refine_ls_R_factor_all          0.0710
_refine_ls_R_factor_gt           0.0504
_refine_ls_shift/su_max          0.000
_refine_ls_shift/su_mean         0.000
_refine_ls_structure_factor_coef Fsqd
_refine_ls_weighting_details
'calc w=1/[σ²(Fo²)+(0.0339P)²+1.4145P] where P=(Fo²+2Fc²)/3'
_refine_ls_weighting_scheme      calc
_refine_ls_wR_factor_gt          0.1042
_refine_ls_wR_factor_ref         0.1170
_reflns_number_gt                620
_reflns_number_total             801
_reflns_threshold_expression     >2sigma(I)
_cod_data_source_file            c3ce41933a.txt
_cod_data_source_block           6.56GPaBenzothiopheneDTE
_cod_depositor_comments
;
The following automatic conversions were performed:

'_symmetry_cell_setting' value 'Monoclinic' changed to 'monoclinic'
according to
/usr/data/users/saulius/automatic-downloads/current/RSC/lib/dictionaries/cif_core.dic
dictionary named 'cif_core.dic' version 2.4.2 from 2011-04-26.

Automatic conversion script
Id: cif_fix_values 2281 2013-09-26 08:29:07Z andrius 
;
_cod_original_cell_volume        1545.4(5)
_cod_original_sg_symbol_H-M      'P 1 21/n 1 '
_cod_database_code               7213982
loop_
_symmetry_equiv_pos_as_xyz
x,y,z
-x+1/2,y+1/2,-z+1/2
-x,-y,-z
x-1/2,-y-1/2,z-1/2
loop_
_atom_site_label
_atom_site_type_symbol
_atom_site_fract_x
_atom_site_fract_y
_atom_site_fract_z
_atom_site_U_iso_or_equiv
_atom_site_adp_type
_atom_site_occupancy
_atom_site_symmetry_multiplicity
_atom_site_calc_flag
_atom_site_refinement_flags
C1 C 0.5431(11) 0.1661(4) 0.8066(10) 0.0151(17) Uiso 1 1 d D
C2 C 0.4798(10) 0.2481(4) 0.8407(8) 0.0139(17) Uiso 1 1 d D
C3 C 0.5526(11) 0.2650(4) 0.9872(9) 0.019(3) Uiso 1 1 d D
C4 C 0.6685(9) 0.1959(4) 1.0236(8) 0.0139(17) Uiso 1 1 d D
C5 C 0.6495(11) 0.1381(4) 0.9054(9) 0.0122(17) Uiso 1 1 d D
C11 C 0.6820(12) 0.2189(4) 0.5969(11) 0.0188(18) Uiso 1 1 d D
H11A H 0.6963 0.2553 0.6731 0.028 Uiso 1 1 calc R
H11B H 0.6687 0.2567 0.5222 0.028 Uiso 1 1 calc R
H11C H 0.7620 0.1814 0.6062 0.028 Uiso 1 1 calc R
C12 C 0.5565(10) 0.1619(4) 0.5800(9) 0.0130(18) Uiso 1 1 d D
C13 C 0.5010(10) 0.1319(4) 0.6727(9) 0.0123(17) Uiso 1 1 d D
C14 C 0.3897(10) 0.0675(4) 0.6239(9) 0.0131(18) Uiso 1 1 d D
C15 C 0.3198(11) 0.0131(4) 0.6903(10) 0.0205(19) Uiso 1 1 d D
H15 H 0.3421 0.0151 0.7804 0.025 Uiso 1 1 calc R
C16 C 0.2163(12) -0.0439(4) 0.6177(10) 0.027(2) Uiso 1 1 d D
H16 H 0.1702 -0.0815 0.6599 0.032 Uiso 1 1 calc R
C17 C 0.1808(11) -0.0453(4) 0.4832(9) 0.0189(19) Uiso 1 1 d D
H17 H 0.1043 -0.0789 0.4365 0.023 Uiso 1 1 calc R
C18 C 0.2549(11) 0.0010(4) 0.4184(10) 0.0150(18) Uiso 1 1 d D
H18 H 0.2360 -0.0048 0.3289 0.018 Uiso 1 1 calc R
C19 C 0.3605(9) 0.0575(4) 0.4897(8) 0.0136(17) Uiso 1 1 d D
C31 C 0.6123(11) -0.0716(4) 0.9252(10) 0.0184(18) Uiso 1 1 d D
H31A H 0.5426 -0.0303 0.9343 0.028 Uiso 1 1 calc R
H31B H 0.6458 -0.1064 1.0032 0.028 Uiso 1 1 calc R
H31C H 0.5725 -0.1107 0.8530 0.028 Uiso 1 1 calc R
C32 C 0.7297(9) -0.0212(4) 0.9023(9) 0.0163(18) Uiso 1 1 d D
C33 C 0.7485(10) 0.0690(4) 0.8978(9) 0.0146(18) Uiso 1 1 d D
C34 C 0.8744(10) 0.0925(4) 0.8689(9) 0.0152(18) Uiso 1 1 d D
C35 C 0.9218(13) 0.1783(4) 0.8514(10) 0.0156(19) Uiso 1 1 d D
H35 H 0.8736 0.2291 0.8635 0.019 Uiso 1 1 calc R
C36 C 1.0412(12) 0.1852(4) 0.8159(10) 0.017(2) Uiso 1 1 d D
H36 H 1.0725 0.2419 0.8020 0.021 Uiso 1 1 calc R
C37 C 1.1171(11) 0.1109(4) 0.7999(10) 0.023(2) Uiso 1 1 d D
H37 H 1.1977 0.1182 0.7755 0.028 Uiso 1 1 calc R
C38 C 1.0735(12) 0.0269(4) 0.8200(10) 0.019(2) Uiso 1 1 d D
H38 H 1.1252 -0.0231 0.8112 0.023 Uiso 1 1 calc R
C39 C 0.9515(11) 0.0169(4) 0.8535(9) 0.0147(18) Uiso 1 1 d D
F1 F 0.4920(7) 0.3194(2) 0.7695(6) 0.0243(11) Uiso 1 1 d D
F2 F 0.3397(7) 0.2400(2) 0.8224(7) 0.0261(11) Uiso 1 1 d D
F3 F 0.6034(7) 0.3498(2) 1.0052(7) 0.0222(11) Uiso 1 1 d D
F4 F 0.4661(9) 0.2564(3) 1.0563(8) 0.0299(16) Uiso 1 1 d D
F5 F 0.7950(7) 0.2365(2) 1.0551(6) 0.0237(11) Uiso 1 1 d D
F6 F 0.6671(7) 0.1481(2) 1.1297(6) 0.0239(11) Uiso 1 1 d D
S1 S 0.4715(4) 0.11817(10) 0.4282(3) 0.027(4) Uani 1 1 d D
S2 S 0.8671(4) -0.07960(10) 0.8740(3) 0.030(4) Uani 1 1 d D
loop_
_atom_site_aniso_label
_atom_site_aniso_U_11
_atom_site_aniso_U_22
_atom_site_aniso_U_33
_atom_site_aniso_U_23
_atom_site_aniso_U_13
_atom_site_aniso_U_12
S1 0.041(5) 0.0159(10) 0.017(4) -0.0003(11) -0.003(4) 0.0022(13)
S2 0.038(5) 0.0142(10) 0.028(4) 0.0013(11) -0.002(4) 0.0003(13)
loop_
_atom_type_symbol
_atom_type_description
_atom_type_scat_dispersion_real
_atom_type_scat_dispersion_imag
_atom_type_scat_source
C C 0.0029 0.0015 'International Tables Vol C Tables 4.2.6.8 and 6.1.1.4'
H H 0.0000 0.0000 'International Tables Vol C Tables 4.2.6.8 and 6.1.1.4'
F F 0.0165 0.0096 'International Tables Vol C Tables 4.2.6.8 and 6.1.1.4'
S S 0.1188 0.1164 'International Tables Vol C Tables 4.2.6.8 and 6.1.1.4'
loop_
_geom_angle_atom_site_label_1
_geom_angle_atom_site_label_2
_geom_angle_atom_site_label_3
_geom_angle
C5 C1 C13 127.1(9)
C5 C1 C2 111.3(7)
C13 C1 C2 121.0(5)
F1 C2 F2 104.7(5)
F1 C2 C1 113.3(10)
F2 C2 C1 113.1(6)
F1 C2 C3 111.0(5)
F2 C2 C3 108.3(9)
C1 C2 C3 106.4(5)
F4 C3 F3 107.2(9)
F4 C3 C4 112.0(8)
F3 C3 C4 111.7(7)
F4 C3 C2 111.9(8)
F3 C3 C2 109.9(7)
C4 C3 C2 104.2(7)
F5 C4 F6 105.7(5)
F5 C4 C5 109.9(9)
F6 C4 C5 112.5(6)
F5 C4 C3 110.5(5)
F6 C4 C3 112.1(9)
C5 C4 C3 106.1(5)
C1 C5 C33 125.3(9)
C1 C5 C4 111.5(7)
C33 C5 C4 122.7(5)
C13 C12 C11 128.2(8)
C13 C12 S1 112.1(6)
C11 C12 S1 119.5(8)
C12 C13 C14 113.2(8)
C12 C13 C1 123.2(7)
C14 C13 C1 123.5(10)
C19 C14 C15 119.1(6)
C19 C14 C13 110.3(9)
C15 C14 C13 130.4(8)
C16 C15 C14 118.1(10)
C17 C16 C15 121.0(11)
C18 C17 C16 121.5(8)
C17 C18 C19 118.0(10)
C18 C19 C14 121.8(10)
C18 C19 S1 125.5(9)
C14 C19 S1 112.7(5)
C33 C32 C31 129.4(9)
C33 C32 S2 111.3(9)
C31 C32 S2 119.3(5)
C32 C33 C34 113.0(9)
C32 C33 C5 126.5(10)
C34 C33 C5 120.1(7)
C35 C34 C39 119.8(11)
C35 C34 C33 127.7(9)
C39 C34 C33 112.4(7)
C36 C35 C34 118.0(10)
C35 C36 C37 122.4(9)
C38 C37 C36 120.0(12)
C37 C38 C39 119.4(10)
C38 C39 C34 120.4(8)
C38 C39 S2 129.2(6)
C34 C39 S2 110.3(8)
C19 S1 C12 91.6(5)
C39 S2 C32 92.9(5)
loop_
_geom_bond_atom_site_label_1
_geom_bond_atom_site_label_2
_geom_bond_distance
C1 C5 1.332(7)
C1 C13 1.470(11)
C1 C2 1.476(12)
C2 F1 1.340(9)
C2 F2 1.367(10)
C2 C3 1.551(10)
C3 F4 1.310(13)
C3 F3 1.357(7)
C3 C4 1.517(10)
C4 F5 1.356(9)
C4 F6 1.353(10)
C4 C5 1.504(10)
C5 C33 1.453(11)
C11 C12 1.487(11)
C12 C13 1.358(13)
C12 S1 1.733(7)
C13 C14 1.450(9)
C14 C19 1.396(11)
C14 C15 1.403(13)
C15 C16 1.390(8)
C16 C17 1.386(11)
C17 C18 1.355(13)
C18 C19 1.394(8)
C19 S1 1.716(11)
C31 C32 1.481(12)
C32 C33 1.362(8)
C32 S2 1.736(10)
C33 C34 1.434(12)
C34 C35 1.399(9)
C34 C39 1.408(10)
C35 C36 1.368(13)
C36 C37 1.387(11)
C37 C38 1.368(9)
C38 C39 1.387(13)
C39 S2 1.719(9)
loop_
_cod_related_entry_id
_cod_related_entry_database
_cod_related_entry_code
1 PubChem 11408746
