#------------------------------------------------------------------------------
#$Date: 2025-08-22 17:55:42 +0300 (Fri, 22 Aug 2025) $
#$Revision: 301864 $
#$URL: file:///home/coder/svn-repositories/cod/cif/7/21/39/7213983.cif $
#------------------------------------------------------------------------------
#
# This file is available in the Crystallography Open Database (COD),
# http://www.crystallography.net/
#
# All data on this site have been placed in the public domain by the
# contributors.
#
data_7213983
loop_
_publ_author_name
'Woodall, Christopher H.'
'Brayshaw, Simon K.'
'Schiffers, Stefanie'
'Allan, David R.'
'Parsons, Simon'
'Valiente, Rafael'
'Raithby, Paul R.'
_publ_section_title
;
 High-pressure crystallographic and spectroscopic studies on two molecular
 dithienylethene switches
;
_journal_issue                   11
_journal_name_full               CrystEngComm
_journal_page_first              2119
_journal_paper_doi               10.1039/c3ce41933a
_journal_volume                  16
_journal_year                    2014
_chemical_formula_moiety         'C23 H14 F6 S2'
_chemical_formula_sum            'C23 H14 F6 S2'
_chemical_formula_weight         468.46
_chemical_name_common            BenzothiopheneDTE
_chemical_name_systematic
;
 1,2-Bis(2-methyl benzothiophen-3-yl) perfluorocyclopentene
;
_space_group_IT_number           14
_symmetry_cell_setting           monoclinic
_symmetry_space_group_name_Hall  '-P 2yn'
_symmetry_space_group_name_H-M   'P 1 21/n 1'
_atom_sites_solution_hydrogens   geom
_atom_sites_solution_primary     direct
_atom_sites_solution_secondary   difmap
_audit_creation_method           SHELXL-97
_cell_angle_alpha                90.00
_cell_angle_beta                 107.35(3)
_cell_angle_gamma                90.00
_cell_formula_units_Z            4
_cell_length_a                   9.985(2)
_cell_length_b                   14.855(3)
_cell_length_c                   10.722(2)
_cell_measurement_reflns_used    1072
_cell_measurement_temperature    293
_cell_measurement_theta_max      25.9836
_cell_measurement_theta_min      3.3521
_cell_volume                     1518.0(6)
_diffrn_ambient_temperature      293
_diffrn_measured_fraction_theta_full 0.334
_diffrn_measured_fraction_theta_max 0.334
_diffrn_measurement_device
;
CrystalLogic Kappa (3 circle)
;
_diffrn_measurement_device_type
;
Rigaku Saturn724+ (2x2 bin mode)
;
_diffrn_measurement_method       ω
_diffrn_radiation_monochromator  Synchrotron
_diffrn_radiation_type           synchrotron
_diffrn_radiation_wavelength     0.6889
_diffrn_reflns_av_R_equivalents  0.1450
_diffrn_reflns_av_sigmaI/netI    0.1164
_diffrn_reflns_limit_h_max       7
_diffrn_reflns_limit_h_min       -7
_diffrn_reflns_limit_k_max       16
_diffrn_reflns_limit_k_min       -16
_diffrn_reflns_limit_l_max       9
_diffrn_reflns_limit_l_min       -8
_diffrn_reflns_number            2902
_diffrn_reflns_theta_full        22.32
_diffrn_reflns_theta_max         22.32
_diffrn_reflns_theta_min         3.29
_exptl_absorpt_coefficient_mu    0.335
_exptl_absorpt_correction_T_max  1.00000
_exptl_absorpt_correction_T_min  0.08663
_exptl_absorpt_correction_type   multi-scan
_exptl_absorpt_process_details
;
CrysAlisPro, Oxford Diffraction Ltd.,
Version 1.171.34.9 (release 08-12-2009 CrysAlis171 .NET)
(compiled Dec  8 2009,17:31:18)
Empirical absorption correction using spherical harmonics,
 implemented in SCALE3 ABSPACK scaling algorithm.
;
_exptl_crystal_colour            colourless
_exptl_crystal_density_diffrn    2.050
_exptl_crystal_description       block
_exptl_crystal_F_000             952
_exptl_crystal_size_max          0.16
_exptl_crystal_size_mid          0.10
_exptl_crystal_size_min          0.10
_refine_diff_density_max         0.311
_refine_diff_density_min         -0.375
_refine_diff_density_rms         0.088
_refine_ls_extinction_method     none
_refine_ls_goodness_of_fit_ref   1.131
_refine_ls_hydrogen_treatment    constr
_refine_ls_matrix_type           full
_refine_ls_number_parameters     137
_refine_ls_number_reflns         711
_refine_ls_number_restraints     68
_refine_ls_restrained_S_all      1.083
_refine_ls_R_factor_all          0.1027
_refine_ls_R_factor_gt           0.0780
_refine_ls_shift/su_max          0.000
_refine_ls_shift/su_mean         0.000
_refine_ls_structure_factor_coef Fsqd
_refine_ls_weighting_details
'calc w=1/[σ²(Fo²)+(0.1171P)²+3.0025P] where P=(Fo²+2Fc²)/3'
_refine_ls_weighting_scheme      calc
_refine_ls_wR_factor_gt          0.1827
_refine_ls_wR_factor_ref         0.2080
_reflns_number_gt                542
_reflns_number_total             711
_reflns_threshold_expression     >2sigma(I)
_cod_data_source_file            c3ce41933a.txt
_cod_data_source_block           7.40GPaBenzothiopheneDTE
_cod_depositor_comments
;
The following automatic conversions were performed:

'_symmetry_cell_setting' value 'Monoclinic' changed to 'monoclinic'
according to
/usr/data/users/saulius/automatic-downloads/current/RSC/lib/dictionaries/cif_core.dic
dictionary named 'cif_core.dic' version 2.4.2 from 2011-04-26.

Automatic conversion script
Id: cif_fix_values 2281 2013-09-26 08:29:07Z andrius 
;
_cod_original_cell_volume        1517.9(5)
_cod_original_sg_symbol_H-M      'P 1 21/n 1 '
_cod_database_code               7213983
loop_
_symmetry_equiv_pos_as_xyz
x,y,z
-x+1/2,y+1/2,-z+1/2
-x,-y,-z
x-1/2,-y-1/2,z-1/2
loop_
_atom_site_label
_atom_site_type_symbol
_atom_site_fract_x
_atom_site_fract_y
_atom_site_fract_z
_atom_site_U_iso_or_equiv
_atom_site_adp_type
_atom_site_occupancy
_atom_site_symmetry_multiplicity
_atom_site_calc_flag
_atom_site_refinement_flags
C1 C 0.5421(18) 0.1662(6) 0.8081(13) 0.013(3) Uiso 1 1 d D
C2 C 0.4768(13) 0.2498(5) 0.8422(10) 0.006(3) Uiso 1 1 d D
C3 C 0.5527(15) 0.2663(6) 0.9900(13) 0.010(4) Uiso 1 1 d D
C4 C 0.6703(12) 0.1970(5) 1.0261(10) 0.006(3) Uiso 1 1 d D
C5 C 0.6499(15) 0.1383(6) 0.9095(12) 0.006(2) Uiso 1 1 d D
C11 C 0.6880(18) 0.2187(7) 0.5998(17) 0.016(3) Uiso 1 1 d D
H11A H 0.7021 0.2550 0.6767 0.025 Uiso 1 1 calc R
H11B H 0.6771 0.2569 0.5252 0.025 Uiso 1 1 calc R
H11C H 0.7677 0.1801 0.6100 0.025 Uiso 1 1 calc R
C12 C 0.5588(14) 0.1625(6) 0.5801(11) 0.007(3) Uiso 1 1 d D
C13 C 0.5016(14) 0.1314(6) 0.6730(12) 0.010(3) Uiso 1 1 d D
C14 C 0.3880(14) 0.0672(6) 0.6259(12) 0.012(3) Uiso 1 1 d D
C15 C 0.3168(16) 0.0119(6) 0.6913(14) 0.016(3) Uiso 1 1 d D
H15 H 0.3391 0.0125 0.7819 0.019 Uiso 1 1 calc R
C16 C 0.2126(18) -0.0433(6) 0.6162(14) 0.015(3) Uiso 1 1 d D
H16 H 0.1638 -0.0801 0.6578 0.018 Uiso 1 1 calc R
C17 C 0.1775(17) -0.0458(6) 0.4795(13) 0.010(3) Uiso 1 1 d D
H17 H 0.1008 -0.0794 0.4315 0.012 Uiso 1 1 calc R
C18 C 0.2559(16) 0.0010(6) 0.4169(15) 0.009(3) Uiso 1 1 d D
H18 H 0.2402 -0.0052 0.3274 0.011 Uiso 1 1 calc R
C19 C 0.3606(12) 0.0586(6) 0.4908(11) 0.006(3) Uiso 1 1 d D
C31 C 0.6081(16) -0.0729(6) 0.9258(15) 0.014(3) Uiso 1 1 d D
H31A H 0.5425 -0.0308 0.9426 0.021 Uiso 1 1 calc R
H31B H 0.6416 -0.1124 0.9994 0.021 Uiso 1 1 calc R
H31C H 0.5626 -0.1076 0.8494 0.021 Uiso 1 1 calc R
C32 C 0.7287(12) -0.0229(6) 0.9042(13) 0.011(3) Uiso 1 1 d D
C33 C 0.7500(14) 0.0681(5) 0.8990(13) 0.009(3) Uiso 1 1 d D
C34 C 0.8773(14) 0.0925(5) 0.8712(13) 0.011(3) Uiso 1 1 d D
C35 C 0.922(2) 0.1790(6) 0.8527(13) 0.008(3) Uiso 1 1 d D
H35 H 0.8715 0.2295 0.8638 0.010 Uiso 1 1 calc R
C36 C 1.0430(19) 0.1872(6) 0.8173(13) 0.007(3) Uiso 1 1 d D
H36 H 1.0743 0.2442 0.8033 0.008 Uiso 1 1 calc R
C37 C 1.1195(17) 0.1122(5) 0.8020(15) 0.019(3) Uiso 1 1 d D
H37 H 1.2011 0.1198 0.7783 0.023 Uiso 1 1 calc R
C38 C 1.0764(16) 0.0264(6) 0.8215(13) 0.009(3) Uiso 1 1 d D
H38 H 1.1292 -0.0237 0.8135 0.011 Uiso 1 1 calc R
C39 C 0.9517(14) 0.0167(5) 0.8535(12) 0.008(3) Uiso 1 1 d D
F1 F 0.4933(12) 0.3202(3) 0.7710(9) 0.0163(17) Uiso 1 1 d D
F2 F 0.3371(12) 0.2414(3) 0.8256(10) 0.0192(18) Uiso 1 1 d D
F3 F 0.6042(12) 0.3515(3) 1.0072(10) 0.0149(17) Uiso 1 1 d D
F4 F 0.4662(15) 0.2580(4) 1.0598(12) 0.022(2) Uiso 1 1 d D
F5 F 0.7975(11) 0.2377(3) 1.0565(10) 0.0176(17) Uiso 1 1 d D
F6 F 0.6699(11) 0.1491(3) 1.1333(9) 0.0162(17) Uiso 1 1 d D
S1 S 0.4739(6) 0.11847(16) 0.4277(5) 0.033(6) Uani 1 1 d D
S2 S 0.8669(6) -0.08102(16) 0.8743(5) 0.034(6) Uani 1 1 d D
loop_
_atom_site_aniso_label
_atom_site_aniso_U_11
_atom_site_aniso_U_22
_atom_site_aniso_U_33
_atom_site_aniso_U_23
_atom_site_aniso_U_13
_atom_site_aniso_U_12
S1 0.062(8) 0.0093(15) 0.009(6) -0.0004(16) -0.018(7) -0.0009(19)
S2 0.058(8) 0.0053(15) 0.021(5) 0.0039(15) -0.016(6) -0.0026(18)
loop_
_atom_type_symbol
_atom_type_description
_atom_type_scat_dispersion_real
_atom_type_scat_dispersion_imag
_atom_type_scat_source
C C 0.0029 0.0015 'International Tables Vol C Tables 4.2.6.8 and 6.1.1.4'
H H 0.0000 0.0000 'International Tables Vol C Tables 4.2.6.8 and 6.1.1.4'
F F 0.0165 0.0096 'International Tables Vol C Tables 4.2.6.8 and 6.1.1.4'
S S 0.1188 0.1164 'International Tables Vol C Tables 4.2.6.8 and 6.1.1.4'
loop_
_geom_angle_atom_site_label_1
_geom_angle_atom_site_label_2
_geom_angle_atom_site_label_3
_geom_angle
C5 C1 C13 127.2(12)
C5 C1 C2 111.1(9)
C13 C1 C2 121.1(8)
F1 C2 F2 107.1(8)
F1 C2 C1 111.9(12)
F2 C2 C1 113.3(9)
F1 C2 C3 110.7(8)
F2 C2 C3 108.4(11)
C1 C2 C3 105.2(8)
F4 C3 F3 107.3(12)
F4 C3 C4 112.5(11)
F3 C3 C4 111.3(10)
F4 C3 C2 111.3(11)
F3 C3 C2 109.5(10)
C4 C3 C2 104.9(9)
F6 C4 F5 105.7(8)
F6 C4 C5 111.8(8)
F5 C4 C5 110.3(11)
F6 C4 C3 112.0(11)
F5 C4 C3 110.9(8)
C5 C4 C3 106.3(8)
C1 C5 C33 123.6(11)
C1 C5 C4 112.0(10)
C33 C5 C4 123.7(8)
C13 C12 C11 127.9(10)
C13 C12 S1 111.6(9)
C11 C12 S1 120.2(11)
C12 C13 C14 114.9(11)
C12 C13 C1 123.0(11)
C14 C13 C1 121.9(13)
C19 C14 C15 119.5(9)
C19 C14 C13 108.2(11)
C15 C14 C13 132.1(11)
C16 C15 C14 117.6(14)
C15 C16 C17 122.4(15)
C18 C17 C16 120.0(11)
C17 C18 C19 118.4(14)
C18 C19 C14 121.7(12)
C18 C19 S1 124.0(12)
C14 C19 S1 114.2(7)
C33 C32 C31 129.8(11)
C33 C32 S2 109.9(11)
C31 C32 S2 120.3(8)
C32 C33 C34 114.5(11)
C32 C33 C5 125.3(13)
C34 C33 C5 120.0(10)
C35 C34 C39 121.3(14)
C35 C34 C33 127.0(12)
C39 C34 C33 111.4(9)
C36 C35 C34 117.7(14)
C35 C36 C37 121.4(13)
C38 C37 C36 121.0(16)
C37 C38 C39 118.3(13)
C34 C39 C38 120.1(10)
C34 C39 S2 111.1(10)
C38 C39 S2 128.8(8)
C19 S1 C12 91.0(7)
C39 S2 C32 93.1(6)
loop_
_geom_bond_atom_site_label_1
_geom_bond_atom_site_label_2
_geom_bond_distance
C1 C5 1.347(11)
C1 C13 1.476(12)
C1 C2 1.498(15)
C2 F1 1.333(11)
C2 F2 1.358(13)
C2 C3 1.558(12)
C3 F4 1.306(14)
C3 F3 1.358(11)
C3 C4 1.522(12)
C4 F6 1.353(12)
C4 F5 1.356(12)
C4 C5 1.488(12)
C5 C33 1.472(12)
C11 C12 1.498(13)
C12 C13 1.368(13)
C12 S1 1.729(9)
C13 C14 1.452(12)
C14 C19 1.397(12)
C14 C15 1.403(14)
C15 C16 1.380(11)
C16 C17 1.403(13)
C17 C18 1.364(14)
C18 C19 1.399(10)
C19 S1 1.728(13)
C31 C32 1.490(14)
C32 C33 1.372(10)
C32 S2 1.737(13)
C33 C34 1.436(14)
C34 C35 1.394(12)
C34 C39 1.393(12)
C35 C36 1.377(14)
C36 C37 1.388(13)
C37 C38 1.381(12)
C38 C39 1.393(14)
C39 S2 1.728(11)
loop_
_cod_related_entry_id
_cod_related_entry_database
_cod_related_entry_code
1 PubChem 11408746
