#------------------------------------------------------------------------------
#$Date: 2017-07-11 15:10:40 +0300 (Tue, 11 Jul 2017) $
#$Revision: 198633 $
#$URL: file:///home/coder/svn-repositories/cod/cif/7/21/43/7214308.cif $
#------------------------------------------------------------------------------
#
# This file is available in the Crystallography Open Database (COD),
# http://www.crystallography.net/
#
# All data on this site have been placed in the public domain by the
# contributors.
#
data_7214308
loop_
_publ_author_name
'Wang, Yan-Bo'
'Sun, Dong-Sheng'
'Zhou, Hui'
'Zhang, Wen-Zhen'
'Lu, Xiao-Bing'
_publ_section_title
;
 Alkoxide-functionalized imidazolium betaines for CO2 activation and
 catalytic transformation
;
_journal_issue                   4
_journal_name_full               'Green Chemistry'
_journal_page_first              2266
_journal_paper_doi               10.1039/c3gc42346h
_journal_volume                  16
_journal_year                    2014
_chemical_formula_sum            'C10 H19 N2 O5'
_chemical_formula_weight         247.27
_chemical_name_systematic
; 
 ? 
;
_space_group_IT_number           60
_symmetry_cell_setting           orthorhombic
_symmetry_space_group_name_Hall  '-P 2n 2ab'
_symmetry_space_group_name_H-M   'P b c n'
_atom_sites_solution_hydrogens   geom
_atom_sites_solution_primary     direct
_atom_sites_solution_secondary   difmap
_audit_creation_method           SHELXL-97
_cell_angle_alpha                90.00
_cell_angle_beta                 90.00
_cell_angle_gamma                90.00
_cell_formula_units_Z            8
_cell_length_a                   12.1669(7)
_cell_length_b                   12.0650(7)
_cell_length_c                   19.2806(11)
_cell_measurement_reflns_used    3172
_cell_measurement_temperature    296(2)
_cell_measurement_theta_max      23.492
_cell_measurement_theta_min      2.378
_cell_volume                     2830.3(3)
_computing_cell_refinement       'Bruker SMART'
_computing_data_collection       'Bruker SMART'
_computing_data_reduction        'Bruker SAINT'
_computing_molecular_graphics    'Bruker SHELXTL'
_computing_publication_material  'Bruker SHELXTL'
_computing_structure_refinement  'SHELXL-97 (Sheldrick, 1997)'
_computing_structure_solution    'SHELXS-97 (Sheldrick, 1990)'
_diffrn_ambient_temperature      296(2)
_diffrn_measured_fraction_theta_full 1.000
_diffrn_measured_fraction_theta_max 1.000
_diffrn_measurement_device_type  'CCD area detector'
_diffrn_measurement_method       'phi and omega scans'
_diffrn_radiation_monochromator  graphite
_diffrn_radiation_source         'fine-focus sealed tube'
_diffrn_radiation_type           MoK\a
_diffrn_radiation_wavelength     0.71073
_diffrn_reflns_av_R_equivalents  0.0309
_diffrn_reflns_av_sigmaI/netI    0.0205
_diffrn_reflns_limit_h_max       14
_diffrn_reflns_limit_h_min       -13
_diffrn_reflns_limit_k_max       14
_diffrn_reflns_limit_k_min       -14
_diffrn_reflns_limit_l_max       22
_diffrn_reflns_limit_l_min       -22
_diffrn_reflns_number            14862
_diffrn_reflns_theta_full        25.00
_diffrn_reflns_theta_max         25.00
_diffrn_reflns_theta_min         2.11
_exptl_absorpt_coefficient_mu    0.093
_exptl_absorpt_correction_T_max  1.0000
_exptl_absorpt_correction_T_min  0.2000
_exptl_absorpt_correction_type   multi-scan
_exptl_crystal_colour            colourless
_exptl_crystal_density_diffrn    1.161
_exptl_crystal_density_method    'not measured'
_exptl_crystal_description       block
_exptl_crystal_F_000             1064
_exptl_crystal_size_max          0.16
_exptl_crystal_size_mid          0.14
_exptl_crystal_size_min          0.12
_refine_diff_density_max         1.509
_refine_diff_density_min         -0.362
_refine_diff_density_rms         0.115
_refine_ls_extinction_coef       0.011(7)
_refine_ls_extinction_expression Fc^*^=kFc[1+0.001xFc²λ³/sin(2θ)]^-1/4^
_refine_ls_extinction_method     SHELXL
_refine_ls_goodness_of_fit_ref   0.933
_refine_ls_hydrogen_treatment    constr
_refine_ls_matrix_type           full
_refine_ls_number_parameters     151
_refine_ls_number_reflns         2498
_refine_ls_number_restraints     150
_refine_ls_restrained_S_all      1.027
_refine_ls_R_factor_all          0.1244
_refine_ls_R_factor_gt           0.1080
_refine_ls_shift/su_max          0.000
_refine_ls_shift/su_mean         0.000
_refine_ls_structure_factor_coef Fsqd
_refine_ls_weighting_details
'calc w=1/[σ²(Fo²)+(0.4111P)²+0.0000P] where P=(Fo²+2Fc²)/3'
_refine_ls_weighting_scheme      calc
_refine_ls_wR_factor_gt          0.3651
_refine_ls_wR_factor_ref         0.4047
_reflns_number_gt                1905
_reflns_number_total             2498
_reflns_threshold_expression     >2sigma(I)
_cod_data_source_file            c3gc42346h.txt
_cod_data_source_block           2
_cod_depositor_comments
;
The following automatic conversions were performed:

'_symmetry_cell_setting' value 'Orthorhombic' changed to
'orthorhombic' according to
/usr/data/users/saulius/crontab/automatic-downloads/current/RSC/lib/dictionaries/cif_core.dic
dictionary named 'cif_core.dic' version 2.4.2 from
2011-04-26.

'_exptl_absorpt_correction_type' value 'multi scan'
changed to 'multi-scan' according to
/usr/data/users/saulius/crontab/automatic-downloads/current/RSC/lib/dictionaries/cif_core.dic
dictionary named 'cif_core.dic' version 2.4.2 from 2011-04-26.

Automatic conversion script
Id: cif_fix_values 2281 2013-09-26 08:29:07Z andrius 

The following automatic conversions were performed:

'_refine_ls_hydrogen_treatment' value 'contr' was replaced with the
value 'constr' as specified in the replacement file
'src/cod-tools/trunk/data/replacement-values/replacement_values.lst'.

Automatic conversion script
Id: cif_fix_values 5376 2017-05-30 11:51:03Z andrius 
;
_cod_original_sg_symbol_H-M      'Pbcn '
_cod_database_code               7214308
loop_
_symmetry_equiv_pos_as_xyz
'x, y, z'
'-x+1/2, -y+1/2, z+1/2'
'-x, y, -z+1/2'
'x+1/2, -y+1/2, -z'
'-x, -y, -z'
'x-1/2, y-1/2, -z-1/2'
'x, -y, z-1/2'
'-x-1/2, y-1/2, z'
loop_
_atom_site_label
_atom_site_type_symbol
_atom_site_fract_x
_atom_site_fract_y
_atom_site_fract_z
_atom_site_U_iso_or_equiv
_atom_site_adp_type
_atom_site_occupancy
_atom_site_symmetry_multiplicity
_atom_site_calc_flag
_atom_site_refinement_flags
O4 O 0.3997(2) 0.0976(2) 0.63965(13) 0.0559(10) Uani 1 1 d .
O3 O 0.5262(2) 0.0973(2) 0.55669(14) 0.0618(10) Uani 1 1 d .
C1 C 0.4417(3) 0.0598(3) 0.58570(16) 0.0395(10) Uani 1 1 d .
O2 O 0.3931(2) -0.0275(2) 0.55732(15) 0.0653(11) Uani 1 1 d .
H2C H 0.4260 -0.0441 0.5198 0.098 Uiso 1 1 d R
N2 N 0.7709(3) 0.1829(2) 0.25261(15) 0.0455(10) Uani 1 1 d .
C4 C 0.8547(3) 0.2527(3) 0.23044(18) 0.0460(10) Uani 1 1 d U
H4A H 0.8986 0.3002 0.2592 0.055 Uiso 1 1 d R
N1 N 0.7850(3) 0.1637(3) 0.14234(16) 0.0640(12) Uani 1 1 d .
O1 O 0.8051(3) -0.0154(3) 0.33952(18) 0.0745(12) Uani 1 1 d .
H1A H 0.7402 -0.0388 0.3467 0.112 Uiso 1 1 d R
C6 C 0.7292(4) 0.1303(3) 0.19808(18) 0.0562(12) Uani 1 1 d U
C5 C 0.8633(3) 0.2408(3) 0.16137(19) 0.0551(12) Uani 1 1 d U
H5C H 0.9135 0.2786 0.1311 0.066 Uiso 1 1 d R
C2 C 0.8138(4) 0.0951(4) 0.3636(2) 0.0606(12) Uani 1 1 d U
H2A H 0.8884 0.1196 0.3581 0.073 Uiso 1 1 d R
H2B H 0.7966 0.0970 0.4122 0.073 Uiso 1 1 d R
C3 C 0.7392(3) 0.1718(3) 0.32575(19) 0.0491(11) Uani 1 1 d U
H3A H 0.6651 0.1448 0.3286 0.059 Uiso 1 1 d R
H3B H 0.7417 0.2432 0.3476 0.059 Uiso 1 1 d R
C7 C 0.6318(5) 0.0527(5) 0.1994(3) 0.0860(18) Uani 1 1 d U
H7A H 0.6056 0.0436 0.2460 0.129 Uiso 1 1 d R
H7B H 0.5733 0.0799 0.1707 0.129 Uiso 1 1 d R
H7C H 0.6568 -0.0174 0.1820 0.129 Uiso 1 1 d R
C8 C 0.7595(6) 0.1333(5) 0.0690(2) 0.101(2) Uani 1 1 d U
H8A H 0.7088 0.0723 0.0694 0.122 Uiso 1 1 d R
C9 C 0.7089(9) 0.2285(7) 0.0326(4) 0.158(4) Uani 1 1 d U
H9B H 0.6917 0.2114 -0.0148 0.237 Uiso 1 1 d R
H9A H 0.6425 0.2455 0.0573 0.237 Uiso 1 1 d R
H9C H 0.7574 0.2912 0.0342 0.237 Uiso 1 1 d R
C10 C 0.8621(11) 0.1000(10) 0.0347(4) 0.195(5) Uani 1 1 d U
H10A H 0.8933 0.0373 0.0582 0.293 Uiso 1 1 d R
H10B H 0.8450 0.0800 -0.0123 0.293 Uiso 1 1 d R
H10C H 0.9140 0.1599 0.0348 0.293 Uiso 1 1 d R
O5 O 1.0000 0.1454(16) 0.7500 0.271(7) Uani 1 2 d SU
H5B H 1.0334 0.2065 0.7563 0.326 Uiso 0.50 1 d PR
H5A H 1.0424 0.0917 0.7598 0.407 Uiso 0.50 1 d PR
loop_
_atom_site_aniso_label
_atom_site_aniso_U_11
_atom_site_aniso_U_22
_atom_site_aniso_U_33
_atom_site_aniso_U_23
_atom_site_aniso_U_13
_atom_site_aniso_U_12
O4 0.075(2) 0.0566(17) 0.0365(16) -0.0129(11) 0.0102(12) -0.0014(13)
O3 0.0702(19) 0.074(2) 0.0413(17) -0.0233(13) 0.0110(12) -0.0267(14)
C1 0.0483(19) 0.0417(18) 0.0285(18) -0.0024(12) 0.0011(13) 0.0004(14)
O2 0.085(2) 0.0610(19) 0.0503(19) -0.0240(12) 0.0298(14) -0.0315(14)
N2 0.0553(18) 0.0482(18) 0.0329(17) 0.0031(12) -0.0011(12) -0.0195(13)
C4 0.060(2) 0.0412(19) 0.037(2) -0.0027(14) -0.0024(15) -0.0189(15)
N1 0.099(3) 0.062(2) 0.0321(18) 0.0027(13) -0.0098(16) -0.041(2)
O1 0.077(2) 0.072(2) 0.075(2) 0.0155(16) 0.0240(15) 0.0141(16)
C6 0.076(3) 0.052(2) 0.040(2) 0.0039(16) -0.0060(17) -0.0331(19)
C5 0.078(3) 0.054(2) 0.034(2) 0.0038(15) -0.0008(16) -0.0282(19)
C2 0.063(2) 0.077(3) 0.041(2) 0.0114(18) -0.0004(17) -0.012(2)
C3 0.058(2) 0.050(2) 0.039(2) -0.0053(15) 0.0060(15) -0.0153(16)
C7 0.104(4) 0.085(3) 0.069(3) 0.008(2) -0.009(2) -0.062(3)
C8 0.161(5) 0.107(4) 0.037(2) 0.000(3) -0.008(3) -0.086(4)
C9 0.260(9) 0.143(6) 0.072(4) 0.043(4) -0.085(5) -0.099(7)
C10 0.251(10) 0.254(11) 0.081(5) -0.104(6) 0.054(6) -0.112(9)
O5 0.217(9) 0.306(11) 0.291(11) 0.000 0.164(8) 0.000
loop_
_atom_type_symbol
_atom_type_description
_atom_type_scat_dispersion_real
_atom_type_scat_dispersion_imag
_atom_type_scat_source
C C 0.0033 0.0016 'International Tables Vol C Tables 4.2.6.8 and 6.1.1.4'
H H 0.0000 0.0000 'International Tables Vol C Tables 4.2.6.8 and 6.1.1.4'
N N 0.0061 0.0033 'International Tables Vol C Tables 4.2.6.8 and 6.1.1.4'
O O 0.0106 0.0060 'International Tables Vol C Tables 4.2.6.8 and 6.1.1.4'
loop_
_geom_angle_atom_site_label_1
_geom_angle_atom_site_label_2
_geom_angle_atom_site_label_3
_geom_angle
O4 C1 O3 125.2(3)
O4 C1 O2 116.9(3)
O3 C1 O2 117.9(3)
C1 O2 H2C 109.1
C6 N2 C4 109.0(3)
C6 N2 C3 128.0(3)
C4 N2 C3 122.9(3)
C5 C4 N2 107.3(3)
C5 C4 H4A 126.4
N2 C4 H4A 126.3
C6 N1 C5 109.9(3)
C6 N1 C8 125.6(3)
C5 N1 C8 124.1(3)
C2 O1 H1A 109.2
N2 C6 N1 107.3(3)
N2 C6 C7 125.6(4)
N1 C6 C7 126.9(4)
C4 C5 N1 106.4(3)
C4 C5 H5C 127.0
N1 C5 H5C 126.6
O1 C2 C3 112.3(3)
O1 C2 H2A 108.9
C3 C2 H2A 109.3
O1 C2 H2B 109.0
C3 C2 H2B 109.4
H2A C2 H2B 107.9
N2 C3 C2 111.6(3)
N2 C3 H3A 109.5
C2 C3 H3A 109.5
N2 C3 H3B 109.3
C2 C3 H3B 108.9
H3A C3 H3B 108.0
C6 C7 H7A 110.3
C6 C7 H7B 111.1
H7A C7 H7B 109.5
C6 C7 H7C 106.9
H7A C7 H7C 109.5
H7B C7 H7C 109.5
C9 C8 C10 110.6(8)
C9 C8 N1 110.2(6)
C10 C8 N1 108.5(6)
C9 C8 H8A 109.4
C10 C8 H8A 109.8
N1 C8 H8A 108.4
C8 C9 H9B 112.1
C8 C9 H9A 106.3
H9B C9 H9A 109.5
C8 C9 H9C 110.0
H9B C9 H9C 109.5
H9A C9 H9C 109.5
C8 C10 H10A 109.8
C8 C10 H10B 108.1
H10A C10 H10B 109.5
C8 C10 H10C 110.6
H10A C10 H10C 109.5
H10B C10 H10C 109.5
H5B O5 H5A 109.8
loop_
_geom_bond_atom_site_label_1
_geom_bond_atom_site_label_2
_geom_bond_distance
O4 C1 1.246(4)
O3 C1 1.255(4)
C1 O2 1.326(4)
O2 H2C 0.8501
N2 C6 1.329(4)
N2 C4 1.389(4)
N2 C3 1.468(4)
C4 C5 1.343(5)
C4 H4A 0.9599
N1 C6 1.334(5)
N1 C5 1.380(5)
N1 C8 1.493(5)
O1 C2 1.415(6)
O1 H1A 0.8499
C6 C7 1.510(6)
C5 H5C 0.9601
C2 C3 1.487(6)
C2 H2A 0.9600
C2 H2B 0.9597
C3 H3A 0.9599
C3 H3B 0.9598
C7 H7A 0.9599
C7 H7B 0.9601
C7 H7C 0.9598
C8 C9 1.480(11)
C8 C10 1.470(14)
C8 H8A 0.9600
C9 H9B 0.9600
C9 H9A 0.9600
C9 H9C 0.9598
C10 H10A 0.9600
C10 H10B 0.9601
C10 H10C 0.9600
O5 H5B 0.8501
O5 H5A 0.8500
