#------------------------------------------------------------------------------
#$Date: 2016-02-16 03:10:39 +0200 (Tue, 16 Feb 2016) $
#$Revision: 176453 $
#$URL: svn://www.crystallography.net/cod/cif/7/21/44/7214467.cif $
#------------------------------------------------------------------------------
#
# This file is available in the Crystallography Open Database (COD),
# http://www.crystallography.net/
#
# All data on this site have been placed in the public domain by the
# contributors.
#
data_7214467
loop_
_publ_author_name
'Khavasi, Hamid Reza'
'Hosseini, Mahdieh'
'Tehrani, Alireza Azhdari'
'Naderi, Soheila'
_publ_section_title
;
 Strengthening N⋯X halogen bonding via nitrogen substitution in the
 aromatic framework of halogen-substituted arylpyrazinamides
;
_journal_issue                   21
_journal_name_full               CrystEngComm
_journal_page_first              4546
_journal_paper_doi               10.1039/c3ce41856a
_journal_volume                  16
_journal_year                    2014
_chemical_formula_sum            'C10 H7 I N4 O'
_chemical_formula_weight         326.10
_chemical_name_systematic
; 
 ? 
;
_space_group_IT_number           14
_symmetry_cell_setting           monoclinic
_symmetry_space_group_name_Hall  '-P 2yn'
_symmetry_space_group_name_H-M   'P 1 21/n 1'
_atom_sites_solution_hydrogens   geom
_atom_sites_solution_primary     direct
_atom_sites_solution_secondary   difmap
_audit_creation_method           SHELXL-97
_cell_angle_alpha                90.00
_cell_angle_beta                 94.819(4)
_cell_angle_gamma                90.00
_cell_formula_units_Z            4
_cell_length_a                   5.7717(3)
_cell_length_b                   24.9374(8)
_cell_length_c                   7.5654(3)
_cell_measurement_reflns_used    8834
_cell_measurement_temperature    298(2)
_cell_measurement_theta_max      26.00
_cell_measurement_theta_min      2.82
_cell_volume                     1085.05(8)
_computing_cell_refinement       'X-Area 1.31 (Stoe & Cie GmbH, 2005)'
_computing_data_collection       'X-Area 1.31 (Stoe & Cie GmbH, 2005)'
_computing_data_reduction        'X-Area 1.31 (Stoe & Cie GmbH, 2005)'
_computing_molecular_graphics    'ORTEP-3 for Windows (Farrugia, 1997)'
_computing_publication_material  'WinGX (Farrugia, 1999)'
_computing_structure_refinement  'SHELXL-97 (Sheldrick, 1997)'
_computing_structure_solution    'SHELXS-97 (Sheldrick, 1990)'
_diffrn_ambient_temperature      298(2)
_diffrn_detector_area_resol_mean '0.15 mm'
_diffrn_measured_fraction_theta_full 1.000
_diffrn_measured_fraction_theta_max 1.000
_diffrn_measurement_device_type  'STOE IPDS 2T'
_diffrn_measurement_method       'rotation method'
_diffrn_radiation_monochromator  graphite
_diffrn_radiation_source         'fine-focus sealed tube'
_diffrn_radiation_type           MoK\a
_diffrn_radiation_wavelength     0.71073
_diffrn_reflns_av_R_equivalents  0.0918
_diffrn_reflns_av_sigmaI/netI    0.0847
_diffrn_reflns_limit_h_max       6
_diffrn_reflns_limit_h_min       -7
_diffrn_reflns_limit_k_max       29
_diffrn_reflns_limit_k_min       -30
_diffrn_reflns_limit_l_max       9
_diffrn_reflns_limit_l_min       -9
_diffrn_reflns_number            8834
_diffrn_reflns_theta_full        26.00
_diffrn_reflns_theta_max         26.00
_diffrn_reflns_theta_min         2.82
_diffrn_standards_number         0
_exptl_absorpt_coefficient_mu    2.935
_exptl_absorpt_correction_T_max  0.586
_exptl_absorpt_correction_T_min  0.471
_exptl_absorpt_correction_type   numerical
_exptl_absorpt_process_details   'shape of crystal determined optically'
_exptl_crystal_colour            Colorless
_exptl_crystal_density_diffrn    1.996
_exptl_crystal_density_method    'not measured'
_exptl_crystal_description       Prism
_exptl_crystal_F_000             624
_exptl_crystal_size_max          0.40
_exptl_crystal_size_mid          0.22
_exptl_crystal_size_min          0.18
_refine_diff_density_max         0.599
_refine_diff_density_min         -0.834
_refine_diff_density_rms         0.137
_refine_ls_extinction_method     none
_refine_ls_goodness_of_fit_ref   0.910
_refine_ls_hydrogen_treatment    constr
_refine_ls_matrix_type           full
_refine_ls_number_parameters     145
_refine_ls_number_reflns         2130
_refine_ls_number_restraints     0
_refine_ls_restrained_S_all      0.910
_refine_ls_R_factor_all          0.0912
_refine_ls_R_factor_gt           0.0787
_refine_ls_shift/su_max          0.003
_refine_ls_shift/su_mean         0.000
_refine_ls_structure_factor_coef Fsqd
_refine_ls_weighting_details
'calc w=1/[σ²(Fo²)+(0.0440P)²+0.0000P] where P=(Fo²+2Fc²)/3'
_refine_ls_weighting_scheme      calc
_refine_ls_wR_factor_gt          0.1239
_refine_ls_wR_factor_ref         0.1598
_reflns_number_gt                1914
_reflns_number_total             2130
_reflns_threshold_expression     >2sigma(I)
_cod_data_source_file            c3ce41856a2.cif
_cod_data_source_block           khc188
_cod_depositor_comments
;
The following automatic conversions were performed:

'_symmetry_cell_setting' value 'Monoclinic' changed to 'monoclinic'
according to
/usr/data/users/saulius/crontab/automatic-downloads/rss-feeds/RSC/lib/dictionaries/cif_core.dic
dictionary named 'cif_core.dic' version 2.4.2 from 2011-04-26.

Automatic conversion script
Id: cif_fix_values 2281 2013-09-26 08:29:07Z andrius 

 Adding full bibliography for 7214461--7214468.cif.
;
_cod_original_sg_symbol_H-M      P21/n
_cod_original_formula_sum        'C10 H7 I1 N4 O1'
_cod_database_code               7214467
loop_
_symmetry_equiv_pos_as_xyz
'x, y, z'
'-x+1/2, y+1/2, -z+1/2'
'-x, -y, -z'
'x-1/2, -y-1/2, z-1/2'
loop_
_atom_site_label
_atom_site_type_symbol
_atom_site_fract_x
_atom_site_fract_y
_atom_site_fract_z
_atom_site_U_iso_or_equiv
_atom_site_adp_type
_atom_site_occupancy
_atom_site_symmetry_multiplicity
_atom_site_calc_flag
_atom_site_refinement_flags
C1 C 1.005(3) -0.1016(7) 0.8576(18) 0.058(4) Uani 1 1 d .
H1 H 1.1423 -0.0936 0.9257 0.070 Uiso 1 1 calc R
C2 C 0.974(3) -0.1531(6) 0.792(2) 0.062(4) Uani 1 1 d .
H2 H 1.0933 -0.1780 0.8138 0.075 Uiso 1 1 calc R
C3 C 0.622(2) -0.1299(6) 0.6678(17) 0.055(4) Uani 1 1 d .
H3 H 0.4829 -0.1383 0.6030 0.066 Uiso 1 1 calc R
C4 C 0.658(2) -0.0781(6) 0.7287(16) 0.047(3) Uani 1 1 d .
C5 C 0.475(2) -0.0353(6) 0.6921(16) 0.055(4) Uani 1 1 d .
C6 C 0.378(2) 0.0575(6) 0.7662(16) 0.050(3) Uani 1 1 d .
C7 C 0.161(2) 0.0590(6) 0.6895(17) 0.056(4) Uani 1 1 d .
H7 H 0.0883 0.0285 0.6405 0.067 Uiso 1 1 calc R
C8 C 0.051(2) 0.1070(6) 0.6864(18) 0.057(4) Uani 1 1 d .
H8 H -0.0998 0.1095 0.6324 0.069 Uiso 1 1 calc R
C9 C 0.154(3) 0.1517(5) 0.7603(16) 0.048(3) Uani 1 1 d .
C10 C 0.379(3) 0.1452(6) 0.8355(19) 0.060(4) Uani 1 1 d .
H10 H 0.4555 0.1751 0.8850 0.072 Uiso 1 1 calc R
N1 N 0.851(2) -0.0641(5) 0.8284(14) 0.058(3) Uani 1 1 d .
N2 N 0.781(3) -0.1678(5) 0.6994(16) 0.068(4) Uani 1 1 d .
N3 N 0.517(2) 0.0108(4) 0.7792(14) 0.052(3) Uani 1 1 d .
H3B H 0.6405 0.0122 0.8507 0.063 Uiso 1 1 calc R
N4 N 0.492(2) 0.0980(5) 0.8412(14) 0.059(3) Uani 1 1 d .
O1 O 0.3094(18) -0.0456(4) 0.5905(12) 0.070(3) Uani 1 1 d .
I1 I -0.0152(2) 0.22467(4) 0.76583(14) 0.0686(4) Uani 1 1 d .
loop_
_atom_site_aniso_label
_atom_site_aniso_U_11
_atom_site_aniso_U_22
_atom_site_aniso_U_33
_atom_site_aniso_U_23
_atom_site_aniso_U_13
_atom_site_aniso_U_12
C1 0.052(10) 0.061(11) 0.060(9) 0.003(8) -0.006(7) -0.002(8)
C2 0.057(10) 0.069(11) 0.063(11) 0.026(9) 0.013(8) 0.018(9)
C3 0.052(9) 0.063(11) 0.049(8) 0.007(7) 0.003(7) 0.015(8)
C4 0.055(10) 0.048(9) 0.039(8) -0.004(6) 0.017(7) -0.005(7)
C5 0.057(11) 0.068(11) 0.039(9) 0.003(7) 0.001(8) -0.022(8)
C6 0.053(9) 0.058(10) 0.038(8) -0.002(7) -0.007(7) 0.009(7)
C7 0.040(9) 0.072(11) 0.055(9) -0.010(7) -0.001(7) 0.000(8)
C8 0.040(9) 0.071(11) 0.060(9) -0.012(8) 0.001(7) -0.001(8)
C9 0.060(10) 0.039(8) 0.046(8) -0.001(6) 0.003(7) 0.002(7)
C10 0.061(11) 0.042(9) 0.077(10) -0.009(8) 0.002(8) -0.019(8)
N1 0.048(8) 0.072(9) 0.054(7) 0.003(6) 0.001(6) -0.005(7)
N2 0.086(10) 0.054(8) 0.066(8) 0.010(6) 0.023(8) 0.018(8)
N3 0.045(7) 0.057(8) 0.052(8) 0.001(6) -0.010(6) -0.021(6)
N4 0.062(8) 0.060(9) 0.056(7) -0.014(6) 0.009(7) -0.003(7)
O1 0.060(7) 0.086(8) 0.063(6) -0.027(6) -0.004(5) -0.007(6)
I1 0.0653(6) 0.0590(6) 0.0818(7) 0.0044(8) 0.0084(4) 0.0028(8)
loop_
_atom_type_symbol
_atom_type_description
_atom_type_scat_dispersion_real
_atom_type_scat_dispersion_imag
_atom_type_scat_source
C C 0.0033 0.0016 'International Tables Vol C Tables 4.2.6.8 and 6.1.1.4'
H H 0.0000 0.0000 'International Tables Vol C Tables 4.2.6.8 and 6.1.1.4'
N N 0.0061 0.0033 'International Tables Vol C Tables 4.2.6.8 and 6.1.1.4'
O O 0.0106 0.0060 'International Tables Vol C Tables 4.2.6.8 and 6.1.1.4'
I I -0.4742 1.8119 'International Tables Vol C Tables 4.2.6.8 and 6.1.1.4'
loop_
_geom_angle_atom_site_label_1
_geom_angle_atom_site_label_2
_geom_angle_atom_site_label_3
_geom_angle
N1 C1 C2 123.0(15)
N1 C1 H1 118.5
C2 C1 H1 118.5
N2 C2 C1 121.7(14)
N2 C2 H2 119.1
C1 C2 H2 119.1
N2 C3 C4 121.7(14)
N2 C3 H3 119.1
C4 C3 H3 119.1
N1 C4 C3 121.8(14)
N1 C4 C5 117.1(13)
C3 C4 C5 121.0(13)
O1 C5 N3 126.7(15)
O1 C5 C4 118.2(14)
N3 C5 C4 115.1(12)
N4 C6 C7 125.8(15)
N4 C6 N3 110.2(12)
C7 C6 N3 124.0(15)
C6 C7 C8 117.1(14)
C6 C7 H7 121.5
C8 C7 H7 121.5
C7 C8 C9 121.8(14)
C7 C8 H8 119.1
C9 C8 H8 119.1
C8 C9 C10 116.0(13)
C8 C9 I1 122.4(11)
C10 C9 I1 121.6(10)
N4 C10 C9 123.6(13)
N4 C10 H10 118.2
C9 C10 H10 118.2
C1 N1 C4 115.6(13)
C2 N2 C3 116.0(13)
C5 N3 C6 126.8(13)
C5 N3 H3B 116.6
C6 N3 H3B 116.6
C6 N4 C10 115.8(13)
loop_
_geom_bond_atom_site_label_1
_geom_bond_atom_site_label_2
_geom_bond_distance
C1 N1 1.297(18)
C1 C2 1.38(2)
C1 H1 0.9300
C2 N2 1.32(2)
C2 H2 0.9300
C3 N2 1.324(17)
C3 C4 1.382(18)
C3 H3 0.9300
C4 N1 1.337(16)
C4 C5 1.511(19)
C5 O1 1.205(14)
C5 N3 1.336(17)
C6 N4 1.308(17)
C6 C7 1.339(17)
C6 N3 1.410(18)
C7 C8 1.353(18)
C7 H7 0.9300
C8 C9 1.364(18)
C8 H8 0.9300
C9 C10 1.378(19)
C9 I1 2.068(13)
C10 N4 1.347(18)
C10 H10 0.9300
N3 H3B 0.8600
loop_
_geom_torsion_atom_site_label_1
_geom_torsion_atom_site_label_2
_geom_torsion_atom_site_label_3
_geom_torsion_atom_site_label_4
_geom_torsion
N1 C1 C2 N2 -2(2)
N2 C3 C4 N1 -3(2)
N2 C3 C4 C5 -179.7(11)
N1 C4 C5 O1 173.8(11)
C3 C4 C5 O1 -9.0(18)
N1 C4 C5 N3 -6.6(16)
C3 C4 C5 N3 170.7(11)
N4 C6 C7 C8 1(2)
N3 C6 C7 C8 -179.6(12)
C6 C7 C8 C9 -1(2)
C7 C8 C9 C10 1(2)
C7 C8 C9 I1 -177.5(10)
C8 C9 C10 N4 -1(2)
I1 C9 C10 N4 177.3(10)
C2 C1 N1 C4 0(2)
C3 C4 N1 C1 2.7(19)
C5 C4 N1 C1 179.9(11)
C1 C2 N2 C3 2(2)
C4 C3 N2 C2 0.0(19)
O1 C5 N3 C6 -2(2)
C4 C5 N3 C6 178.3(11)
N4 C6 N3 C5 -167.3(12)
C7 C6 N3 C5 13(2)
C7 C6 N4 C10 -2(2)
N3 C6 N4 C10 179.3(11)
C9 C10 N4 C6 1(2)
