#------------------------------------------------------------------------------
#$Date: 2016-03-26 21:52:34 +0200 (Sat, 26 Mar 2016) $
#$Revision: 180484 $
#$URL: svn://www.crystallography.net/cod/cif/7/21/53/7215306.cif $
#------------------------------------------------------------------------------
#
# This file is available in the Crystallography Open Database (COD),
# http://www.crystallography.net/
#
# All data on this site have been placed in the public domain by the
# contributors.
#
data_7215306
loop_
_publ_author_name
'Hursthouse, Michael B.'
'Montis, Riccardo'
'Tizzard, Graham J.'
_publ_section_title
;
 Further crystal structures for the substituted aspirin family of
 molecules: the first aspirin carboxylate catemer and a detailed
 assessment of the subtle influences of weak intermolecular interactions
;
_journal_issue                   10
_journal_name_full               CrystEngComm
_journal_page_first              3390
_journal_paper_doi               10.1039/c0ce00838a
_journal_volume                  13
_journal_year                    2011
_chemical_formula_moiety         'C10 H10 O5'
_chemical_formula_sum            'C10 H10 O5'
_chemical_formula_weight         210.18
_chemical_name_common            5-methoxyaspirin
_chemical_name_systematic        '2-acetyloxy-5-methoxybenzoic acid'
_space_group_IT_number           14
_symmetry_cell_setting           monoclinic
_symmetry_space_group_name_Hall  '-P 2ybc'
_symmetry_space_group_name_H-M   'P 1 21/c 1'
_atom_sites_solution_hydrogens   geom
_atom_sites_solution_primary     direct
_atom_sites_solution_secondary   difmap
_audit_creation_method           SHELXL-97
_cell_angle_alpha                90.00
_cell_angle_beta                 95.402(2)
_cell_angle_gamma                90.00
_cell_formula_units_Z            4
_cell_length_a                   5.03850(10)
_cell_length_b                   17.3609(5)
_cell_length_c                   10.8931(3)
_cell_measurement_reflns_used    6304
_cell_measurement_temperature    120(2)
_cell_measurement_theta_max      27.48
_cell_measurement_theta_min      2.91
_cell_volume                     948.62(4)
_computing_cell_refinement
'DENZO (Otwinowski & Minor, 1997) & COLLECT (Hooft, R.W.W., 1998)'
_computing_data_collection       'COLLECT (Hooft, R.W.W., 1998)'
_computing_data_reduction
'DENZO (Otwinowski & Minor, 1997) & COLLECT (Hooft, R.W.W., 1998)'
_computing_structure_refinement  'SHELXL-97 (Sheldrick, 1997)'
_computing_structure_solution    'SHELXS-97 (Sheldrick, 1990)'
_diffrn_ambient_temperature      120(2)
_diffrn_detector_area_resol_mean 9.091
_diffrn_measured_fraction_theta_full 0.992
_diffrn_measured_fraction_theta_max 0.992
_diffrn_measurement_device_type
'Bruker-Nonius Roper CCD camera on κ-goniostat'
_diffrn_measurement_method       'φ & ω scans'
_diffrn_radiation_monochromator  graphite
_diffrn_radiation_source         'Bruker-Nonius FR591 rotating anode'
_diffrn_radiation_type           MoK\a
_diffrn_radiation_wavelength     0.71073
_diffrn_reflns_av_R_equivalents  0.0316
_diffrn_reflns_av_sigmaI/netI    0.0237
_diffrn_reflns_limit_h_max       5
_diffrn_reflns_limit_h_min       -6
_diffrn_reflns_limit_k_max       22
_diffrn_reflns_limit_k_min       -22
_diffrn_reflns_limit_l_max       13
_diffrn_reflns_limit_l_min       -14
_diffrn_reflns_number            12672
_diffrn_reflns_theta_full        27.48
_diffrn_reflns_theta_max         27.48
_diffrn_reflns_theta_min         3.76
_exptl_absorpt_coefficient_mu    0.120
_exptl_absorpt_correction_T_max  0.9823
_exptl_absorpt_correction_T_min  0.9317
_exptl_absorpt_correction_type   multi-scan
_exptl_absorpt_process_details   'SADABS 2007/2 (Sheldrick, G.M., 2007)'
_exptl_crystal_colour            Colourless
_exptl_crystal_density_diffrn    1.472
_exptl_crystal_density_method    'not measured'
_exptl_crystal_description       Lath
_exptl_crystal_F_000             440
_exptl_crystal_size_max          0.60
_exptl_crystal_size_mid          0.20
_exptl_crystal_size_min          0.15
_refine_diff_density_max         0.325
_refine_diff_density_min         -0.290
_refine_diff_density_rms         0.049
_refine_ls_extinction_method     none
_refine_ls_goodness_of_fit_ref   1.060
_refine_ls_hydrogen_treatment    constr
_refine_ls_matrix_type           full
_refine_ls_number_parameters     139
_refine_ls_number_reflns         2164
_refine_ls_number_restraints     0
_refine_ls_restrained_S_all      1.060
_refine_ls_R_factor_all          0.0437
_refine_ls_R_factor_gt           0.0374
_refine_ls_shift/su_max          0.000
_refine_ls_shift/su_mean         0.000
_refine_ls_structure_factor_coef Fsqd
_refine_ls_weighting_details
'calc w=1/[σ²(Fo²)+(0.0418P)²+0.5015P] where P=(Fo²+2Fc²)/3'
_refine_ls_weighting_scheme      calc
_refine_ls_wR_factor_gt          0.0924
_refine_ls_wR_factor_ref         0.0970
_reflns_number_gt                1889
_reflns_number_total             2164
_reflns_threshold_expression     >2sigma(I)
_cod_data_source_file            c0ce00838a.txt
_cod_data_source_block           5-methoxyaspirin
_cod_original_sg_symbol_H-M      p2(1)/c
_cod_database_code               7215306
loop_
_symmetry_equiv_pos_as_xyz
'x, y, z'
'-x, y+1/2, -z+1/2'
'-x, -y, -z'
'x, -y-1/2, z-1/2'
loop_
_atom_site_label
_atom_site_type_symbol
_atom_site_fract_x
_atom_site_fract_y
_atom_site_fract_z
_atom_site_U_iso_or_equiv
_atom_site_adp_type
_atom_site_occupancy
_atom_site_symmetry_multiplicity
_atom_site_calc_flag
_atom_site_refinement_flags
C1 C 0.0232(2) 0.42118(7) 0.67991(11) 0.0128(2) Uani 1 1 d .
C2 C 0.2002(2) 0.36911(7) 0.63229(10) 0.0129(2) Uani 1 1 d .
C3 C 0.4043(2) 0.33598(7) 0.70773(11) 0.0144(3) Uani 1 1 d .
H3 H 0.5234 0.3012 0.6738 0.017 Uiso 1 1 calc R
C4 C 0.4374(2) 0.35301(7) 0.83325(11) 0.0151(3) Uani 1 1 d .
H4 H 0.5765 0.3295 0.8851 0.018 Uiso 1 1 calc R
C5 C 0.2641(2) 0.40498(7) 0.88180(11) 0.0145(3) Uani 1 1 d .
C6 C 0.0581(2) 0.43880(7) 0.80526(11) 0.0144(3) Uani 1 1 d .
H6 H -0.0592 0.4742 0.8390 0.017 Uiso 1 1 calc R
C7 C -0.1996(2) 0.45760(7) 0.60039(11) 0.0128(2) Uani 1 1 d .
C8 C 0.0023(2) 0.30411(7) 0.45686(12) 0.0172(3) Uani 1 1 d .
C9 C -0.0213(3) 0.30775(9) 0.31910(12) 0.0263(3) Uani 1 1 d .
H9A H -0.0856 0.2581 0.2852 0.039 Uiso 1 1 calc R
H9B H 0.1536 0.3191 0.2910 0.039 Uiso 1 1 calc R
H9C H -0.1476 0.3484 0.2909 0.039 Uiso 1 1 calc R
C10 C 0.4944(3) 0.39487(9) 1.08237(12) 0.0242(3) Uani 1 1 d .
H10A H 0.4762 0.3387 1.0848 0.036 Uiso 1 1 calc R
H10B H 0.4896 0.4158 1.1657 0.036 Uiso 1 1 calc R
H10C H 0.6644 0.4083 1.0510 0.036 Uiso 1 1 calc R
O1 O -0.33158(17) 0.50997(5) 0.65758(8) 0.0166(2) Uani 1 1 d .
H1 H -0.4563 0.5275 0.6090 0.025 Uiso 1 1 calc R
O2 O -0.25703(17) 0.43995(5) 0.49201(8) 0.0167(2) Uani 1 1 d .
O3 O 0.19087(16) 0.35464(5) 0.50551(7) 0.0148(2) Uani 1 1 d .
O4 O -0.1232(2) 0.26328(6) 0.51924(9) 0.0251(2) Uani 1 1 d .
O5 O 0.27922(19) 0.42680(6) 1.00282(8) 0.0200(2) Uani 1 1 d .
loop_
_atom_site_aniso_label
_atom_site_aniso_U_11
_atom_site_aniso_U_22
_atom_site_aniso_U_33
_atom_site_aniso_U_23
_atom_site_aniso_U_13
_atom_site_aniso_U_12
C1 0.0125(5) 0.0129(6) 0.0128(6) 0.0017(4) -0.0004(4) -0.0014(4)
C2 0.0137(6) 0.0141(6) 0.0107(6) 0.0000(4) 0.0006(4) -0.0026(4)
C3 0.0132(5) 0.0139(6) 0.0162(6) -0.0006(4) 0.0015(4) 0.0006(4)
C4 0.0140(6) 0.0154(6) 0.0153(6) 0.0020(5) -0.0025(4) 0.0009(4)
C5 0.0169(6) 0.0153(6) 0.0110(6) -0.0004(4) -0.0007(4) -0.0009(5)
C6 0.0143(6) 0.0146(6) 0.0141(6) -0.0008(4) 0.0007(4) 0.0009(4)
C7 0.0123(5) 0.0121(6) 0.0141(6) 0.0009(4) 0.0018(4) -0.0016(4)
C8 0.0178(6) 0.0161(6) 0.0174(6) -0.0040(5) -0.0006(5) 0.0019(5)
C9 0.0338(8) 0.0295(8) 0.0145(6) -0.0051(5) -0.0028(5) 0.0026(6)
C10 0.0287(7) 0.0288(7) 0.0135(6) -0.0017(5) -0.0065(5) 0.0106(6)
O1 0.0173(4) 0.0180(5) 0.0139(4) -0.0007(3) -0.0025(3) 0.0059(3)
O2 0.0163(4) 0.0202(5) 0.0129(4) -0.0017(3) -0.0028(3) 0.0031(3)
O3 0.0148(4) 0.0189(5) 0.0106(4) -0.0010(3) 0.0004(3) -0.0008(3)
O4 0.0301(5) 0.0228(5) 0.0223(5) -0.0023(4) 0.0021(4) -0.0093(4)
O5 0.0233(5) 0.0246(5) 0.0110(5) -0.0022(4) -0.0043(4) 0.0082(4)
loop_
_atom_type_symbol
_atom_type_description
_atom_type_scat_dispersion_real
_atom_type_scat_dispersion_imag
_atom_type_scat_source
C C 0.0033 0.0016 'International Tables Vol C Tables 4.2.6.8 and 6.1.1.4'
H H 0.0000 0.0000 'International Tables Vol C Tables 4.2.6.8 and 6.1.1.4'
O O 0.0106 0.0060 'International Tables Vol C Tables 4.2.6.8 and 6.1.1.4'
loop_
_geom_angle_atom_site_label_1
_geom_angle_atom_site_label_2
_geom_angle_atom_site_label_3
_geom_angle
C6 C1 C2 118.53(11)
C6 C1 C7 119.61(11)
C2 C1 C7 121.86(11)
C3 C2 O3 117.80(11)
C3 C2 C1 120.81(11)
O3 C2 C1 121.13(10)
C2 C3 C4 120.63(11)
C2 C3 H3 119.7
C4 C3 H3 119.7
C3 C4 C5 119.22(11)
C3 C4 H4 120.4
C5 C4 H4 120.4
O5 C5 C4 124.43(11)
O5 C5 C6 115.45(11)
C4 C5 C6 120.13(11)
C1 C6 C5 120.67(11)
C1 C6 H6 119.7
C5 C6 H6 119.7
O2 C7 O1 122.90(11)
O2 C7 C1 123.29(11)
O1 C7 C1 113.80(10)
O4 C8 O3 122.97(12)
O4 C8 C9 126.56(12)
O3 C8 C9 110.47(11)
C8 C9 H9A 109.5
C8 C9 H9B 109.5
H9A C9 H9B 109.5
C8 C9 H9C 109.5
H9A C9 H9C 109.5
H9B C9 H9C 109.5
O5 C10 H10A 109.5
O5 C10 H10B 109.5
H10A C10 H10B 109.5
O5 C10 H10C 109.5
H10A C10 H10C 109.5
H10B C10 H10C 109.5
C7 O1 H1 109.5
C8 O3 C2 117.15(9)
C5 O5 C10 116.48(10)
loop_
_geom_bond_atom_site_label_1
_geom_bond_atom_site_label_2
_geom_bond_distance
C1 C6 1.3942(17)
C1 C2 1.4029(17)
C1 C7 1.4924(16)
C2 C3 1.3802(17)
C2 O3 1.4001(14)
C3 C4 1.3934(17)
C3 H3 0.9500
C4 C5 1.3940(17)
C4 H4 0.9500
C5 O5 1.3668(14)
C5 C6 1.3979(17)
C6 H6 0.9500
C7 O2 1.2277(15)
C7 O1 1.3173(15)
C8 O4 1.2022(16)
C8 O3 1.3631(15)
C8 C9 1.4954(18)
C9 H9A 0.9800
C9 H9B 0.9800
C9 H9C 0.9800
C10 O5 1.4341(15)
C10 H10A 0.9800
C10 H10B 0.9800
C10 H10C 0.9800
O1 H1 0.8400
loop_
_geom_hbond_atom_site_label_D
_geom_hbond_atom_site_label_H
_geom_hbond_atom_site_label_A
_geom_hbond_distance_DH
_geom_hbond_distance_HA
_geom_hbond_distance_DA
_geom_hbond_angle_DHA
_geom_hbond_site_symmetry_A
O1 H1 O2 0.84 1.82 2.6593(12) 175.7 3_466
