#------------------------------------------------------------------------------
#$Date: 2016-02-16 03:10:39 +0200 (Tue, 16 Feb 2016) $
#$Revision: 176453 $
#$URL: svn://www.crystallography.net/cod/cif/7/21/65/7216518.cif $
#------------------------------------------------------------------------------
#
# This file is available in the Crystallography Open Database (COD),
# http://www.crystallography.net/
#
# All data on this site have been placed in the public domain by the
# contributors.
#
data_7216518
loop_
_publ_author_name
'Delori, Amit'
'Maclure, Pauline'
'Bhardwaj, Rajni M.'
'Johnston, Andrea'
'Florence, Alastair J.'
'Sutcliffe, Oliver B.'
'Oswald, Iain D. H.'
_publ_section_title
;
 Drug solid solutions -- a method for tuning phase transformations
;
_journal_issue                   26
_journal_name_full               CrystEngComm
_journal_page_first              5827
_journal_paper_doi               10.1039/c4ce00211c
_journal_volume                  16
_journal_year                    2014
_chemical_formula_moiety         'C11 H16 N O, Cl'
_chemical_formula_sum            'C11 H16 Cl N O'
_chemical_formula_weight         213.71
_chemical_melting_point          524
_chemical_name_systematic
'(+-)-4'-methylmethcathinone hydrochloride, Mephedrone'
_space_group_IT_number           14
_symmetry_cell_setting           monoclinic
_symmetry_space_group_name_Hall  '-P 2yn'
_symmetry_space_group_name_H-M   'P 1 21/n 1'
_atom_sites_solution_hydrogens   difmap
_atom_sites_solution_primary     direct
_cell_angle_alpha                90
_cell_angle_beta                 90.974(2)
_cell_angle_gamma                90
_cell_formula_units_Z            4
_cell_length_a                   7.1264(14)
_cell_length_b                   22.986(5)
_cell_length_c                   7.4072(14)
_cell_measurement_reflns_used    1865
_cell_measurement_temperature    230
_cell_measurement_theta_max      25
_cell_measurement_theta_min      4
_cell_volume                     1213.2(4)
_computing_cell_refinement       'Apex2 (Bruker AXS, 2006)'
_computing_data_collection       'Apex2 (Bruker AXS, 2006)'
_computing_data_reduction        'Apex2 (Bruker AXS, 2006)'
_computing_molecular_graphics    'CAMERON (Watkin et al., 1996)'
_computing_publication_material  'CRYSTALS (Betteridge et al., 2003)'
_computing_structure_refinement  'CRYSTALS (Betteridge et al., 2003)'
_computing_structure_solution    'SIR92 (Altomare et al., 1994)'
_diffrn_ambient_temperature      230
_diffrn_measured_fraction_theta_full 0.975
_diffrn_measured_fraction_theta_max 0.973
_diffrn_measurement_device       Area
_diffrn_measurement_device_type  'Bruker Kappa Apex2'
_diffrn_measurement_method       ω
_diffrn_radiation_monochromator  graphite
_diffrn_radiation_type           'Mo K\a'
_diffrn_radiation_wavelength     0.71073
_diffrn_reflns_av_R_equivalents  0.032
_diffrn_reflns_limit_h_max       8
_diffrn_reflns_limit_h_min       -6
_diffrn_reflns_limit_k_max       28
_diffrn_reflns_limit_k_min       -28
_diffrn_reflns_limit_l_max       9
_diffrn_reflns_limit_l_min       -9
_diffrn_reflns_number            7848
_diffrn_reflns_theta_full        25.588
_diffrn_reflns_theta_max         26.379
_diffrn_reflns_theta_min         3.826
_diffrn_standards_number         0
_exptl_absorpt_coefficient_mu    0.286
_exptl_absorpt_correction_T_max  0.97
_exptl_absorpt_correction_T_min  0.86
_exptl_absorpt_correction_type   multi-scan
_exptl_absorpt_process_details   'SADABS (Siemens, 1996)'
_exptl_crystal_colour            colourless
_exptl_crystal_density_diffrn    1.170
_exptl_crystal_density_method    'not measured'
_exptl_crystal_description       lathe
_exptl_crystal_F_000             456
_exptl_crystal_size_max          0.500
_exptl_crystal_size_mid          0.200
_exptl_crystal_size_min          0.100
_refine_diff_density_max         0.42
_refine_diff_density_min         -0.31
_refine_ls_extinction_method     None
_refine_ls_goodness_of_fit_ref   0.9794
_refine_ls_hydrogen_treatment    constr
_refine_ls_matrix_type           full
_refine_ls_number_parameters     127
_refine_ls_number_reflns         2411
_refine_ls_number_restraints     0
_refine_ls_R_factor_all          0.0714
_refine_ls_R_factor_gt           0.0413
_refine_ls_shift/su_max          0.0003707
_refine_ls_shift/su_mean         0.0000305
_refine_ls_structure_factor_coef Fsqd
_refine_ls_weighting_details
;
 Method= Modified Sheldrick 
 w=1/[σ²(F²) + ( 0.05P)² + 0.55P] 
 ,where P=(max(Fo²,0) + 2Fc²)/3 
;
_refine_ls_weighting_scheme      calc
_refine_ls_wR_factor_all         0.1150
_refine_ls_wR_factor_gt          0.0939
_refine_ls_wR_factor_ref         0.1150
_reflns_limit_h_max              8
_reflns_limit_h_min              -8
_reflns_limit_k_max              28
_reflns_limit_k_min              0
_reflns_limit_l_max              9
_reflns_limit_l_min              0
_reflns_number_gt                1616
_reflns_number_total             2415
_reflns_threshold_expression     I>2.0σ(I)
_oxford_diffrn_Wilson_B_factor   4.96
_oxford_diffrn_Wilson_scale      89.86
_oxford_refine_ls_r_factor_ref   0.0714
_oxford_refine_ls_scale          0.2052(2)
_oxford_reflns_number_all        2411
_oxford_reflns_threshold_expression_ref I>-10.0\s(I)
_oxford_structure_analysis_title '230K in P2(1)/n'
_cod_data_source_file            c4ce00211c2.cif
_cod_data_source_block           1a_I_230K
_cod_depositor_comments
;
The following automatic conversions were performed:

'_chemical_melting_point' value '524 K' was changed to '524' - the
value should be numeric and without a unit
designator.

'_symmetry_cell_setting' value 'Monoclinic' changed to
'monoclinic' according to
/usr/data/users/saulius/crontab/automatic-downloads/rss-feeds/RSC/lib/dictionaries/cif_core.dic
dictionary named 'cif_core.dic' version 2.4.2 from
2011-04-26.

'_atom_sites_solution_primary' value 'Direct' changed to
'direct' according to
/usr/data/users/saulius/crontab/automatic-downloads/rss-feeds/RSC/lib/dictionaries/cif_core.dic
dictionary named 'cif_core.dic' version 2.4.2 from 2011-04-26.

Automatic conversion script
Id: cif_fix_values 2281 2013-09-26 08:29:07Z andrius 

 Adding full bibliography for 7216513--7216526.cif.
;
_cod_original_sg_symbol_H-M      'P 1 21/n 1 '
_cod_original_formula_sum        'C11 H16 Cl1 N O'
_cod_database_code               7216518
#BEGIN Tags that were not found in dictionaries:
_iucr_refine_instruction_details_constraints
;
BLOCK SCALE X'S, U'S 
RIDE C   (   1,X'S) H   (  13,X'S) H   (  11,X'S) H   (  12,X'S) 
RIDE C   (   3,X'S) H   (  31,X'S) 
RIDE C   (   4,X'S) H   (  41,X'S) 
RIDE C   (   6,X'S) H   (  61,X'S) 
RIDE C   (   7,X'S) H   (  71,X'S) 
RIDE C   (  10,X'S) H   ( 101,X'S) 
RIDE C   (  11,X'S) H   ( 113,X'S) H   ( 111,X'S) H   ( 112,X'S) 
RIDE N   (  12,X'S) H   ( 122,X'S) H   ( 121,X'S) 
RIDE C   (  13,X'S) H   ( 131,X'S) H   ( 133,X'S) H   ( 132,X'S) 
END                                                                             
;
_iucr_refine_instruction_details_restraints
;
NO 
REM   HREST   START (DO NOT REMOVE THIS LINE) 
REM   HREST   END (DO NOT REMOVE THIS LINE) 
END                                                                             
;
#END Tags that were not found in dictionaries
loop_
_symmetry_equiv_pos_as_xyz
x,y,z
-x,-y,-z
-x+1/2,y+1/2,-z+1/2
x+1/2,-y+1/2,z+1/2
loop_
_atom_site_label
_atom_site_type_symbol
_atom_site_fract_x
_atom_site_fract_y
_atom_site_fract_z
_atom_site_U_iso_or_equiv
_atom_site_occupancy
_atom_site_adp_type
_atom_site_refinement_flags_posn
C1 C 0.5184(5) 0.43692(12) 0.8010(4) 0.0877 1.0000 Uani .
C2 C 0.3887(5) 0.48774(11) 0.7695(3) 0.0654 1.0000 Uani .
C3 C 0.2001(6) 0.48346(12) 0.8099(4) 0.0761 1.0000 Uani .
C4 C 0.0779(5) 0.52973(11) 0.7833(4) 0.0723 1.0000 Uani .
C5 C 0.1432(4) 0.58207(10) 0.7123(3) 0.0507 1.0000 Uani .
C6 C 0.3320(4) 0.58658(10) 0.6726(3) 0.0513 1.0000 Uani .
C7 C 0.4531(4) 0.54016(11) 0.7014(3) 0.0598 1.0000 Uani .
C8 C 0.0083(3) 0.63047(10) 0.6855(3) 0.0509 1.0000 Uani .
O9 O -0.1418(3) 0.63214(8) 0.7629(3) 0.0806 1.0000 Uani .
C10 C 0.0557(3) 0.67798(9) 0.5516(3) 0.0424 1.0000 Uani .
C11 C 0.0233(4) 0.65603(12) 0.3595(3) 0.0665 1.0000 Uani .
N12 N -0.0623(2) 0.72966(7) 0.5878(2) 0.0413 1.0000 Uani .
C13 C -0.0105(4) 0.78236(10) 0.4839(3) 0.0531 1.0000 Uani .
Cl1 Cl 0.01904(8) 0.77461(3) 0.97032(7) 0.0532 1.0000 Uani .
H13 H 0.6526 0.4440 0.7703 0.1743 1.0000 Uiso R
H11 H 0.5180 0.4212 0.9272 0.1738 1.0000 Uiso R
H12 H 0.4810 0.4015 0.7268 0.1738 1.0000 Uiso R
H31 H 0.1641 0.4430 0.8603 0.1185 1.0000 Uiso R
H41 H -0.0436 0.5216 0.8190 0.1099 1.0000 Uiso R
H61 H 0.3898 0.6197 0.6260 0.0794 1.0000 Uiso R
H71 H 0.5873 0.5425 0.6744 0.0928 1.0000 Uiso R
H101 H 0.1851 0.6886 0.5750 0.0647 1.0000 Uiso R
H113 H 0.0614 0.6837 0.2815 0.1255 1.0000 Uiso R
H111 H -0.1136 0.6459 0.3410 0.1257 1.0000 Uiso R
H112 H 0.0862 0.6198 0.3487 0.1262 1.0000 Uiso R
H131 H -0.0922 0.8160 0.5233 0.1028 1.0000 Uiso R
H133 H 0.1150 0.7937 0.5107 0.1028 1.0000 Uiso R
H132 H -0.0304 0.7776 0.3598 0.1028 1.0000 Uiso R
H122 H -0.0592 0.7379 0.7163 0.0804 1.0000 Uiso R
H121 H -0.1810 0.7202 0.5780 0.0804 1.0000 Uiso R
loop_
_atom_site_aniso_label
_atom_site_aniso_U_11
_atom_site_aniso_U_22
_atom_site_aniso_U_33
_atom_site_aniso_U_23
_atom_site_aniso_U_13
_atom_site_aniso_U_12
C1 0.137(3) 0.0527(16) 0.0725(19) -0.0041(14) -0.0189(19) 0.0343(18)
C2 0.099(2) 0.0483(15) 0.0488(15) -0.0063(11) -0.0116(15) 0.0112(15)
C3 0.108(3) 0.0431(15) 0.077(2) 0.0070(13) -0.0053(18) -0.0088(16)
C4 0.079(2) 0.0506(16) 0.087(2) 0.0122(14) 0.0031(16) -0.0126(15)
C5 0.0565(16) 0.0430(13) 0.0525(14) 0.0014(10) 0.0007(11) -0.0062(11)
C6 0.0593(16) 0.0429(13) 0.0519(14) 0.0040(10) 0.0027(11) 0.0014(11)
C7 0.0716(19) 0.0534(15) 0.0543(15) 0.0008(11) -0.0022(13) 0.0117(13)
C8 0.0475(15) 0.0474(13) 0.0582(15) 0.0024(11) 0.0066(12) -0.0090(11)
O9 0.0596(13) 0.0744(13) 0.1088(16) 0.0265(11) 0.0311(11) 0.0004(10)
C10 0.0371(12) 0.0464(12) 0.0437(12) -0.0014(9) 0.0007(9) 0.0006(10)
C11 0.088(2) 0.0598(16) 0.0520(15) -0.0138(12) -0.0009(14) 0.0148(14)
N12 0.0370(10) 0.0455(10) 0.0413(9) -0.0032(8) 0.0007(7) -0.0019(8)
C13 0.0618(17) 0.0455(14) 0.0521(14) 0.0035(10) 0.0014(12) -0.0032(11)
Cl1 0.0373(3) 0.0808(4) 0.0415(3) -0.0132(3) -0.0028(2) 0.0068(3)
loop_
_atom_type_symbol
_atom_type_scat_dispersion_real
_atom_type_scat_dispersion_imag
_atom_type_scat_Cromer_Mann_a1
_atom_type_scat_Cromer_Mann_b1
_atom_type_scat_Cromer_Mann_a2
_atom_type_scat_Cromer_Mann_b2
_atom_type_scat_Cromer_Mann_a3
_atom_type_scat_Cromer_Mann_b3
_atom_type_scat_Cromer_Mann_a4
_atom_type_scat_Cromer_Mann_b4
_atom_type_scat_Cromer_Mann_c
_atom_type_scat_source
C 0.0033 0.0016 2.3100 20.8439 1.0200 10.2075 1.5886 0.5687 0.8650 51.6512
0.2156 'International Tables Vol C 4.2.6.8 and 6.1.1.4'
H 0.0000 0.0000 0.4930 10.5109 0.3229 26.1257 0.1402 3.1424 0.0408 57.7998
0.0030 'International Tables Vol C 4.2.6.8 and 6.1.1.4'
N 0.0061 0.0033 12.2126 0.0057 3.1322 9.8933 2.0125 28.9975 1.1663 0.5826
-11.5290 'International Tables Vol C 4.2.6.8 and 6.1.1.4'
O 0.0106 0.0060 3.0485 13.2771 2.2868 5.7011 1.5463 0.3239 0.8670 32.9089
0.2508 'International Tables Vol C 4.2.6.8 and 6.1.1.4'
Cl 0.1484 0.1585 11.4604 0.0104 7.1964 1.1662 6.2556 18.5194 1.6455 47.7784
-9.5574 'International Tables Vol C 4.2.6.8 and 6.1.1.4'
loop_
_geom_angle_atom_site_label_1
_geom_angle_atom_site_label_2
_geom_angle_atom_site_label_3
_geom_angle
_geom_angle_publ_flag
C2 C1 H13 115.2 no
C2 C1 H11 114.4 no
H13 C1 H11 106.7 no
C2 C1 H12 112.5 no
H13 C1 H12 104.5 no
H11 C1 H12 102.2 no
C1 C2 C3 120.4(3) yes
C1 C2 C7 121.6(3) yes
C3 C2 C7 117.9(3) yes
C2 C3 C4 121.6(3) yes
C2 C3 H31 112.9 no
C4 C3 H31 125.5 no
C3 C4 C5 120.1(3) yes
C3 C4 H41 113.1 no
C5 C4 H41 126.7 no
C4 C5 C6 118.4(2) yes
C4 C5 C8 118.5(2) yes
C6 C5 C8 123.1(2) yes
C5 C6 C7 120.9(2) yes
C5 C6 H61 125.1 no
C7 C6 H61 114.0 no
C2 C7 C6 121.0(3) yes
C2 C7 H71 116.8 no
C6 C7 H71 122.1 no
C5 C8 O9 122.1(2) yes
C5 C8 C10 118.5(2) yes
O9 C8 C10 119.3(2) yes
C8 C10 C11 109.89(19) yes
C8 C10 N12 108.99(18) yes
C11 C10 N12 110.92(18) yes
C8 C10 H101 106.6 no
C11 C10 H101 112.3 no
N12 C10 H101 107.9 no
C10 C11 H113 108.8 no
C10 C11 H111 109.5 no
H113 C11 H111 112.0 no
C10 C11 H112 107.8 no
H113 C11 H112 114.5 no
H111 C11 H112 104.1 no
C10 N12 C13 114.40(18) yes
C10 N12 H122 109.2 no
C13 N12 H122 110.4 no
C10 N12 H121 109.7 no
C13 N12 H121 114.1 no
H122 N12 H121 97.8 no
N12 C13 H131 108.9 no
N12 C13 H133 110.9 no
H131 C13 H133 105.9 no
N12 C13 H132 112.3 no
H131 C13 H132 107.2 no
H133 C13 H132 111.4 no
loop_
_geom_bond_atom_site_label_1
_geom_bond_atom_site_label_2
_geom_bond_distance
_geom_bond_publ_flag
C1 C2 1.505(4) yes
C1 H13 1.000 no
C1 H11 1.002 no
C1 H12 1.014 no
C2 C3 1.385(4) yes
C2 C7 1.387(4) yes
C3 C4 1.386(4) yes
C3 H31 1.035 no
C4 C5 1.396(3) yes
C4 H41 0.928 no
C5 C6 1.386(3) yes
C5 C8 1.481(3) yes
C6 C7 1.387(3) yes
C6 H61 0.934 no
C7 H71 0.982 no
C8 O9 1.223(3) yes
C8 C10 1.517(3) yes
C10 C11 1.523(3) yes
C10 N12 1.482(3) yes
C10 H101 0.967 no
C11 H113 0.904 no
C11 H111 1.010 no
C11 H112 0.949 no
N12 C13 1.485(3) yes
N12 H122 0.970 no
N12 H121 0.875 no
C13 H131 1.014 no
C13 H133 0.949 no
C13 H132 0.935 no
