#------------------------------------------------------------------------------
#$Date: 2016-03-26 22:33:39 +0200 (Sat, 26 Mar 2016) $
#$Revision: 180510 $
#$URL: svn://www.crystallography.net/cod/cif/7/21/79/7217983.cif $
#------------------------------------------------------------------------------
#
# This file is available in the Crystallography Open Database (COD),
# http://www.crystallography.net/
#
# All data on this site have been placed in the public domain by the
# contributors.
#
data_7217983
loop_
_publ_author_name
'Allan, David R.'
'Coles, Simon J.'
'George, Kathryn'
'Jura, Marek'
'Levason, William'
'Reid, Gillian'
'Wilson, Claire'
'Zhang, Wenjian'
_publ_section_title
;
 Exploring secondary bonding in p-block chemistry -- an experimental study
 of [GeX2{o-C6H4(PMe2)2}] using variable pressure single crystal X-ray
 diffraction
;
_journal_issue                   35
_journal_name_full               CrystEngComm
_journal_page_first              8169
_journal_paper_doi               10.1039/C4CE00329B
_journal_volume                  16
_journal_year                    2014
_chemical_formula_moiety         'C10 H16 Br2 Ge P2'
_chemical_formula_sum            'C10 H16 Br2 Ge P2'
_chemical_formula_weight         430.58
_chemical_name_systematic
;
 Dibromo(1,2-bis(dimethylphosphino)benzene-P,P')germanium(II)
;
_space_group_IT_number           15
_space_group_name_Hall           '-C 2yc'
_symmetry_cell_setting           monoclinic
_symmetry_space_group_name_Hall  '-C 2yc'
_symmetry_space_group_name_H-M   'C 1 2/c 1'
_atom_sites_solution_hydrogens   geom
_atom_sites_solution_primary     direct
_atom_sites_solution_secondary   difmap
_audit_creation_date             2012-08-24
_audit_creation_method           'SHELXL-97 + hand edit'
_cell_angle_alpha                90.00
_cell_angle_beta                 111.13(2)
_cell_angle_gamma                90.00
_cell_formula_units_Z            8
_cell_length_a                   29.22(4)
_cell_length_b                   7.578(8)
_cell_length_c                   14.434(18)
_cell_measurement_pressure       200000
_cell_measurement_reflns_used    603
_cell_measurement_temperature    293(2)
_cell_measurement_theta_max      28.6
_cell_measurement_theta_min      2.7
_cell_volume                     2981(6)
_computing_cell_refinement
;
CrystalClear-SM Expert 2.0 r5 (Rigaku, 2010)
;
_computing_data_collection
;
CrystalClear-SM Expert 2.0 r5 (Rigaku, 2010)
;
_computing_data_reduction
;
CrystalClear-SM Expert 2.0 r5 (Rigaku, 2010)
;
_computing_structure_refinement  'SHELXL-97 (Sheldrick, 2008)'
_diffrn_ambient_pressure         200000
_diffrn_ambient_temperature      293
_diffrn_detector                 'CCD plate'
_diffrn_detector_area_resol_mean 28.5714
_diffrn_detector_type            'Rigaku Saturn724+ (2x2 bin mode)'
_diffrn_measured_fraction_theta_full 0.287
_diffrn_measured_fraction_theta_max 0.287
_diffrn_measurement_device       'four-circle κ goniometer'
_diffrn_measurement_device_type  CrystalLogic
_diffrn_measurement_method       'profile data from ω-scans'
_diffrn_measurement_specimen_support 'Diamond Anvil Cell'
_diffrn_radiation_collimation    'Confocal mirrors'
_diffrn_radiation_monochromator  'double crystal silicon'
_diffrn_radiation_type           synchrotron
_diffrn_radiation_wavelength     0.68890
_diffrn_reflns_av_R_equivalents  0.1146
_diffrn_reflns_av_sigmaI/netI    0.1540
_diffrn_reflns_limit_h_max       19
_diffrn_reflns_limit_h_min       -20
_diffrn_reflns_limit_k_max       10
_diffrn_reflns_limit_k_min       -9
_diffrn_reflns_limit_l_max       20
_diffrn_reflns_limit_l_min       -17
_diffrn_reflns_number            5520
_diffrn_reflns_theta_full        30.35
_diffrn_reflns_theta_max         30.35
_diffrn_reflns_theta_min         2.79
_diffrn_source                   synchrotron
_diffrn_source_type              'DLS beamline I19'
_exptl_absorpt_coefficient_mu    7.008
_exptl_absorpt_correction_T_max  0.661
_exptl_absorpt_correction_T_min  1.000
_exptl_absorpt_correction_type   multi-scan
_exptl_absorpt_process_details
;
CrystalClear-SM Expert 2.0 r5 (Rigaku, 2011)
;
_exptl_crystal_colour            Colorless
_exptl_crystal_density_diffrn    1.918
_exptl_crystal_density_method    'not measured'
_exptl_crystal_description       Plate
_exptl_crystal_F_000             1664
_exptl_crystal_size_max          0.10
_exptl_crystal_size_mid          0.08
_exptl_crystal_size_min          0.01
_refine_diff_density_max         1.242
_refine_diff_density_min         -1.571
_refine_diff_density_rms         0.293
_refine_ls_extinction_method     none
_refine_ls_goodness_of_fit_ref   1.029
_refine_ls_hydrogen_treatment    constr
_refine_ls_matrix_type           full
_refine_ls_number_parameters     74
_refine_ls_number_reflns         1291
_refine_ls_number_restraints     0
_refine_ls_restrained_S_all      1.029
_refine_ls_R_factor_all          0.1830
_refine_ls_R_factor_gt           0.0909
_refine_ls_shift/su_max          0.001
_refine_ls_shift/su_mean         0.000
_refine_ls_structure_factor_coef Fsqd
_refine_ls_weighting_details
'calc w=1/[σ²(Fo²)+(0.2000P)²+0.0000P] where P=(Fo²+2Fc²)/3'
_refine_ls_weighting_scheme      calc
_refine_ls_wR_factor_gt          0.2416
_refine_ls_wR_factor_ref         0.3490
_reflns_number_gt                608
_reflns_number_total             1292
_reflns_threshold_expression     I>2σ(I)
_cod_data_source_file            c4ce00329b2.cif
_cod_data_source_block           gebr2diphos2new
_cod_depositor_comments
;
The following automatic conversions were performed:

'_exptl_absorpt_correction_type' value 'Multi-scan' changed to
'multi-scan' according to
/usr/data/users/saulius/crontab/automatic-downloads/current/RSC/lib/dictionaries/cif_core.dic
dictionary named 'cif_core.dic' version 2.4.2 from 2011-04-26.

Automatic conversion script
Id: cif_fix_values 2281 2013-09-26 08:29:07Z andrius 
;
_cod_original_cell_volume        2981(7)
_cod_original_sg_symbol_H-M      'C 2/c'
_cod_database_code               7217983
loop_
_symmetry_equiv_pos_as_xyz
'x, y, z'
'-x, y, -z+1/2'
'x+1/2, y+1/2, z'
'-x+1/2, y+1/2, -z+1/2'
'-x, -y, -z'
'x, -y, z-1/2'
'-x+1/2, -y+1/2, -z'
'x+1/2, -y+1/2, z-1/2'
loop_
_atom_site_label
_atom_site_type_symbol
_atom_site_fract_x
_atom_site_fract_y
_atom_site_fract_z
_atom_site_U_iso_or_equiv
_atom_site_adp_type
_atom_site_occupancy
_atom_site_symmetry_multiplicity
_atom_site_calc_flag
_atom_site_refinement_flags
C1 C 0.368(2) 0.415(3) 0.909(2) 0.038(6) Uiso 1 1 d .
H1A H 0.3489 0.3767 0.8429 0.057 Uiso 1 1 calc R
H1B H 0.3470 0.4374 0.9453 0.057 Uiso 1 1 calc R
H1C H 0.3915 0.3253 0.9418 0.057 Uiso 1 1 calc R
C2 C 0.442(3) 0.681(3) 1.030(2) 0.058(8) Uiso 1 1 d .
H2A H 0.4575 0.7914 1.0290 0.087 Uiso 1 1 calc R
H2B H 0.4661 0.5907 1.0559 0.087 Uiso 1 1 calc R
H2C H 0.4223 0.6906 1.0712 0.087 Uiso 1 1 calc R
C3 C 0.3507(12) 0.7799(17) 0.8626(13) 0.033(5) Uiso 1 1 d G
C4 C 0.3152(13) 0.7803(19) 0.9059(13) 0.055(8) Uiso 1 1 d G
H4 H 0.3160 0.6954 0.9530 0.066 Uiso 1 1 calc R
C5 C 0.2785(12) 0.908(2) 0.8789(15) 0.062(8) Uiso 1 1 d G
H5 H 0.2548 0.9080 0.9079 0.075 Uiso 1 1 calc R
C6 C 0.2773(12) 1.035(2) 0.8085(14) 0.063(8) Uiso 1 1 d G
H6 H 0.2528 1.1199 0.7904 0.075 Uiso 1 1 calc R
C7 C 0.3128(12) 1.0342(17) 0.7652(13) 0.043(6) Uiso 1 1 d G
H7 H 0.3119 1.1192 0.7181 0.051 Uiso 1 1 calc R
C8 C 0.3494(12) 0.9068(18) 0.7922(13) 0.034(5) Uiso 1 1 d G
C9 C 0.428(2) 1.101(3) 0.776(2) 0.039(6) Uiso 1 1 d .
H9A H 0.4458 1.0950 0.8463 0.059 Uiso 1 1 calc R
H9B H 0.4052 1.1982 0.7622 0.059 Uiso 1 1 calc R
H9C H 0.4502 1.1188 0.7419 0.059 Uiso 1 1 calc R
C10 C 0.359(3) 0.934(3) 0.602(2) 0.043(6) Uiso 1 1 d .
H10A H 0.3399 0.8312 0.5768 0.064 Uiso 1 1 calc R
H10B H 0.3813 0.9527 0.5670 0.064 Uiso 1 1 calc R
H10C H 0.3384 1.0352 0.5935 0.064 Uiso 1 1 calc R
Br1 Br 0.3488(3) 0.4940(3) 0.6555(2) 0.088(5) Uani 1 1 d .
Br2 Br 0.5168(3) 0.8010(3) 0.9045(3) 0.106(6) Uani 1 1 d .
Ge1 Ge 0.4408(3) 0.6256(3) 0.7767(3) 0.093(5) Uani 1 1 d .
P1 P 0.4013(8) 0.6216(7) 0.9019(7) 0.112(13) Uani 1 1 d .
P2 P 0.3954(7) 0.9038(7) 0.7356(6) 0.046(11) Uani 1 1 d .
loop_
_atom_site_aniso_label
_atom_site_aniso_U_11
_atom_site_aniso_U_22
_atom_site_aniso_U_33
_atom_site_aniso_U_23
_atom_site_aniso_U_13
_atom_site_aniso_U_12
Br1 0.178(16) 0.0463(14) 0.057(2) -0.0038(12) 0.065(6) -0.003(3)
Br2 0.215(19) 0.0465(16) 0.072(3) 0.0014(13) 0.070(7) 0.005(3)
Ge1 0.213(16) 0.0286(13) 0.060(2) -0.0006(11) 0.079(6) 0.001(2)
P1 0.28(4) 0.027(3) 0.067(6) 0.001(3) 0.108(14) 0.001(6)
P2 0.07(3) 0.030(3) 0.036(5) 0.004(2) 0.014(11) -0.003(5)
loop_
_atom_type_symbol
_atom_type_description
_atom_type_scat_dispersion_real
_atom_type_scat_dispersion_imag
_atom_type_scat_source
C C 0.0028 0.0015 'International Tables Vol C Tables 4.2.6.8 and 6.1.1.4'
H H 0.0000 0.0000 'International Tables Vol C Tables 4.2.6.8 and 6.1.1.4'
Br Br -0.1853 2.3459 'International Tables Vol C Tables 4.2.6.8 and 6.1.1.4'
Ge Ge 0.1952 1.7169 'International Tables Vol C Tables 4.2.6.8 and 6.1.1.4'
P P 0.0974 0.0893 'International Tables Vol C Tables 4.2.6.8 and 6.1.1.4'
loop_
_geom_angle_atom_site_label_1
_geom_angle_atom_site_label_2
_geom_angle_atom_site_label_3
_geom_angle
P1 C1 H1A 109.5
P1 C1 H1B 109.5
H1A C1 H1B 109.5
P1 C1 H1C 109.5
H1A C1 H1C 109.5
H1B C1 H1C 109.5
P1 C2 H2A 109.5
P1 C2 H2B 109.5
H2A C2 H2B 109.5
P1 C2 H2C 109.5
H2A C2 H2C 109.5
H2B C2 H2C 109.5
C4 C3 C8 120.0
C4 C3 P1 120.9(10)
C8 C3 P1 119.0(10)
C3 C4 C5 120.0
C3 C4 H4 120.0
C5 C4 H4 120.0
C4 C5 C6 120.0
C4 C5 H5 120.0
C6 C5 H5 120.0
C7 C6 C5 120.0
C7 C6 H6 120.0
C5 C6 H6 120.0
C6 C7 C8 120.0
C6 C7 H7 120.0
C8 C7 H7 120.0
C7 C8 C3 120.0
C7 C8 P2 120.4(10)
C3 C8 P2 119.6(10)
P2 C9 H9A 109.5
P2 C9 H9B 109.5
H9A C9 H9B 109.5
P2 C9 H9C 109.5
H9A C9 H9C 109.5
H9B C9 H9C 109.5
P2 C10 H10A 109.5
P2 C10 H10B 109.5
H10A C10 H10B 109.5
P2 C10 H10C 109.5
H10A C10 H10C 109.5
H10B C10 H10C 109.5
P2 Ge1 P1 80.3(4)
P2 Ge1 Br2 89.0(4)
P1 Ge1 Br2 89.5(4)
P2 Ge1 Br1 80.8(4)
P1 Ge1 Br1 81.7(5)
Br2 Ge1 Br1 167.5(2)
C3 P1 C2 107.6(17)
C3 P1 C1 101(2)
C2 P1 C1 107.8(15)
C3 P1 Ge1 107.7(6)
C2 P1 Ge1 115(2)
C1 P1 Ge1 116.1(9)
C9 P2 C8 103.8(16)
C9 P2 C10 106.0(15)
C8 P2 C10 104(2)
C9 P2 Ge1 118(2)
C8 P2 Ge1 109.2(6)
C10 P2 Ge1 114.6(10)
loop_
_geom_bond_atom_site_label_1
_geom_bond_atom_site_label_2
_geom_bond_distance
C1 P1 1.86(4)
C1 H1A 0.9600
C1 H1B 0.9600
C1 H1C 0.9600
C2 P1 1.85(5)
C2 H2A 0.9600
C2 H2B 0.9600
C2 H2C 0.9600
C3 C4 1.3900
C3 C8 1.3900
C3 P1 1.83(3)
C4 C5 1.3900
C4 H4 0.9300
C5 C6 1.3900
C5 H5 0.9300
C6 C7 1.3900
C6 H6 0.9300
C7 C8 1.3900
C7 H7 0.9300
C8 P2 1.81(3)
C9 P2 1.76(4)
C9 H9A 0.9600
C9 H9B 0.9600
C9 H9C 0.9600
C10 P2 1.85(4)
C10 H10A 0.9600
C10 H10B 0.9600
C10 H10C 0.9600
Br1 Ge1 2.810(11)
Br2 Ge1 2.672(9)
Ge1 P2 2.449(12)
Ge1 P1 2.470(12)
