#------------------------------------------------------------------------------
#$Date: 2016-02-13 21:28:24 +0200 (Sat, 13 Feb 2016) $
#$Revision: 176429 $
#$URL: svn://www.crystallography.net/cod/cif/7/22/24/7222493.cif $
#------------------------------------------------------------------------------
#
# This file is available in the Crystallography Open Database (COD),
# http://www.crystallography.net/
#
# All data on this site have been placed in the public domain by the
# contributors.
#
data_7222493
loop_
_publ_author_name
'Lissner, F.'
'Schleid, T.'
_publ_section_title
;
 Nitridsulfidhalogenide der leichten Lanthanide vom Typ M6 N3 S4 X (M = La
 - Nd; X = Cl, Br) mit ausgeordneten Sulfid- und Halogenid-Lagen
;
_journal_name_full
;
Zeitschrift fuer Naturforschung, Teil B. Anorganische Chemie, Organische 
Chemie (42,1987-)
;
_journal_page_first              1079
_journal_page_last               1084
_journal_volume                  57
_journal_year                    2002
_chemical_formula_sum            'Br La6 N3 S4'
_chemical_name_systematic        'La6 N3 S4 Br'
_space_group_IT_number           62
_symmetry_space_group_name_Hall  '-P 2ac 2n'
_symmetry_space_group_name_H-M   'P n m a'
_cell_angle_alpha                90
_cell_angle_beta                 90
_cell_angle_gamma                90
_cell_formula_units_Z            4
_cell_length_a                   11.5923
_cell_length_b                   4.1085
_cell_length_c                   27.656
_cell_volume                     1317.171
_citation_journal_id_ASTM        ZNBSEN
_cod_data_source_file            Lissner_ZNBSEN_2002_753.cif
_cod_data_source_block           Br1La6N3S4
_cod_original_formula_sum        'Br1 La6 N3 S4'
_cod_database_code               7222493
loop_
_symmetry_equiv_pos_as_xyz
x,y,z
-x+1/2,-y,z+1/2
x+1/2,-y+1/2,-z+1/2
-x,y+1/2,-z
-x,-y,-z
x-1/2,y,-z-1/2
-x-1/2,y-1/2,z-1/2
x,-y-1/2,z
loop_
_atom_site_label
_atom_site_type_symbol
_atom_site_fract_x
_atom_site_fract_y
_atom_site_fract_z
_atom_site_occupancy
_atom_site_U_iso_or_equiv
La3 La+3 0.43894 0.25 0.192436 1 0.0
N2 N-3 0.0588 0.25 0.3763 1 0.0
S2 S-2 0.1352 0.25 0.76442 1 0.0
La6 La+3 0.37631 0.25 0.716042 1 0.0
S1 S-2 0.2056 0.25 0.89786 1 0.0
La5 La+3 0.44148 0.25 0.923089 1 0.0
N1 N-3 0.098 0.25 0.0143 1 0.0
Br1 Br-1 0.03711 0.25 0.1375 1 0.0
La4 La+3 0.24864 0.25 0.327881 1 0.0
S4 S-2 0.1904 0.25 0.63716 1 0.0
La2 La+3 0.2458 0.25 0.064659 1 0.0
N3 N-3 0.1138 0.25 0.2622 1 0.0
S3 S-2 0.1447 0.25 0.50509 1 0.0
La1 La+3 0.39963 0.25 0.463514 1 0.0
