#------------------------------------------------------------------------------
#$Date: 2019-10-09 10:50:07 +0300 (Wed, 09 Oct 2019) $
#$Revision: 219196 $
#$URL: file:///home/coder/svn-repositories/cod/cif/7/23/44/7234493.cif $
#------------------------------------------------------------------------------
#
# This file is available in the Crystallography Open Database (COD),
# http://www.crystallography.net/
#
# All data on this site have been placed in the public domain by the
# contributors.
#
data_7234493
loop_
_publ_author_name
'Takaaki Hiramatsu'
'Yukihiro Yoshida'
'Gunzi Saito'
'Akihiro Otsuka'
'Hideki Yamochi'
'Yasuhiro Shimizu'
'Yuma Hattori'
'Yuto Nakamura'
'Hideo Kishida'
'Hiroshi Ito'
'Kaplan Kirakci'
'Stephane Cordier'
'Christiane Perrin'
_publ_section_title
;
 Spin frustration in antiperovskite systems: (TTF.+ or
 TSF.+)3[(Mo6X14)2-Y-]
;
_journal_name_full               'Journal of Materials Chemistry C'
_journal_page_first              11046
_journal_page_last               11054
_journal_paper_doi               10.1039/C5TC02075A
_journal_volume                  3
_journal_year                    2015
_chemical_formula_moiety
;
3(C6 H4 Se4 1+),Br1 1-,Br14 Mo6 2-
;
_chemical_formula_sum            'C18 H12 Br15 Mo6 Se12'
_chemical_formula_weight         2950.09
_chemical_name_common
; 
(TSF)3[(Mo6Br14)Br]
;
_space_group_IT_number           148
_space_group_name_Hall           '-P 3*'
_space_group_name_H-M_alt        'R -3 :R'
_symmetry_cell_setting           rhombohedral
_symmetry_Int_Tables_number      148
_symmetry_space_group_name_Hall  '-P 3*'
_symmetry_space_group_name_H-M   'R -3 :R'
_atom_sites_solution_hydrogens   geom
_atom_sites_solution_primary     direct
_atom_sites_solution_secondary   difmap
_cell_angle_alpha                101.8000(10)
_cell_angle_beta                 101.8000(10)
_cell_angle_gamma                101.8000(10)
_cell_formula_units_Z            1
_cell_length_a                   11.1579(5)
_cell_length_b                   11.1579(5)
_cell_length_c                   11.1579(5)
_cell_measurement_reflns_used    2726
_cell_measurement_temperature    298(2)
_cell_measurement_theta_max      28.21
_cell_measurement_theta_min      2.35
_cell_volume                     1286.32(10)
_computing_cell_refinement       'APEX2 (Bruker AXS, 2006)'
_computing_data_collection       'APEX2 '
_computing_data_reduction        'SAINT (Bruker AXS, 2004)'
_computing_publication_material
'Yadokari-XG 2009 (Wakita, Nemoto et al., 2009)'
_computing_structure_refinement  'SHELXL-97 (Sheldrick, 1997)'
_computing_structure_solution    'SHELXS-97 (Sheldrick, 1990)'
_diffrn_ambient_temperature      298(2)
_diffrn_detector_area_resol_mean 8.333
_diffrn_measured_fraction_theta_full 0.983
_diffrn_measured_fraction_theta_max 0.983
_diffrn_measurement_device_type  'Bruker APEXII CCD area detector'
_diffrn_measurement_method       'phi and omega scans'
_diffrn_radiation_monochromator  graphite
_diffrn_radiation_source         'fine-focus sealed tube'
_diffrn_radiation_type           MoK\a
_diffrn_radiation_wavelength     0.71073
_diffrn_reflns_av_R_equivalents  0.0228
_diffrn_reflns_av_sigmaI/netI    0.0233
_diffrn_reflns_limit_h_max       14
_diffrn_reflns_limit_h_min       -13
_diffrn_reflns_limit_k_max       10
_diffrn_reflns_limit_k_min       -14
_diffrn_reflns_limit_l_max       12
_diffrn_reflns_limit_l_min       -14
_diffrn_reflns_number            7248
_diffrn_reflns_theta_full        27.48
_diffrn_reflns_theta_max         27.48
_diffrn_reflns_theta_min         1.93
_exptl_absorpt_coefficient_mu    21.576
_exptl_absorpt_correction_T_max  0.3887
_exptl_absorpt_correction_T_min  0.2682
_exptl_absorpt_correction_type   numerical
_exptl_absorpt_process_details
;
 APEX2 Software
;
_exptl_crystal_colour            black
_exptl_crystal_density_diffrn    3.808
_exptl_crystal_density_method    'not measured'
_exptl_crystal_description       rhombohedral
_exptl_crystal_F_000             1305
_exptl_crystal_size_max          0.13
_exptl_crystal_size_mid          0.10
_exptl_crystal_size_min          0.05
_refine_diff_density_max         0.582
_refine_diff_density_min         -0.426
_refine_diff_density_rms         0.107
_refine_ls_extinction_method     none
_refine_ls_goodness_of_fit_ref   1.026
_refine_ls_hydrogen_treatment    constr
_refine_ls_matrix_type           full
_refine_ls_number_parameters     78
_refine_ls_number_reflns         1939
_refine_ls_number_restraints     0
_refine_ls_restrained_S_all      1.026
_refine_ls_R_factor_all          0.0382
_refine_ls_R_factor_gt           0.0252
_refine_ls_shift/su_max          0.000
_refine_ls_shift/su_mean         0.000
_refine_ls_structure_factor_coef Fsqd
_refine_ls_weighting_details
'calc w=1/[σ²(Fo²)+(0.0213P)²+1.4033P] where P=(Fo²+2Fc²)/3'
_refine_ls_weighting_scheme      calc
_refine_ls_wR_factor_gt          0.0454
_refine_ls_wR_factor_ref         0.0488
_reflns_number_gt                1594
_reflns_number_total             1939
_reflns_threshold_expression     >2sigma(I)
_cod_data_source_file            J-Mater-Chem-C-2015-3-11046.cif
_cod_data_source_block           TSF3_Mo6Br14_Br_298K
_cod_depositor_comments
;
The following automatic conversions were performed:

data item '_symmetry_cell_setting' value 'Rhombohedral' was changed
to 'rhombohedral' in accordance with the built-in table derived from
the CIF Core dictionary named 'cif_core.dic' version 2.4.5 last
updated on 2014-11-21.

Automatic conversion script
Id: cif_fix_values 6909 2019-04-08 15:41:33Z antanas 
;
_cod_original_sg_symbol_H-M      'R -3'
_cod_database_code               7234493
loop_
_symmetry_equiv_pos_as_xyz
'x, y, z'
'z, x, y'
'y, z, x'
'-x, -y, -z'
'-z, -x, -y'
'-y, -z, -x'
loop_
_atom_site_label
_atom_site_type_symbol
_atom_site_fract_x
_atom_site_fract_y
_atom_site_fract_z
_atom_site_U_iso_or_equiv
_atom_site_adp_type
_atom_site_occupancy
_atom_site_symmetry_multiplicity
_atom_site_calc_flag
_atom_site_refinement_flags
_atom_site_disorder_assembly
_atom_site_disorder_group
C1 C 0.5144(4) 0.4554(4) 0.0312(4) 0.0330(10) Uani 1 1 d . . .
C2 C 0.5518(5) 0.3191(5) 0.2019(5) 0.0472(13) Uani 1 1 d . . .
H2 H 0.5591 0.2878 0.2803 0.057 Uiso 1 1 calc R . .
C3 C 0.5685(5) 0.2503(5) 0.0979(5) 0.0450(12) Uani 1 1 d . . .
H3 H 0.5885 0.1668 0.0972 0.054 Uiso 1 1 calc R . .
Se1 Se 0.51479(5) 0.47407(5) 0.20146(5) 0.04403(14) Uani 1 1 d . . .
Se2 Se 0.55455(5) 0.31041(5) -0.04693(5) 0.04150(13) Uani 1 1 d . . .
Br1 Br -0.10255(4) 0.24459(4) 0.07170(4) 0.03236(11) Uani 1 1 d . . .
Br2 Br 0.21449(4) 0.21449(4) 0.21449(4) 0.02890(16) Uani 1 3 d S . .
Br3 Br -0.03563(5) 0.17134(5) 0.38444(4) 0.04034(13) Uani 1 1 d . . .
Mo1 Mo -0.01515(3) 0.07208(3) 0.16049(3) 0.02380(9) Uani 1 1 d . . .
Br4 Br 0.5000 0.5000 0.5000 0.0384(3) Uani 1 6 d S . .
loop_
_atom_site_aniso_label
_atom_site_aniso_U_11
_atom_site_aniso_U_22
_atom_site_aniso_U_33
_atom_site_aniso_U_23
_atom_site_aniso_U_13
_atom_site_aniso_U_12
C1 0.026(2) 0.038(3) 0.035(2) 0.0077(19) 0.0120(19) 0.0041(19)
C2 0.050(3) 0.049(3) 0.048(3) 0.024(3) 0.012(3) 0.014(2)
C3 0.049(3) 0.041(3) 0.051(3) 0.020(2) 0.013(2) 0.016(2)
Se1 0.0560(3) 0.0468(3) 0.0357(3) 0.0128(2) 0.0183(2) 0.0184(2)
Se2 0.0496(3) 0.0359(3) 0.0441(3) 0.0101(2) 0.0202(2) 0.0142(2)
Br1 0.0323(2) 0.0256(2) 0.0367(2) 0.00240(18) 0.00627(19) 0.01031(18)
Br2 0.02670(17) 0.02670(17) 0.02670(17) 0.0021(2) 0.0021(2) 0.0021(2)
Br3 0.0430(3) 0.0411(3) 0.0318(3) -0.0015(2) 0.0155(2) 0.0048(2)
Mo1 0.02346(19) 0.02373(18) 0.02179(18) 0.00309(13) 0.00538(14) 0.00395(14)
Br4 0.0420(3) 0.0420(3) 0.0420(3) 0.0186(4) 0.0186(4) 0.0186(4)
loop_
_atom_type_symbol
_atom_type_description
_atom_type_scat_dispersion_real
_atom_type_scat_dispersion_imag
_atom_type_scat_source
C C 0.0033 0.0016 'International Tables Vol C Tables 4.2.6.8 and 6.1.1.4'
H H 0.0000 0.0000 'International Tables Vol C Tables 4.2.6.8 and 6.1.1.4'
Se Se -0.0929 2.2259 'International Tables Vol C Tables 4.2.6.8 and 6.1.1.4'
Br Br -0.2901 2.4595 'International Tables Vol C Tables 4.2.6.8 and 6.1.1.4'
Mo Mo -1.6832 0.6857 'International Tables Vol C Tables 4.2.6.8 and 6.1.1.4'
loop_
_geom_angle_atom_site_label_1
_geom_angle_atom_site_label_2
_geom_angle_atom_site_label_3
_geom_angle
_geom_angle_site_symmetry_1
_geom_angle_site_symmetry_3
C1 C1 Se2 122.8(5) 4_665 .
C1 C1 Se1 121.3(5) 4_665 .
Se2 C1 Se1 115.9(2) . .
C3 C2 Se1 119.6(4) . .
C3 C2 H2 120.2 . .
Se1 C2 H2 120.2 . .
C2 C3 Se2 119.4(4) . .
C2 C3 H3 120.3 . .
Se2 C3 H3 120.3 . .
C2 Se1 C1 92.4(2) . .
C1 Se2 C3 92.5(2) . .
Mo1 Br1 Mo1 60.908(16) 5 3
Mo1 Br1 Mo1 60.843(17) 5 .
Mo1 Br1 Mo1 60.789(18) 3 .
Mo1 Br2 Mo1 60.850(19) 3 .
Mo1 Br2 Mo1 60.849(19) 3 2
Mo1 Br2 Mo1 60.850(19) . 2
Br3 Mo1 Br1 90.496(18) . 6
Br3 Mo1 Br1 90.112(19) . 2
Br1 Mo1 Br1 89.950(14) 6 2
Br3 Mo1 Br2 90.474(17) . .
Br1 Mo1 Br2 179.02(2) 6 .
Br1 Mo1 Br2 90.150(14) 2 .
Br3 Mo1 Br1 90.996(19) . .
Br1 Mo1 Br1 89.843(14) 6 .
Br1 Mo1 Br1 178.87(2) 2 .
Br2 Mo1 Br1 90.039(14) . .
Br3 Mo1 Mo1 135.225(18) . 3
Br1 Mo1 Mo1 119.572(14) 6 3
Br1 Mo1 Mo1 119.697(18) 2 3
Br2 Mo1 Mo1 59.575(9) . 3
Br1 Mo1 Mo1 59.513(18) . 3
Br3 Mo1 Mo1 134.708(18) . 2
Br1 Mo1 Mo1 119.695(15) 6 2
Br1 Mo1 Mo1 59.700(18) 2 2
Br2 Mo1 Mo1 59.576(9) . 2
Br1 Mo1 Mo1 119.510(18) . 2
Mo1 Mo1 Mo1 60.0 3 2
Br3 Mo1 Mo1 135.290(18) . 5
Br1 Mo1 Mo1 59.545(17) 6 5
Br1 Mo1 Mo1 119.495(17) 2 5
Br2 Mo1 Mo1 119.601(13) . 5
Br1 Mo1 Mo1 59.485(13) . 5
Mo1 Mo1 Mo1 60.027(8) 3 5
Mo1 Mo1 Mo1 90.0 2 5
Br3 Mo1 Mo1 134.775(18) . 6
Br1 Mo1 Mo1 59.671(17) 6 6
Br1 Mo1 Mo1 59.547(13) 2 6
Br2 Mo1 Mo1 119.600(13) . 6
Br1 Mo1 Mo1 119.432(17) . 6
Mo1 Mo1 Mo1 90.0 3 6
Mo1 Mo1 Mo1 60.025(8) 2 6
Mo1 Mo1 Mo1 59.948(17) 5 6
loop_
_geom_bond_atom_site_label_1
_geom_bond_atom_site_label_2
_geom_bond_distance
_geom_bond_site_symmetry_2
C1 C1 1.378(9) 4_665
C1 Se2 1.860(5) .
C1 Se1 1.867(4) .
C2 C3 1.324(7) .
C2 Se1 1.859(5) .
C2 H2 1.0000 .
C3 Se2 1.862(5) .
C3 H3 1.0000 .
Br1 Mo1 2.6008(5) 5
Br1 Mo1 2.6008(6) 3
Br1 Mo1 2.6058(6) .
Br2 Mo1 2.6010(6) 3
Br2 Mo1 2.6010(6) .
Br2 Mo1 2.6010(6) 2
Br3 Mo1 2.5938(6) .
Mo1 Br1 2.6008(5) 6
Mo1 Br1 2.6008(6) 2
Mo1 Mo1 2.6343(6) 3
Mo1 Mo1 2.6343(6) 2
Mo1 Mo1 2.6364(6) 5
Mo1 Mo1 2.6364(6) 6
loop_
_geom_torsion_atom_site_label_1
_geom_torsion_atom_site_label_2
_geom_torsion_atom_site_label_3
_geom_torsion_atom_site_label_4
_geom_torsion
_geom_torsion_site_symmetry_1
_geom_torsion_site_symmetry_2
_geom_torsion_site_symmetry_3
_geom_torsion_site_symmetry_4
Se1 C2 C3 Se2 0.0(6) . . . .
C3 C2 Se1 C1 1.6(5) . . . .
C1 C1 Se1 C2 177.2(5) 4_665 . . .
Se2 C1 Se1 C2 -2.6(3) . . . .
C1 C1 Se2 C3 -177.2(5) 4_665 . . .
Se1 C1 Se2 C3 2.6(3) . . . .
C2 C3 Se2 C1 -1.6(5) . . . .
Mo1 Br2 Mo1 Br3 -144.93(2) 3 . . .
Mo1 Br2 Mo1 Br3 144.19(2) 2 . . .
Mo1 Br2 Mo1 Br1 29.1(11) 3 . . 6
Mo1 Br2 Mo1 Br1 -41.8(11) 2 . . 6
Mo1 Br2 Mo1 Br1 124.959(16) 3 . . 2
Mo1 Br2 Mo1 Br1 54.081(18) 2 . . 2
Mo1 Br2 Mo1 Br1 -53.930(18) 3 . . .
Mo1 Br2 Mo1 Br1 -124.809(15) 2 . . .
Mo1 Br2 Mo1 Mo1 -70.878(8) 2 . . 3
Mo1 Br2 Mo1 Mo1 70.878(8) 3 . . 2
Mo1 Br2 Mo1 Mo1 0.366(10) 3 . . 5
Mo1 Br2 Mo1 Mo1 -70.512(7) 2 . . 5
Mo1 Br2 Mo1 Mo1 70.509(7) 3 . . 6
Mo1 Br2 Mo1 Mo1 -0.369(10) 2 . . 6
Mo1 Br1 Mo1 Br3 -144.568(18) 5 . . .
Mo1 Br1 Mo1 Br3 144.455(13) 3 . . .
Mo1 Br1 Mo1 Br1 -54.074(18) 5 . . 6
Mo1 Br1 Mo1 Br1 -125.052(15) 3 . . 6
Mo1 Br1 Mo1 Br1 25.3(11) 5 . . 2
Mo1 Br1 Mo1 Br1 -45.7(11) 3 . . 2
Mo1 Br1 Mo1 Br2 124.957(14) 5 . . .
Mo1 Br1 Mo1 Br2 53.980(15) 3 . . .
Mo1 Br1 Mo1 Mo1 70.977(13) 5 . . 3
Mo1 Br1 Mo1 Mo1 70.514(12) 5 . . 2
Mo1 Br1 Mo1 Mo1 -0.464(13) 3 . . 2
Mo1 Br1 Mo1 Mo1 -70.977(13) 3 . . 5
Mo1 Br1 Mo1 Mo1 0.38(2) 5 . . 6
Mo1 Br1 Mo1 Mo1 -70.597(18) 3 . . 6
