#------------------------------------------------------------------------------
#$Date: 2019-11-24 09:47:56 +0200 (Sun, 24 Nov 2019) $
#$Revision: 237525 $
#$URL: file:///home/coder/svn-repositories/cod/cif/7/23/72/7237250.cif $
#------------------------------------------------------------------------------
#
# This file is available in the Crystallography Open Database (COD),
# http://www.crystallography.net/
#
# All data on this site have been placed in the public domain by the
# contributors.
#
data_7237250
loop_
_publ_author_name
'Zhang, Lei'
'Yuan, Wen-Li'
'Zhang, Zhang'
'Zhang, Guo-Hao'
'Chen, Hao'
'Zhao, Nanrong'
'He, Ling'
'Tao, Guo-Hong'
_publ_section_title
;
 Self-assembled ionic nanofibers derived from amino acids for
 high-performance particulate matter removal
;
_journal_issue                   9
_journal_name_full               'Journal of Materials Chemistry A'
_journal_page_first              4619
_journal_paper_doi               10.1039/C8TA11382C
_journal_volume                  7
_journal_year                    2019
_chemical_absolute_configuration ad
_chemical_formula_moiety         'C10 H14 N O2, Cl'
_chemical_formula_sum            'C10 H14 Cl N O2'
_chemical_formula_weight         215.67
_chemical_name_systematic        L-PheC1Cl
_space_group_crystal_system      orthorhombic
_space_group_IT_number           19
_space_group_name_Hall           'P 2ac 2ab'
_space_group_name_H-M_alt        'P 21 21 21'
_atom_sites_solution_hydrogens   geom
_atom_sites_solution_primary     direct
_atom_sites_solution_secondary   difmap
_audit_creation_date             2016-04-26
_audit_creation_method
;
Olex2 1.2
(compiled 2016.02.19 svn.r3266 for OlexSys, GUI svn.r5155)
;
_audit_update_record
;
2019-01-20 deposited with the CCDC.
2019-01-24 downloaded from the CCDC.
;
_cell_angle_alpha                90.00
_cell_angle_beta                 90.00
_cell_angle_gamma                90.00
_cell_formula_units_Z            4
_cell_length_a                   5.4485(3)
_cell_length_b                   12.4239(9)
_cell_length_c                   16.6464(11)
_cell_measurement_reflns_used    930
_cell_measurement_temperature    293(2)
_cell_measurement_theta_max      23.1140
_cell_measurement_theta_min      3.4940
_cell_volume                     1126.82(13)
_computing_cell_refinement
;
CrysAlisPro, Agilent Technologies,
Version 1.171.37.35 (release 13-08-2014 CrysAlis171 .NET)
(compiled Aug 13 2014,18:06:01)
;
_computing_data_collection
;
CrysAlisPro, Agilent Technologies,
Version 1.171.37.35 (release 13-08-2014 CrysAlis171 .NET)
(compiled Aug 13 2014,18:06:01)
;
_computing_data_reduction
;
CrysAlisPro, Agilent Technologies,
Version 1.171.37.35 (release 13-08-2014 CrysAlis171 .NET)
(compiled Aug 13 2014,18:06:01)
;
_computing_molecular_graphics    'Olex2 (Dolomanov et al., 2009)'
_computing_publication_material  'Olex2 (Dolomanov et al., 2009)'
_computing_structure_refinement  'ShelXL (Sheldrick, 2015)'
_computing_structure_solution    'ShelXS (Sheldrick, 2008)'
_diffrn_ambient_temperature      293.15
_diffrn_detector                 'CCD plate'
_diffrn_detector_area_resol_mean 16.0874
_diffrn_detector_type            Eos
_diffrn_measured_fraction_theta_full 0.998
_diffrn_measured_fraction_theta_max 0.998
_diffrn_measurement_details
;
#__ type_ start__ end____ width___ exp.time_
  1 omega  -82.00    5.00   1.0000    1.0000
omega____ theta____ kappa____ phi______ frames
    -      -14.9669  -19.0000    0.0000 87

#__ type_ start__ end____ width___ exp.time_
  2 omega  -11.00   35.00   1.0000    1.0000
omega____ theta____ kappa____ phi______ frames
    -      -14.9669    0.0000 -180.0000 46
;
_diffrn_measurement_device       'four-circle diffractometer'
_diffrn_measurement_device_type  'Xcalibur, Eos'
_diffrn_measurement_method       'ω scans'
_diffrn_orient_matrix_UB_11      0.0177327000
_diffrn_orient_matrix_UB_12      0.0508920000
_diffrn_orient_matrix_UB_13      0.0183563000
_diffrn_orient_matrix_UB_21      -0.0602235000
_diffrn_orient_matrix_UB_22      0.0252522000
_diffrn_orient_matrix_UB_23      -0.0327392000
_diffrn_orient_matrix_UB_31      -0.1141030000
_diffrn_orient_matrix_UB_32      -0.0054967000
_diffrn_orient_matrix_UB_33      0.0201559000
_diffrn_radiation_monochromator  graphite
_diffrn_radiation_probe          x-ray
_diffrn_radiation_type           MoK\a
_diffrn_radiation_wavelength     0.71073
_diffrn_reflns_av_R_equivalents  0.0206
_diffrn_reflns_av_unetI/netI     0.0479
_diffrn_reflns_limit_h_max       6
_diffrn_reflns_limit_h_min       -6
_diffrn_reflns_limit_k_max       8
_diffrn_reflns_limit_k_min       -15
_diffrn_reflns_limit_l_max       20
_diffrn_reflns_limit_l_min       -20
_diffrn_reflns_number            3210
_diffrn_reflns_theta_full        26.37
_diffrn_reflns_theta_max         26.37
_diffrn_reflns_theta_min         2.95
_diffrn_source                   'Enhance (Mo) X-ray Source'
_exptl_absorpt_coefficient_mu    0.315
_exptl_absorpt_correction_T_max  1.00000
_exptl_absorpt_correction_T_min  0.53498
_exptl_absorpt_correction_type   multi-scan
_exptl_absorpt_process_details
;
CrysAlisPro, Agilent Technologies,
Version 1.171.37.35 (release 13-08-2014 CrysAlis171 .NET)
(compiled Aug 13 2014,18:06:01)
Empirical absorption correction using spherical harmonics,
 implemented in SCALE3 ABSPACK scaling algorithm.
;
_exptl_crystal_colour            colorless
_exptl_crystal_density_diffrn    1.271
_exptl_crystal_density_method    'not measured'
_exptl_crystal_F_000             456
_exptl_crystal_recrystallization_method
'Re-crystallisation from solvent: ethanol/acetonitrile'
_exptl_crystal_size_max          0.4
_exptl_crystal_size_mid          0.4
_exptl_crystal_size_min          0.35
_refine_diff_density_max         0.172
_refine_diff_density_min         -0.134
_refine_diff_density_rms         0.035
_refine_ls_abs_structure_details 'Flack H D (1983), Acta Cryst. A39, 876-881'
_refine_ls_abs_structure_Flack   0.05(8)
_refine_ls_extinction_method     none
_refine_ls_goodness_of_fit_ref   1.040
_refine_ls_hydrogen_treatment    constr
_refine_ls_matrix_type           full
_refine_ls_number_parameters     129
_refine_ls_number_reflns         2065
_refine_ls_number_restraints     0
_refine_ls_restrained_S_all      1.040
_refine_ls_R_factor_all          0.0542
_refine_ls_R_factor_gt           0.0400
_refine_ls_shift/su_max          0.000
_refine_ls_shift/su_mean         0.000
_refine_ls_structure_factor_coef Fsqd
_refine_ls_weighting_details
'calc w=1/[σ²(Fo²)+(0.0220P)²+0.0656P] where P=(Fo²+2Fc²)/3'
_refine_ls_weighting_scheme      calc
_refine_ls_wR_factor_gt          0.0677
_refine_ls_wR_factor_ref         0.0748
_reflns_number_gt                1702
_reflns_number_total             2065
_reflns_threshold_expression     >2sigma(I)
_cod_data_source_file            c8ta11382c2.cif
_cod_data_source_block           160426_s2_zl
_cod_original_cell_volume        1126.81(13)
_cod_database_code               7237250
_chemical_oxdiff_formula         c12h12n2o3cl1
_reflns_odcompleteness_completeness 99.64
_reflns_odcompleteness_iscentric 1
_reflns_odcompleteness_theta     26.32
_olex2_refinement_description
;
1. Fixed Uiso
 At 1.2 times of:
  All C(H) groups, All C(H,H) groups, All N(H,H,H) groups
 At 1.5 times of:
  All C(H,H,H) groups
2.a Ternary CH refined with riding coordinates:
 C8(H8)
2.b Secondary CH2 refined with riding coordinates:
 C7(H7A,H7B)
2.c Aromatic/amide H refined with riding coordinates:
 C2(H2), C3(H3), C4(H4), C5(H5), C6(H6)
2.d Idealised Me refined as rotating group:
 C10(H10A,H10B,H10C), N1(H1A,H1B,H1C)
;
_olex2_submission_special_instructions 'No special instructions were received'
loop_
_space_group_symop_id
_space_group_symop_operation_xyz
1 'x, y, z'
2 '-x+1/2, -y, z+1/2'
3 'x+1/2, -y+1/2, -z'
4 '-x, y+1/2, -z+1/2'
loop_
_atom_site_label
_atom_site_type_symbol
_atom_site_fract_x
_atom_site_fract_y
_atom_site_fract_z
_atom_site_U_iso_or_equiv
_atom_site_adp_type
_atom_site_occupancy
_atom_site_calc_flag
_atom_site_refinement_flags_posn
C1 C -0.6469(5) -0.59061(19) -0.58325(14) 0.0390(6) Uani 1 d .
C2 C -0.4420(5) -0.6530(2) -0.56673(16) 0.0513(8) Uani 1 d .
H2 H -0.3994 -0.6662 -0.5135 0.062 Uiso 1 calc R
C3 C -0.2998(5) -0.6958(2) -0.62749(18) 0.0606(8) Uani 1 d .
H3 H -0.1613 -0.7363 -0.6151 0.073 Uiso 1 calc R
C4 C -0.3635(7) -0.6784(3) -0.70654(18) 0.0693(9) Uani 1 d .
H4 H -0.2701 -0.7077 -0.7479 0.083 Uiso 1 calc R
C5 C -0.5652(7) -0.6177(3) -0.72326(18) 0.0748(10) Uani 1 d .
H5 H -0.6098 -0.6063 -0.7765 0.090 Uiso 1 calc R
C6 C -0.7050(5) -0.5726(3) -0.66276(17) 0.0570(8) Uani 1 d .
H6 H -0.8393 -0.5298 -0.6757 0.068 Uiso 1 calc R
C7 C -0.8067(4) -0.5454(2) -0.51728(15) 0.0428(6) Uani 1 d .
H7A H -0.8430 -0.6028 -0.4796 0.051 Uiso 1 calc R
H7B H -0.9610 -0.5226 -0.5408 0.051 Uiso 1 calc R
C8 C -0.6986(4) -0.4505(2) -0.47033(14) 0.0391(6) Uani 1 d .
H8 H -0.8250 -0.4258 -0.4327 0.047 Uiso 1 calc R
C9 C -0.4733(5) -0.4769(2) -0.42170(15) 0.0415(7) Uani 1 d .
C10 C -0.3215(6) -0.5906(3) -0.31882(18) 0.0792(11) Uani 1 d .
H10A H -0.1947 -0.6206 -0.3521 0.119 Uiso 1 calc GR
H10B H -0.3806 -0.6448 -0.2825 0.119 Uiso 1 calc GR
H10C H -0.2564 -0.5312 -0.2887 0.119 Uiso 1 calc GR
Cl1 Cl -0.13332(12) -0.30990(5) -0.61565(4) 0.04802(19) Uani 1 d .
N1 N -0.6389(4) -0.35827(15) -0.52416(11) 0.0429(5) Uani 1 d .
H1A H -0.7614 -0.3482 -0.5587 0.051 Uiso 1 calc GR
H1B H -0.5015 -0.3725 -0.5511 0.051 Uiso 1 calc GR
H1C H -0.6181 -0.2991 -0.4948 0.051 Uiso 1 calc GR
O1 O -0.2784(3) -0.43320(18) -0.42913(11) 0.0593(6) Uani 1 d .
O2 O -0.5229(3) -0.55322(16) -0.36922(11) 0.0591(5) Uani 1 d .
loop_
_atom_site_aniso_label
_atom_site_aniso_U_11
_atom_site_aniso_U_22
_atom_site_aniso_U_33
_atom_site_aniso_U_23
_atom_site_aniso_U_13
_atom_site_aniso_U_12
C1 0.0383(13) 0.0311(14) 0.0475(14) -0.0029(11) -0.0053(14) -0.0059(13)
C2 0.0577(18) 0.0451(18) 0.0512(16) -0.0006(14) -0.0027(14) 0.0026(15)
C3 0.0597(18) 0.0492(18) 0.073(2) -0.0078(18) 0.0089(17) 0.0086(17)
C4 0.083(2) 0.061(2) 0.064(2) -0.0179(17) 0.0220(19) -0.005(2)
C5 0.090(3) 0.086(3) 0.0482(17) -0.0003(18) 0.0002(19) -0.010(2)
C6 0.0566(18) 0.059(2) 0.0552(17) 0.0030(16) -0.0089(15) 0.0006(17)
C7 0.0323(13) 0.0422(16) 0.0540(15) -0.0041(14) -0.0017(12) -0.0035(13)
C8 0.0319(13) 0.0424(16) 0.0430(14) -0.0015(13) 0.0027(11) -0.0015(13)
C9 0.0412(15) 0.0457(17) 0.0374(14) -0.0067(13) 0.0042(13) 0.0045(14)
C10 0.093(3) 0.081(3) 0.064(2) 0.0147(18) -0.025(2) 0.001(2)
Cl1 0.0494(3) 0.0519(4) 0.0428(3) -0.0017(3) -0.0005(3) 0.0058(4)
N1 0.0359(11) 0.0401(13) 0.0526(12) -0.0071(10) -0.0037(11) -0.0029(11)
O1 0.0342(10) 0.0781(16) 0.0657(14) 0.0119(12) -0.0049(9) -0.0051(11)
O2 0.0628(12) 0.0633(14) 0.0512(12) 0.0113(11) -0.0089(10) -0.0117(11)
loop_
_atom_type_symbol
_atom_type_description
_atom_type_scat_dispersion_real
_atom_type_scat_dispersion_imag
_atom_type_scat_source
C C 0.0033 0.0016 'International Tables Vol C Tables 4.2.6.8 and 6.1.1.4'
H H 0.0000 0.0000 'International Tables Vol C Tables 4.2.6.8 and 6.1.1.4'
Cl Cl 0.1484 0.1585 'International Tables Vol C Tables 4.2.6.8 and 6.1.1.4'
N N 0.0061 0.0033 'International Tables Vol C Tables 4.2.6.8 and 6.1.1.4'
O O 0.0106 0.0060 'International Tables Vol C Tables 4.2.6.8 and 6.1.1.4'
loop_
_geom_angle_atom_site_label_1
_geom_angle_atom_site_label_2
_geom_angle_atom_site_label_3
_geom_angle
C2 C1 C7 121.9(2)
C6 C1 C2 117.8(2)
C6 C1 C7 120.3(2)
C1 C2 H2 119.3
C3 C2 C1 121.5(3)
C3 C2 H2 119.3
C2 C3 H3 120.1
C4 C3 C2 119.8(3)
C4 C3 H3 120.1
C3 C4 H4 120.5
C5 C4 C3 119.0(3)
C5 C4 H4 120.5
C4 C5 H5 119.3
C4 C5 C6 121.4(3)
C6 C5 H5 119.3
C1 C6 C5 120.5(3)
C1 C6 H6 119.8
C5 C6 H6 119.8
C1 C7 H7A 108.3
C1 C7 H7B 108.3
C1 C7 C8 115.84(19)
H7A C7 H7B 107.4
C8 C7 H7A 108.3
C8 C7 H7B 108.3
C7 C8 H8 107.3
C9 C8 C7 114.8(2)
C9 C8 H8 107.3
N1 C8 C7 111.6(2)
N1 C8 H8 107.3
N1 C8 C9 108.2(2)
O1 C9 C8 124.6(2)
O1 C9 O2 125.2(2)
O2 C9 C8 110.2(2)
H10A C10 H10B 109.5
H10A C10 H10C 109.5
H10B C10 H10C 109.5
O2 C10 H10A 109.5
O2 C10 H10B 109.5
O2 C10 H10C 109.5
C8 N1 H1A 109.5
C8 N1 H1B 109.5
C8 N1 H1C 109.5
H1A N1 H1B 109.5
H1A N1 H1C 109.5
H1B N1 H1C 109.5
C9 O2 C10 117.2(2)
loop_
_geom_bond_atom_site_label_1
_geom_bond_atom_site_label_2
_geom_bond_distance
C1 C2 1.386(3)
C1 C6 1.379(3)
C1 C7 1.510(3)
C2 H2 0.9300
C2 C3 1.381(4)
C3 H3 0.9300
C3 C4 1.378(4)
C4 H4 0.9300
C4 C5 1.362(4)
C5 H5 0.9300
C5 C6 1.382(4)
C6 H6 0.9300
C7 H7A 0.9700
C7 H7B 0.9700
C7 C8 1.532(3)
C8 H8 0.9800
C8 C9 1.507(3)
C8 N1 1.490(3)
C9 O1 1.199(3)
C9 O2 1.318(3)
C10 H10A 0.9600
C10 H10B 0.9600
C10 H10C 0.9600
C10 O2 1.458(3)
N1 H1A 0.8900
N1 H1B 0.8900
N1 H1C 0.8900
