#------------------------------------------------------------------------------
#$Date: 2023-03-04 20:18:00 +0200 (Sat, 04 Mar 2023) $
#$Revision: 281446 $
#$URL: file:///home/coder/svn-repositories/cod/cif/7/24/61/7246105.cif $
#------------------------------------------------------------------------------
#
# This file is available in the Crystallography Open Database (COD),
# http://www.crystallography.net/
#
# All data on this site have been placed in the public domain by the
# contributors.
#
data_7246105
loop_
_publ_author_name
'Wilson, Cameron J. G.'
'Wood, Peter A.'
'Parsons, Simon'
_publ_section_title
;
 Discerning subtle high-pressure phase transitions in glyphosate
;
_journal_issue                   6
_journal_name_full               CrystEngComm
_journal_page_first              988
_journal_page_last               997
_journal_paper_doi               10.1039/D2CE01616H
_journal_volume                  25
_journal_year                    2023
_chemical_formula_moiety         'C3 H8 N O5 P'
_chemical_formula_sum            'C3 H8 N O5 P'
_chemical_formula_weight         169.07
_chemical_name_common            Glyphosate
_chemical_name_systematic        N-(Phosphonomethyl)glycine
_space_group_crystal_system      monoclinic
_space_group_IT_number           14
_space_group_name_Hall           '-P 2ybc'
_space_group_name_H-M_alt        'P 1 21/c 1'
_atom_sites_solution_hydrogens   geom
_audit_creation_date             2022-02-24
_audit_creation_method
;
Olex2 1.3
(compiled 2020.11.12 svn.r5f609507 for OlexSys, GUI svn.r6408)
;
_audit_update_record
;
2022-11-30 deposited with the CCDC.	2023-01-11 downloaded from the CCDC.
;
_cell_angle_alpha                90
_cell_angle_beta                 106.599(7)
_cell_angle_gamma                90
_cell_formula_units_Z            4
_cell_length_a                   8.6626(10)
_cell_length_b                   7.9208(4)
_cell_length_c                   9.7820(5)
_cell_measurement_reflns_used    961
_cell_measurement_temperature    293.15
_cell_measurement_theta_max      17.872
_cell_measurement_theta_min      2.657
_cell_volume                     643.22(9)
_computing_cell_refinement       'SAINT V8.40B (?, 2016)'
_computing_data_reduction        'SAINT V8.40B (?, 2016)'
_computing_molecular_graphics    'Olex2 1.3 (Dolomanov et al., 2009)'
_computing_publication_material  'Olex2 1.3 (Dolomanov et al., 2009)'
_computing_structure_refinement  'XL  (Sheldrick, 2008)'
_diffrn_ambient_temperature      293.15
_diffrn_measured_fraction_theta_full 0.404
_diffrn_measured_fraction_theta_max 0.395
_diffrn_measurement_device_type  'Bruker AXS D8 Venture'
_diffrn_radiation_type           AgK\a
_diffrn_radiation_wavelength     0.56086
_diffrn_reflns_av_R_equivalents  0.0703
_diffrn_reflns_av_unetI/netI     0.0398
_diffrn_reflns_Laue_measured_fraction_full 0.404
_diffrn_reflns_Laue_measured_fraction_max 0.395
_diffrn_reflns_limit_h_max       5
_diffrn_reflns_limit_h_min       -5
_diffrn_reflns_limit_k_max       9
_diffrn_reflns_limit_k_min       -9
_diffrn_reflns_limit_l_max       12
_diffrn_reflns_limit_l_min       -12
_diffrn_reflns_number            5682
_diffrn_reflns_point_group_measured_fraction_full 0.404
_diffrn_reflns_point_group_measured_fraction_max 0.395
_diffrn_reflns_theta_full        19.665
_diffrn_reflns_theta_max         20.509
_diffrn_reflns_theta_min         2.657
_diffrn_source_current           0.9
_diffrn_source_power             0.045
_diffrn_source_voltage           50.0
_exptl_absorpt_coefficient_mu    0.208
_exptl_absorpt_correction_T_max  0.7445
_exptl_absorpt_correction_T_min  0.4834
_exptl_absorpt_correction_type   multi-scan
_exptl_absorpt_process_details
;
SADABS-2016/2 (Bruker,2016/2) was used for absorption correction.
wR2(int) was 0.0856 before and 0.0589 after correction.
The Ratio of minimum to maximum transmission is 0.6493.
The λ/2 correction factor is Not present.
;
_exptl_crystal_colour            'clear colourless'
_exptl_crystal_colour_lustre     clear
_exptl_crystal_colour_primary    colourless
_exptl_crystal_density_diffrn    1.746
_exptl_crystal_description       plate
_exptl_crystal_F_000             352
_exptl_crystal_preparation       'Powder sample received from Sigma-Aldrich'
_exptl_crystal_recrystallization_method
'The material was recrystallised from water by slow evaporation'
_exptl_crystal_size_max          0.15
_exptl_crystal_size_mid          0.135
_exptl_crystal_size_min          0.05
_refine_diff_density_max         0.208
_refine_diff_density_min         -0.283
_refine_diff_density_rms         0.054
_refine_ls_extinction_method     none
_refine_ls_goodness_of_fit_ref   1.052
_refine_ls_hydrogen_treatment    constr
_refine_ls_matrix_type           full
_refine_ls_number_parameters     93
_refine_ls_number_reflns         517
_refine_ls_number_restraints     82
_refine_ls_restrained_S_all      0.975
_refine_ls_R_factor_all          0.0640
_refine_ls_R_factor_gt           0.0369
_refine_ls_shift/su_max          0.000
_refine_ls_shift/su_mean         0.000
_refine_ls_structure_factor_coef Fsqd
_refine_ls_weighting_details
'w=1/[σ²(Fo²)+(0.0389P)²+1.1993P] where P=(Fo²+2Fc²)/3'
_refine_ls_weighting_scheme      calc
_refine_ls_wR_factor_gt          0.0814
_refine_ls_wR_factor_ref         0.1008
_reflns_Friedel_coverage         0.000
_reflns_number_gt                376
_reflns_number_total             517
_reflns_threshold_expression     'I > 2σ(I)'
_cod_data_source_file            d2ce01616h2.cif
_cod_data_source_block           C3H8NO5P_Ag_0p302GPa
_cod_depositor_comments
'Adding full bibliography for 7246103--7246118.cif.'
_cod_database_code               7246105
_shelx_shelxl_version_number     2019/1
_shelx_space_group_comment
;
The symmetry employed for this shelxl refinement is uniquely defined
by the following loop, which should always be used as a source of
symmetry information in preference to the above space-group names.
They are only intended as comments.
;
_shelx_estimated_absorpt_t_max   0.990
_shelx_estimated_absorpt_t_min   0.970
_olex2_refinement_description
;
1. Fixed Uiso
 At 1.2 times of:
  All C(H,H) groups, All N(H,H) groups
 At 1.5 times of:
  All O(H) groups
2. Restrained distances
 O1-C1
 1.31 with sigma of 0.01
 O2-C1
 1.204 with sigma of 0.01
 O2-O1
 2.25 with sigma of 0.03
 C2-C1
 1.512 with sigma of 0.01
 C2-O1
 2.305 with sigma of 0.03
 C2-O2
 2.399 with sigma of 0.03
 N3-C2
 1.481 with sigma of 0.01
 N3-C1
 2.481 with sigma of 0.03
 C4-N3
 1.488 with sigma of 0.01
 C4-C2
 2.486 with sigma of 0.03
 P5-C4
 1.815 with sigma of 0.01
 P5-N3
 2.742 with sigma of 0.03
 O3-P5
 1.574 with sigma of 0.01
 O3-C4
 2.676 with sigma of 0.03
 O4-P5
 1.498 with sigma of 0.01
 O4-C4
 2.659 with sigma of 0.03
 O4-O3
 2.544 with sigma of 0.03
 O5-P5
 1.5 with sigma of 0.01
 O5-C4
 2.704 with sigma of 0.03
 O5-O3
 2.456 with sigma of 0.03
 O5-O4
 2.58 with sigma of 0.03
3. Rigid body (RIGU) restrains
 All non-hydrogen atoms
 with sigma for 1-2 distances of 0.005 and sigma for 1-3 distances of 0.005
4.a Secondary CH2 refined with riding coordinates:
 C2(H2A,H2B), N3(H3A,H3B), C4(H4A,H4B)
4.b Idealised tetrahedral OH refined as rotating group:
 O1(H1), O3(H3)
;
_shelx_res_file
;
TITL ag_cw21006_0m_a.res in P2(1)/c
    ag_cw21006_0m.res
    created by SHELXL-2019/1 at 16:16:08 on 24-Feb-2022
REM Old TITL ag_cw21006_0m in P2(1)/c
REM SHELXT solution in P2(1)/c: R1 0.157, Rweak 0.006, Alpha 0.062
REM <I/s> 0.226 for 32 systematic absences, Orientation as input
REM Formula found by SHELXT: C3 N2 O4 P
CELL 0.56086 8.6626 7.9208 9.782 90 106.599 90
ZERR 4 0.001 0.0004 0.0005 0 0.007 0
LATT 1
SYMM -X,0.5+Y,0.5-Z
SFAC C H N O P
DISP C 0.0013 0.0009 7.4
DISP H 0 0 0.7
DISP N 0.003 0.002 11.7
DISP O 0.0058 0.0036 18.2
DISP P 0.0671 0.0586 203.6
UNIT 12 32 4 20 4
DFIX 1.31 0.01 O1 C1
DFIX 1.204 0.01 O2 C1
DFIX 2.25 0.03 O2 O1
DFIX 1.512 0.01 C2 C1
DFIX 2.305 0.03 C2 O1
DFIX 2.399 0.03 C2 O2
DFIX 1.481 0.01 N3 C2
DFIX 2.481 0.03 N3 C1
DFIX 1.488 0.01 C4 N3
DFIX 2.486 0.03 C4 C2
DFIX 1.815 0.01 P5 C4
DFIX 2.742 0.03 P5 N3
DFIX 1.574 0.01 O3 P5
DFIX 2.676 0.03 O3 C4
DFIX 1.498 0.01 O4 P5
DFIX 2.659 0.03 O4 C4
DFIX 2.544 0.03 O4 O3
DFIX 1.5 0.01 O5 P5
DFIX 2.704 0.03 O5 C4
DFIX 2.456 0.03 O5 O3
DFIX 2.58 0.03 O5 O4
RIGU 0.005 0.005

L.S. 20 0 0
PLAN  5
SIZE 0.05 0.135 0.15
TEMP 20
CONF
BOND
list 4
MORE -1
BOND $H
fmap 2 53
ACTA
OMIT 1 1 4
OMIT 1 1 6
OMIT -3 5 2
OMIT 2 5 4
OMIT 1 2 8
OMIT 2 6 5
OMIT 2 4 3
OMIT 1 1 8
OMIT -4 9 3
OMIT -2 3 1
OMIT 2 4 2
OMIT 3 7 1
REM <olex2.extras>
REM <HklSrc "%.\\ag_cw21006_0m.hkl">
REM </olex2.extras>

WGHT    0.038900    1.199300
FVAR       1.15549
C1    1    0.012044    0.608992    0.349043    11.00000    0.04726    0.01954 =
         0.03142    0.00099    0.01816    0.00101
O1    4   -0.138820    0.586094    0.281523    11.00000    0.04813    0.04778 =
         0.04207   -0.00286    0.02157   -0.00112
AFIX 147
H1    2   -0.193438    0.599597    0.336691    11.00000   -1.50000
AFIX   0
O2    4    0.063580    0.678800    0.462898    11.00000    0.05994    0.03946 =
         0.03389   -0.01048    0.01827   -0.00017
C2    1    0.118746    0.540018    0.264232    11.00000    0.04917    0.03362 =
         0.03589   -0.01325    0.01822   -0.00167
AFIX  23
H2A   2    0.099234    0.419817    0.250047    11.00000   -1.20000
H2B   2    0.089869    0.593298    0.171071    11.00000   -1.20000
AFIX   0
N3    3    0.290967    0.567613    0.333610    11.00000    0.05443    0.01920 =
         0.02997   -0.00181    0.02214    0.00251
AFIX  23
H3A   2    0.347724    0.498825    0.294531    11.00000   -1.20000
H3B   2    0.312530    0.540626    0.425468    11.00000   -1.20000
AFIX   0
C4    1    0.343758    0.744367    0.321892    11.00000    0.04590    0.02133 =
         0.02544   -0.00175    0.01280   -0.00242
AFIX  23
H4A   2    0.274915    0.821039    0.355124    11.00000   -1.20000
H4B   2    0.332711    0.770249    0.222630    11.00000   -1.20000
AFIX   0
P5    5    0.550886    0.775875    0.425765    11.00000    0.06551    0.01806 =
         0.02631    0.00177    0.02701    0.00099
O3    4    0.546464    0.779773    0.585355    11.00000    0.03807    0.02448 =
         0.02665    0.00122    0.01807   -0.00014
AFIX 147
H3    2    0.514078    0.872221    0.603005    11.00000   -1.50000
AFIX   0
O4    4    0.602944    0.942621    0.381604    11.00000    0.05093    0.02064 =
         0.03110    0.00197    0.02386   -0.00307
O5    4    0.647811    0.622571    0.413166    11.00000    0.05333    0.02207 =
         0.03595    0.00296    0.02516    0.00387
HKLF 4




REM  ag_cw21006_0m_a.res in P2(1)/c
REM wR2 = 0.1008, GooF = S = 1.052, Restrained GooF = 0.975 for all data
REM R1 = 0.0369 for 376 Fo > 4sig(Fo) and 0.0640 for all 517 data
REM 93 parameters refined using 82 restraints

END

WGHT      0.0379      1.2812

REM Highest difference peak  0.208,  deepest hole -0.283,  1-sigma level  0.054
Q1    1   0.5122  0.7867  0.4978  11.00000  0.05    0.21
Q2    1   0.2459  0.4849  0.1562  11.00000  0.05    0.20
Q3    1   0.6013  0.9067  0.3130  11.00000  0.05    0.19
Q4    1   0.7819  0.8650  0.4454  11.00000  0.05    0.19
Q5    1   0.4257  0.7005  0.2263  11.00000  0.05    0.18
;
_shelx_res_checksum              7452
_olex2_exptl_crystal_mounting_method 'Merrill Bassett diamond anvil cell'
_olex2_submission_original_sample_id ag_cw21006_0m
_olex2_submission_special_instructions 'No special instructions were received'
loop_
_space_group_symop_operation_xyz
'x, y, z'
'-x, y+1/2, -z+1/2'
'-x, -y, -z'
'x, -y-1/2, z-1/2'
loop_
_atom_site_label
_atom_site_type_symbol
_atom_site_fract_x
_atom_site_fract_y
_atom_site_fract_z
_atom_site_U_iso_or_equiv
_atom_site_adp_type
_atom_site_occupancy
_atom_site_site_symmetry_order
_atom_site_calc_flag
_atom_site_refinement_flags_posn
_atom_site_refinement_flags_adp
_atom_site_refinement_flags_occupancy
_atom_site_disorder_assembly
_atom_site_disorder_group
C1 C 0.0120(11) 0.6090(7) 0.3490(6) 0.031(4) Uani 1 1 d D . . . .
O1 O -0.1388(11) 0.5861(6) 0.2815(5) 0.044(4) Uani 1 1 d D . . . .
H1 H -0.193438 0.599597 0.336691 0.066 Uiso 1 1 calc R U . . .
O2 O 0.0636(11) 0.6788(4) 0.4629(4) 0.043(5) Uani 1 1 d D . . . .
C2 C 0.1187(12) 0.5400(7) 0.2642(7) 0.038(4) Uani 1 1 d D . . . .
H2A H 0.099234 0.419817 0.250047 0.046 Uiso 1 1 calc R U . . .
H2B H 0.089869 0.593298 0.171071 0.046 Uiso 1 1 calc R U . . .
N3 N 0.2910(12) 0.5676(5) 0.3336(5) 0.032(4) Uani 1 1 d D . . . .
H3A H 0.347724 0.498825 0.294531 0.039 Uiso 1 1 calc R U . . .
H3B H 0.312530 0.540626 0.425468 0.039 Uiso 1 1 calc R U . . .
C4 C 0.3438(10) 0.7444(5) 0.3219(5) 0.030(4) Uani 1 1 d D . . . .
H4A H 0.274915 0.821039 0.355124 0.036 Uiso 1 1 calc R U . . .
H4B H 0.332711 0.770249 0.222630 0.036 Uiso 1 1 calc R U . . .
P5 P 0.5509(4) 0.77587(14) 0.42577(17) 0.0337(19) Uani 1 1 d D . . . .
O3 O 0.5465(10) 0.7798(4) 0.5854(4) 0.028(4) Uani 1 1 d D . . . .
H3 H 0.514078 0.872221 0.603005 0.042 Uiso 1 1 calc R U . . .
O4 O 0.6029(9) 0.9426(3) 0.3816(4) 0.032(4) Uani 1 1 d D . . . .
O5 O 0.6478(10) 0.6226(3) 0.4132(4) 0.035(4) Uani 1 1 d D . . . .
loop_
_atom_site_aniso_label
_atom_site_aniso_U_11
_atom_site_aniso_U_22
_atom_site_aniso_U_33
_atom_site_aniso_U_23
_atom_site_aniso_U_13
_atom_site_aniso_U_12
C1 0.047(12) 0.020(2) 0.031(4) 0.001(2) 0.018(5) 0.001(4)
O1 0.048(13) 0.048(2) 0.042(3) -0.003(2) 0.022(5) -0.001(4)
O2 0.060(15) 0.039(2) 0.034(2) -0.0105(15) 0.018(5) 0.000(3)
C2 0.049(12) 0.034(3) 0.036(4) -0.013(2) 0.018(6) -0.002(5)
N3 0.054(13) 0.0192(19) 0.030(3) -0.0018(17) 0.022(5) 0.003(4)
C4 0.046(11) 0.021(2) 0.025(3) -0.0018(19) 0.013(5) -0.002(3)
P5 0.066(6) 0.0181(6) 0.0263(9) 0.0018(5) 0.027(2) 0.0010(10)
O3 0.038(13) 0.0245(15) 0.027(2) 0.0012(13) 0.018(5) 0.000(3)
O4 0.051(13) 0.0206(15) 0.031(2) 0.0020(13) 0.024(5) -0.003(2)
O5 0.053(12) 0.0221(15) 0.036(2) 0.0030(14) 0.025(5) 0.004(3)
loop_
_atom_type_symbol
_atom_type_description
_atom_type_scat_dispersion_real
_atom_type_scat_dispersion_imag
_atom_type_scat_source
C C 0.0013 0.0009 'International Tables Vol C Tables 4.2.6.8 and 6.1.1.4'
H H 0.0000 0.0000 'International Tables Vol C Tables 4.2.6.8 and 6.1.1.4'
N N 0.0030 0.0020 'International Tables Vol C Tables 4.2.6.8 and 6.1.1.4'
O O 0.0058 0.0036 'International Tables Vol C Tables 4.2.6.8 and 6.1.1.4'
P P 0.0671 0.0586 'International Tables Vol C Tables 4.2.6.8 and 6.1.1.4'
loop_
_geom_angle_atom_site_label_1
_geom_angle_atom_site_label_2
_geom_angle_atom_site_label_3
_geom_angle
_geom_angle_site_symmetry_1
_geom_angle_site_symmetry_3
_geom_angle_publ_flag
O1 C1 C2 110.8(6) . . ?
O2 C1 O1 125.9(8) . . ?
O2 C1 C2 123.3(8) . . ?
C1 O1 H1 109.5 . . ?
C1 C2 H2A 109.0 . . ?
C1 C2 H2B 109.0 . . ?
H2A C2 H2B 107.8 . . ?
N3 C2 C1 113.1(6) . . ?
N3 C2 H2A 109.0 . . ?
N3 C2 H2B 109.0 . . ?
C2 N3 H3A 108.9 . . ?
C2 N3 H3B 108.9 . . ?
C2 N3 C4 113.5(6) . . ?
H3A N3 H3B 107.7 . . ?
C4 N3 H3A 108.9 . . ?
C4 N3 H3B 108.9 . . ?
N3 C4 H4A 109.4 . . ?
N3 C4 H4B 109.4 . . ?
N3 C4 P5 111.3(5) . . ?
H4A C4 H4B 108.0 . . ?
P5 C4 H4A 109.4 . . ?
P5 C4 H4B 109.4 . . ?
O3 P5 C4 105.0(4) . . ?
O4 P5 C4 107.0(3) . . ?
O4 P5 O3 111.3(2) . . ?
O4 P5 O5 117.9(3) . . ?
O5 P5 C4 109.3(3) . . ?
O5 P5 O3 105.7(2) . . ?
P5 O3 H3 109.5 . . ?
loop_
_geom_bond_atom_site_label_1
_geom_bond_atom_site_label_2
_geom_bond_distance
_geom_bond_site_symmetry_2
_geom_bond_publ_flag
C1 O1 1.298(9) . ?
C1 O2 1.209(7) . ?
C1 C2 1.510(8) . ?
O1 H1 0.8200 . ?
C2 H2A 0.9700 . ?
C2 H2B 0.9700 . ?
C2 N3 1.468(9) . ?
N3 H3A 0.8900 . ?
N3 H3B 0.8900 . ?
N3 C4 1.487(6) . ?
C4 H4A 0.9700 . ?
C4 H4B 0.9700 . ?
C4 P5 1.809(8) . ?
P5 O3 1.573(3) . ?
P5 O4 1.499(3) . ?
P5 O5 1.501(5) . ?
O3 H3 0.8200 . ?
loop_
_geom_torsion_atom_site_label_1
_geom_torsion_atom_site_label_2
_geom_torsion_atom_site_label_3
_geom_torsion_atom_site_label_4
_geom_torsion
_geom_torsion_site_symmetry_1
_geom_torsion_site_symmetry_2
_geom_torsion_site_symmetry_3
_geom_torsion_site_symmetry_4
_geom_torsion_publ_flag
C1 C2 N3 C4 -75.9(6) . . . . ?
O1 C1 C2 N3 178.1(6) . . . . ?
O2 C1 C2 N3 -0.5(8) . . . . ?
C2 N3 C4 P5 173.6(4) . . . . ?
N3 C4 P5 O3 -74.0(4) . . . . ?
N3 C4 P5 O4 167.6(3) . . . . ?
N3 C4 P5 O5 38.9(4) . . . . ?
