#------------------------------------------------------------------------------
#$Date: 2023-03-04 20:18:00 +0200 (Sat, 04 Mar 2023) $
#$Revision: 281446 $
#$URL: file:///home/coder/svn-repositories/cod/cif/7/24/61/7246111.cif $
#------------------------------------------------------------------------------
#
# This file is available in the Crystallography Open Database (COD),
# http://www.crystallography.net/
#
# All data on this site have been placed in the public domain by the
# contributors.
#
data_7246111
loop_
_publ_author_name
'Wilson, Cameron J. G.'
'Wood, Peter A.'
'Parsons, Simon'
_publ_section_title
;
 Discerning subtle high-pressure phase transitions in glyphosate
;
_journal_issue                   6
_journal_name_full               CrystEngComm
_journal_page_first              988
_journal_page_last               997
_journal_paper_doi               10.1039/D2CE01616H
_journal_volume                  25
_journal_year                    2023
_chemical_formula_moiety         'C3 H8 N O5 P'
_chemical_formula_sum            'C3 H8 N O5 P'
_chemical_formula_weight         169.07
_chemical_name_common            Glyphosate
_chemical_name_systematic        N-(Phosphonomethyl)glycine
_space_group_crystal_system      monoclinic
_space_group_IT_number           14
_space_group_name_Hall           '-P 2ybc'
_space_group_name_H-M_alt        'P 1 21/c 1'
_atom_sites_solution_hydrogens   geom
_audit_creation_date             2022-03-01
_audit_creation_method
;
Olex2 1.3
(compiled 2020.11.12 svn.r5f609507 for OlexSys, GUI svn.r6408)
;
_audit_update_record
;
2022-11-30 deposited with the CCDC.	2023-01-11 downloaded from the CCDC.
;
_cell_angle_alpha                90
_cell_angle_beta                 109.78(3)
_cell_angle_gamma                90
_cell_formula_units_Z            4
_cell_length_a                   8.616(5)
_cell_length_b                   7.706(2)
_cell_length_c                   9.438(3)
_cell_measurement_reflns_used    907
_cell_measurement_temperature    293.15
_cell_measurement_theta_max      16.54
_cell_measurement_theta_min      2.76
_cell_volume                     589.7(4)
_computing_cell_refinement       'SAINT V8.40B (?, 2016)'
_computing_data_reduction        'SAINT V8.40B (?, 2016)'
_computing_molecular_graphics    'Olex2 1.3 (Dolomanov et al., 2009)'
_computing_publication_material  'Olex2 1.3 (Dolomanov et al., 2009)'
_computing_structure_refinement  'XL  (Sheldrick, 2008)'
_diffrn_ambient_temperature      293.15
_diffrn_measured_fraction_theta_full 0.402
_diffrn_measured_fraction_theta_max 0.397
_diffrn_measurement_device_type  'Bruker AXS D8 Venture'
_diffrn_measurement_method       'φ and ω scans'
_diffrn_radiation_type           AgK\a
_diffrn_radiation_wavelength     0.56086
_diffrn_reflns_av_R_equivalents  0.0740
_diffrn_reflns_av_unetI/netI     0.0429
_diffrn_reflns_Laue_measured_fraction_full 0.402
_diffrn_reflns_Laue_measured_fraction_max 0.397
_diffrn_reflns_limit_h_max       6
_diffrn_reflns_limit_h_min       -6
_diffrn_reflns_limit_k_max       9
_diffrn_reflns_limit_k_min       -9
_diffrn_reflns_limit_l_max       11
_diffrn_reflns_limit_l_min       -11
_diffrn_reflns_number            4649
_diffrn_reflns_point_group_measured_fraction_full 0.402
_diffrn_reflns_point_group_measured_fraction_max 0.397
_diffrn_reflns_theta_full        19.665
_diffrn_reflns_theta_max         20.530
_diffrn_reflns_theta_min         2.762
_diffrn_source_current           0.9
_diffrn_source_power             0.045
_diffrn_source_voltage           50.0
_diffrn_standards_number         0
_exptl_absorpt_coefficient_mu    0.227
_exptl_absorpt_correction_T_max  0.7445
_exptl_absorpt_correction_T_min  0.5887
_exptl_absorpt_correction_type   multi-scan
_exptl_absorpt_process_details
;
SADABS-2016/2 (Bruker,2016/2) was used for absorption correction.
wR2(int) was 0.0823 before and 0.0662 after correction.
The Ratio of minimum to maximum transmission is 0.7907.
The λ/2 correction factor is Not present.
;
_exptl_crystal_colour            'clear colourless'
_exptl_crystal_colour_lustre     clear
_exptl_crystal_colour_primary    colourless
_exptl_crystal_density_diffrn    1.905
_exptl_crystal_description       plate
_exptl_crystal_F_000             352
_exptl_crystal_preparation       'Powder sample received from Sigma-Aldrich'
_exptl_crystal_recrystallization_method
'The material was recrystallised from water by slow evaporation'
_exptl_crystal_size_max          0.15
_exptl_crystal_size_mid          0.135
_exptl_crystal_size_min          0.05
_refine_diff_density_max         0.188
_refine_diff_density_min         -0.188
_refine_diff_density_rms         0.044
_refine_ls_extinction_method     none
_refine_ls_goodness_of_fit_ref   1.038
_refine_ls_hydrogen_treatment    constr
_refine_ls_matrix_type           full
_refine_ls_number_parameters     93
_refine_ls_number_reflns         479
_refine_ls_number_restraints     82
_refine_ls_restrained_S_all      0.962
_refine_ls_R_factor_all          0.0502
_refine_ls_R_factor_gt           0.0348
_refine_ls_shift/su_max          0.000
_refine_ls_shift/su_mean         0.000
_refine_ls_structure_factor_coef Fsqd
_refine_ls_weighting_details
'w=1/[σ²(Fo²)+(0.0302P)²+0.5397P] where P=(Fo²+2Fc²)/3'
_refine_ls_weighting_scheme      calc
_refine_ls_wR_factor_gt          0.0710
_refine_ls_wR_factor_ref         0.0760
_reflns_Friedel_coverage         0.000
_reflns_number_gt                376
_reflns_number_total             479
_reflns_threshold_expression     'I > 2σ(I)'
_cod_data_source_file            d2ce01616h2.cif
_cod_data_source_block           C3H8NO5P_Ag_2p410GPa
_cod_depositor_comments
'Adding full bibliography for 7246103--7246118.cif.'
_cod_original_cell_volume        589.6(4)
_cod_database_code               7246111
_shelx_shelxl_version_number     2019/1
_shelx_space_group_comment
;
The symmetry employed for this shelxl refinement is uniquely defined
by the following loop, which should always be used as a source of
symmetry information in preference to the above space-group names.
They are only intended as comments.
;
_shelx_estimated_absorpt_t_max   0.989
_shelx_estimated_absorpt_t_min   0.967
_olex2_refinement_description
;
1. Fixed Uiso
 At 1.2 times of:
  All C(H,H) groups, All N(H,H) groups
 At 1.5 times of:
  All O(H) groups
2. Restrained distances
 O1-C1
 1.31 with sigma of 0.01
 O2-C1
 1.204 with sigma of 0.01
 O2-O1
 2.25 with sigma of 0.03
 C2-C1
 1.512 with sigma of 0.01
 C2-O1
 2.305 with sigma of 0.03
 C2-O2
 2.399 with sigma of 0.03
 N3-C2
 1.481 with sigma of 0.01
 N3-C1
 2.481 with sigma of 0.03
 C4-N3
 1.488 with sigma of 0.01
 C4-C2
 2.486 with sigma of 0.03
 P5-C4
 1.815 with sigma of 0.01
 P5-N3
 2.742 with sigma of 0.03
 O3-P5
 1.574 with sigma of 0.01
 O3-C4
 2.676 with sigma of 0.03
 O4-P5
 1.498 with sigma of 0.01
 O4-C4
 2.659 with sigma of 0.03
 O4-O3
 2.544 with sigma of 0.03
 O5-P5
 1.5 with sigma of 0.01
 O5-C4
 2.704 with sigma of 0.03
 O5-O3
 2.456 with sigma of 0.03
 O5-O4
 2.58 with sigma of 0.03
3. Rigid body (RIGU) restrains
 All non-hydrogen atoms
 with sigma for 1-2 distances of 0.005 and sigma for 1-3 distances of 0.005
4.a Secondary CH2 refined with riding coordinates:
 C2(H2A,H2B), N3(H3A,H3B), C4(H4A,H4B)
4.b Idealised tetrahedral OH refined as rotating group:
 O1(H1), O3(H3)
;
_shelx_res_file
;
TITL ag_cw21012_0m in P2(1)/c
    ag_cw21012_0m.res
    created by SHELXL-2019/1 at 10:51:24 on 01-Mar-2022
CELL 0.56086 8.6156 7.7059 9.4377 90 109.7819 90
ZERR 4 0.005 0.0021 0.0027 0 0.0304 0
LATT 1
SYMM -X,0.5+Y,0.5-Z
SFAC C H N O P
DISP C 0.0013 0.0009 7.4
DISP H 0 0 0.7
DISP N 0.003 0.002 11.7
DISP O 0.0058 0.0036 18.2
DISP P 0.0671 0.0586 203.6
UNIT 12 32 4 20 4
DFIX 1.31 0.01 O1 C1
DFIX 1.204 0.01 O2 C1
DFIX 2.25 0.03 O2 O1
DFIX 1.512 0.01 C2 C1
DFIX 2.305 0.03 C2 O1
DFIX 2.399 0.03 C2 O2
DFIX 1.481 0.01 N3 C2
DFIX 2.481 0.03 N3 C1
DFIX 1.488 0.01 C4 N3
DFIX 2.486 0.03 C4 C2
DFIX 1.815 0.01 P5 C4
DFIX 2.742 0.03 P5 N3
DFIX 1.574 0.01 O3 P5
DFIX 2.676 0.03 O3 C4
DFIX 1.498 0.01 O4 P5
DFIX 2.659 0.03 O4 C4
DFIX 2.544 0.03 O4 O3
DFIX 1.5 0.01 O5 P5
DFIX 2.704 0.03 O5 C4
DFIX 2.456 0.03 O5 O3
DFIX 2.58 0.03 O5 O4
RIGU 0.005 0.005

L.S. 20
PLAN  5
SIZE 0.05 0.135 0.15
TEMP 20
CONF
MORE -1
BOND $H
fmap 2
acta
OMIT 1 1 6
OMIT -5 6 7
OMIT 1 1 5
OMIT -1 0 2
OMIT 1 2 6
OMIT 1 4 7
OMIT 1 2 0
REM <olex2.extras>
REM <HklSrc "%.\\ag_cw21012_0m.hkl">
REM </olex2.extras>

WGHT    0.030200    0.539700
FVAR       0.32349
C1    1    0.010797    0.615004    0.344403    11.00000    0.03434    0.01872 =
         0.02753    0.00574    0.01779    0.00228
O1    4   -0.146214    0.594355    0.274742    11.00000    0.03864    0.04071 =
         0.03676   -0.00590    0.02266   -0.00160
AFIX 147
H1    2   -0.196730    0.618481    0.331784    11.00000   -1.50000
AFIX   0
O2    4    0.074232    0.680182    0.467304    11.00000    0.05139    0.03757 =
         0.02645   -0.00934    0.01617    0.00137
C2    1    0.106162    0.548419    0.248539    11.00000    0.04091    0.02209 =
         0.03531   -0.00679    0.02208   -0.00061
AFIX  23
H2A   2    0.083132    0.425906    0.228550    11.00000   -1.20000
H2B   2    0.070713    0.609114    0.152849    11.00000   -1.20000
AFIX   0
N3    3    0.284948    0.573327    0.323310    11.00000    0.04188    0.01674 =
         0.02610   -0.00064    0.01973   -0.00136
AFIX  23
H3A   2    0.338559    0.502234    0.281541    11.00000   -1.20000
H3B   2    0.311603    0.543944    0.419824    11.00000   -1.20000
AFIX   0
C4    1    0.340957    0.754046    0.313938    11.00000    0.03285    0.02020 =
         0.01710    0.00100    0.00812   -0.00047
AFIX  23
H4A   2    0.274110    0.834297    0.347806    11.00000   -1.20000
H4B   2    0.327741    0.781772    0.210244    11.00000   -1.20000
AFIX   0
P5    5    0.554958    0.776817    0.429829    11.00000    0.05287    0.01604 =
         0.02115    0.00172    0.02226    0.00111
O3    4    0.549366    0.771069    0.594291    11.00000    0.04815    0.02158 =
         0.02353   -0.00107    0.02245   -0.00149
AFIX 147
H3    2    0.502580    0.858052    0.609666    11.00000   -1.50000
AFIX   0
O4    4    0.614554    0.949122    0.395055    11.00000    0.04541    0.01886 =
         0.02627    0.00080    0.02115   -0.00165
O5    4    0.651037    0.618912    0.415930    11.00000    0.03547    0.01985 =
         0.02502    0.00244    0.01419    0.00297
HKLF 4




REM  ag_cw21012_0m in P2(1)/c
REM wR2 = 0.0760, GooF = S = 1.038, Restrained GooF = 0.962 for all data
REM R1 = 0.0348 for 376 Fo > 4sig(Fo) and 0.0502 for all 479 data
REM 93 parameters refined using 82 restraints

END

WGHT      0.0302      0.5397

REM Highest difference peak  0.188,  deepest hole -0.188,  1-sigma level  0.044
Q1    1  -0.0034  0.3974  0.0630  11.00000  0.05    0.19
Q2    1   0.5593  0.7694  0.5185  11.00000  0.05    0.16
Q3    1   0.5198  0.7658  0.5040  11.00000  0.05    0.16
Q4    1   0.3480  0.7780  0.4160  11.00000  0.05    0.14
Q5    1   0.3689  0.9943  0.3216  11.00000  0.05    0.14
;
_shelx_res_checksum              47662
_olex2_exptl_crystal_mounting_method 'Merrill Bassett diamond anvil cell'
_olex2_submission_original_sample_id ag_cw21012_0m
_olex2_submission_special_instructions 'No special instructions were received'
loop_
_space_group_symop_operation_xyz
'x, y, z'
'-x, y+1/2, -z+1/2'
'-x, -y, -z'
'x, -y-1/2, z-1/2'
loop_
_atom_site_label
_atom_site_type_symbol
_atom_site_fract_x
_atom_site_fract_y
_atom_site_fract_z
_atom_site_U_iso_or_equiv
_atom_site_adp_type
_atom_site_occupancy
_atom_site_site_symmetry_order
_atom_site_calc_flag
_atom_site_refinement_flags_posn
_atom_site_refinement_flags_adp
_atom_site_refinement_flags_occupancy
_atom_site_disorder_assembly
_atom_site_disorder_group
C1 C 0.0108(11) 0.6150(6) 0.3444(6) 0.025(3) Uani 1 1 d D . . . .
O1 O -0.1462(10) 0.5944(5) 0.2747(5) 0.036(3) Uani 1 1 d D . . . .
H1 H -0.196730 0.618481 0.331784 0.054 Uiso 1 1 calc R U . . .
O2 O 0.0742(8) 0.6802(3) 0.4673(3) 0.038(3) Uani 1 1 d D . . . .
C2 C 0.1062(11) 0.5484(6) 0.2485(6) 0.030(4) Uani 1 1 d D . . . .
H2A H 0.083132 0.425906 0.228550 0.037 Uiso 1 1 calc R U . . .
H2B H 0.070713 0.609114 0.152849 0.037 Uiso 1 1 calc R U . . .
N3 N 0.2849(11) 0.5733(4) 0.3233(5) 0.026(3) Uani 1 1 d D . . . .
H3A H 0.338559 0.502234 0.281541 0.031 Uiso 1 1 calc R U . . .
H3B H 0.311603 0.543944 0.419824 0.031 Uiso 1 1 calc R U . . .
C4 C 0.3410(9) 0.7540(4) 0.3139(5) 0.023(3) Uani 1 1 d D . . . .
H4A H 0.274110 0.834297 0.347806 0.028 Uiso 1 1 calc R U . . .
H4B H 0.327741 0.781772 0.210244 0.028 Uiso 1 1 calc R U . . .
P5 P 0.5550(4) 0.77682(11) 0.42983(15) 0.0275(15) Uani 1 1 d D . . . .
O3 O 0.5494(8) 0.7711(3) 0.5943(3) 0.028(3) Uani 1 1 d D . . . .
H3 H 0.502580 0.858052 0.609666 0.043 Uiso 1 1 calc R U . . .
O4 O 0.6146(7) 0.9491(3) 0.3951(3) 0.028(3) Uani 1 1 d D . . . .
O5 O 0.6510(7) 0.6189(3) 0.4159(3) 0.026(3) Uani 1 1 d D . . . .
loop_
_atom_site_aniso_label
_atom_site_aniso_U_11
_atom_site_aniso_U_22
_atom_site_aniso_U_33
_atom_site_aniso_U_23
_atom_site_aniso_U_13
_atom_site_aniso_U_12
C1 0.034(10) 0.0187(18) 0.028(3) 0.006(2) 0.018(5) 0.002(4)
O1 0.039(10) 0.0407(18) 0.037(3) -0.0059(18) 0.023(4) -0.002(4)
O2 0.051(11) 0.0376(15) 0.0264(18) -0.0093(12) 0.016(4) 0.001(2)
C2 0.041(11) 0.0221(18) 0.035(4) -0.007(2) 0.022(6) -0.001(4)
N3 0.042(11) 0.0167(15) 0.026(3) -0.0006(15) 0.020(5) -0.001(3)
C4 0.033(10) 0.0202(18) 0.017(2) 0.0010(15) 0.008(4) 0.000(3)
P5 0.053(5) 0.0160(5) 0.0212(7) 0.0017(4) 0.0223(17) 0.0011(8)
O3 0.048(11) 0.0216(12) 0.0235(18) -0.0011(10) 0.022(4) -0.001(2)
O4 0.045(10) 0.0189(12) 0.0263(18) 0.0008(10) 0.021(4) -0.002(2)
O5 0.035(10) 0.0199(12) 0.0250(17) 0.0024(11) 0.014(4) 0.003(2)
loop_
_atom_type_symbol
_atom_type_description
_atom_type_scat_dispersion_real
_atom_type_scat_dispersion_imag
_atom_type_scat_source
C C 0.0013 0.0009 'International Tables Vol C Tables 4.2.6.8 and 6.1.1.4'
H H 0.0000 0.0000 'International Tables Vol C Tables 4.2.6.8 and 6.1.1.4'
N N 0.0030 0.0020 'International Tables Vol C Tables 4.2.6.8 and 6.1.1.4'
O O 0.0058 0.0036 'International Tables Vol C Tables 4.2.6.8 and 6.1.1.4'
P P 0.0671 0.0586 'International Tables Vol C Tables 4.2.6.8 and 6.1.1.4'
loop_
_geom_angle_atom_site_label_1
_geom_angle_atom_site_label_2
_geom_angle_atom_site_label_3
_geom_angle
_geom_angle_site_symmetry_1
_geom_angle_site_symmetry_3
_geom_angle_publ_flag
O1 C1 C2 110.0(6) . . ?
O2 C1 O1 126.2(7) . . ?
O2 C1 C2 123.8(7) . . ?
C1 O1 H1 109.5 . . ?
C1 C2 H2A 109.4 . . ?
C1 C2 H2B 109.4 . . ?
H2A C2 H2B 108.0 . . ?
N3 C2 C1 111.3(5) . . ?
N3 C2 H2A 109.4 . . ?
N3 C2 H2B 109.4 . . ?
C2 N3 H3A 108.8 . . ?
C2 N3 H3B 108.8 . . ?
C2 N3 C4 113.7(6) . . ?
H3A N3 H3B 107.7 . . ?
C4 N3 H3A 108.8 . . ?
C4 N3 H3B 108.8 . . ?
N3 C4 H4A 109.7 . . ?
N3 C4 H4B 109.7 . . ?
N3 C4 P5 109.9(4) . . ?
H4A C4 H4B 108.2 . . ?
P5 C4 H4A 109.7 . . ?
P5 C4 H4B 109.7 . . ?
O3 P5 C4 103.3(3) . . ?
O4 P5 C4 108.0(2) . . ?
O4 P5 O3 111.64(15) . . ?
O4 P5 O5 117.3(3) . . ?
O5 P5 C4 110.4(2) . . ?
O5 P5 O3 105.41(18) . . ?
P5 O3 H3 109.5 . . ?
loop_
_geom_bond_atom_site_label_1
_geom_bond_atom_site_label_2
_geom_bond_distance
_geom_bond_site_symmetry_2
_geom_bond_publ_flag
C1 O1 1.298(9) . ?
C1 O2 1.211(6) . ?
C1 C2 1.503(7) . ?
O1 H1 0.8200 . ?
C2 H2A 0.9700 . ?
C2 H2B 0.9700 . ?
C2 N3 1.474(9) . ?
N3 H3A 0.8900 . ?
N3 H3B 0.8900 . ?
N3 C4 1.486(5) . ?
C4 H4A 0.9700 . ?
C4 H4B 0.9700 . ?
C4 P5 1.806(7) . ?
P5 O3 1.570(2) . ?
P5 O4 1.499(3) . ?
P5 O5 1.502(4) . ?
O3 H3 0.8200 . ?
loop_
_geom_torsion_atom_site_label_1
_geom_torsion_atom_site_label_2
_geom_torsion_atom_site_label_3
_geom_torsion_atom_site_label_4
_geom_torsion
_geom_torsion_site_symmetry_1
_geom_torsion_site_symmetry_2
_geom_torsion_site_symmetry_3
_geom_torsion_site_symmetry_4
_geom_torsion_publ_flag
C1 C2 N3 C4 -78.2(5) . . . . ?
O1 C1 C2 N3 178.8(4) . . . . ?
O2 C1 C2 N3 -0.1(7) . . . . ?
C2 N3 C4 P5 172.3(3) . . . . ?
N3 C4 P5 O3 -72.0(3) . . . . ?
N3 C4 P5 O4 169.6(3) . . . . ?
N3 C4 P5 O5 40.2(3) . . . . ?
