#------------------------------------------------------------------------------
#$Date: 2025-10-06 11:30:27 +0300 (Mon, 06 Oct 2025) $
#$Revision: 302581 $
#$URL: file:///home/coder/svn-repositories/cod/cif/7/25/07/7250715.cif $
#------------------------------------------------------------------------------
#
# This file is available in the Crystallography Open Database (COD),
# http://www.crystallography.net/
#
# All data on this site have been placed in the public domain by the
# contributors.
#
data_7250715
loop_
_publ_author_name
'Guńka, Piotr A.'
'Milos, Sofija'
'Ende, Martin'
'Alabarse, Frederico'
'Miletich, Ronald'
'Dziubek, Kamil F.'
_publ_section_title
;
 Compressing arsenic⋯halogen secondary bonds: a high-pressure
 structural study of arsenic(iii) oxide intercalates with ammonium halides
;
_journal_issue                   36
_journal_name_full               CrystEngComm
_journal_page_first              5983
_journal_page_last               5988
_journal_paper_doi               10.1039/D5CE00593K
_journal_volume                  27
_journal_year                    2025
_chemical_formula_moiety         '2(As2 O3), 2(H4 N), H2 O, 2(Cl)'
_chemical_formula_sum            'As4 Cl2 H10 N2 O7'
_chemical_formula_weight         520.68
_space_group_crystal_system      hexagonal
_space_group_IT_number           191
_space_group_name_Hall           '-P 6 2'
_space_group_name_H-M_alt        'P 6/m m m'
_atom_sites_solution_hydrogens   difmap
_atom_sites_solution_primary     direct
_audit_creation_date             2024-01-19
_audit_creation_method
;
Olex2 1.5
(compiled 2023.08.24 svn.re1ec141 for OlexSys, GUI svn.r6817)
;
_audit_update_record
;
2025-04-03 deposited with the CCDC.	2025-07-29 downloaded from the CCDC.
;
_cell_angle_alpha                90
_cell_angle_beta                 90
_cell_angle_gamma                120
_cell_formula_units_Z            1
_cell_length_a                   5.1237(6)
_cell_length_b                   5.1237(6)
_cell_length_c                   10.62(2)
_cell_measurement_pressure       1.089e+07(5)
_cell_measurement_reflns_used    326
_cell_measurement_temperature    293(2)
_cell_measurement_theta_max      24.2770
_cell_measurement_theta_min      3.1850
_cell_volume                     241.4(5)
_computing_cell_refinement       'CrysAlisPro 1.171.43.104a (Rigaku OD, 2023)'
_computing_data_collection
'CrysAlisPro 1.171.43.104a (Rigaku OD, 2023) (IMPORT)'
_computing_data_reduction        'CrysAlisPro 1.171.43.104a (Rigaku OD, 2023)'
_computing_molecular_graphics    'Olex2 1.5 (Dolomanov et al., 2009)'
_computing_publication_material  'Olex2 1.5 (Dolomanov et al., 2009)'
_computing_structure_refinement  'SHELXL 2018/3 (Sheldrick, 2015)'
_computing_structure_solution    'SHELXS  (Sheldrick, 2008)'
_diffrn_ambient_pressure         1.089e+07(5)
_diffrn_ambient_temperature      293(2)
_diffrn_detector                 'Hybrid Pixel Array Detector'
_diffrn_detector_area_resol_mean 5.8140
_diffrn_measured_fraction_theta_full 0.402
_diffrn_measured_fraction_theta_max 0.326
_diffrn_measurement_details
;
List of Runs (angles in degrees, time in seconds):

  # Type    Start    End  Width  tₑₓₚ   ω     θ     κ     φ   Frames
#--------------------------------------------------------------------------
  1  φ    -37.00  37.00   0.50    0.25   0.00   0.00   0.00    --   148
;
_diffrn_measurement_device       'abstract diffractometer'
_diffrn_measurement_device_type
'esperanto-CrysAlisPro-abstract goniometer imported esperanto images'
_diffrn_measurement_method       'φ scans'
_diffrn_orient_matrix_type
'CrysAlisPro convention (1999,Acta A55,543-557)'
_diffrn_orient_matrix_UB_11      -0.0072917000
_diffrn_orient_matrix_UB_12      0.0084948000
_diffrn_orient_matrix_UB_13      0.0466951000
_diffrn_orient_matrix_UB_21      -0.0846890000
_diffrn_orient_matrix_UB_22      -0.1045494000
_diffrn_orient_matrix_UB_23      0.0011765000
_diffrn_orient_matrix_UB_31      0.0716725000
_diffrn_orient_matrix_UB_32      -0.0368719000
_diffrn_orient_matrix_UB_33      0.0059630000
_diffrn_radiation_monochromator  synchrotron
_diffrn_radiation_probe          x-ray
_diffrn_radiation_type           synchrotron
_diffrn_radiation_wavelength     0.49585
_diffrn_reflns_av_R_equivalents  0.0278
_diffrn_reflns_av_unetI/netI     0.0148
_diffrn_reflns_Laue_measured_fraction_full 0.402
_diffrn_reflns_Laue_measured_fraction_max 0.326
_diffrn_reflns_limit_h_max       7
_diffrn_reflns_limit_h_min       -7
_diffrn_reflns_limit_k_max       8
_diffrn_reflns_limit_k_min       -8
_diffrn_reflns_limit_l_max       5
_diffrn_reflns_limit_l_min       -4
_diffrn_reflns_number            494
_diffrn_reflns_point_group_measured_fraction_full 0.402
_diffrn_reflns_point_group_measured_fraction_max 0.326
_diffrn_reflns_theta_full        17.308
_diffrn_reflns_theta_max         24.431
_diffrn_reflns_theta_min         3.203
_diffrn_source                   synchrotron
_exptl_absorpt_coefficient_mu    5.355
_exptl_absorpt_correction_T_max  1.00000
_exptl_absorpt_correction_T_min  0.23672
_exptl_absorpt_correction_type   multi-scan
_exptl_absorpt_process_details
;
CrysAlisPro 1.171.43.104a (Rigaku Oxford Diffraction, 2023)
Empirical absorption correction using spherical harmonics,
implemented in SCALE3 ABSPACK scaling algorithm.
;
_exptl_crystal_colour            colourless
_exptl_crystal_colour_primary    colourless
_exptl_crystal_density_diffrn    3.581
_exptl_crystal_description       plate
_exptl_crystal_F_000             246
_exptl_crystal_size_max          0.13
_exptl_crystal_size_mid          0.1
_exptl_crystal_size_min          0.01
_refine_diff_density_max         0.561
_refine_diff_density_min         -0.348
_refine_diff_density_rms         0.111
_refine_ls_extinction_method     none
_refine_ls_goodness_of_fit_ref   1.266
_refine_ls_hydrogen_treatment    constr
_refine_ls_matrix_type           full
_refine_ls_number_parameters     13
_refine_ls_number_reflns         97
_refine_ls_number_restraints     0
_refine_ls_restrained_S_all      1.266
_refine_ls_R_factor_all          0.0327
_refine_ls_R_factor_gt           0.0316
_refine_ls_shift/su_max          0.000
_refine_ls_shift/su_mean         0.000
_refine_ls_structure_factor_coef Fsqd
_refine_ls_weighting_details
'w=1/[σ²(Fo²)+(0.0575P)²] where P=(Fo²+2Fc²)/3'
_refine_ls_weighting_scheme      calc
_refine_ls_wR_factor_gt          0.0892
_refine_ls_wR_factor_ref         0.0893
_reflns_Friedel_coverage         0.000
_reflns_number_gt                93
_reflns_number_total             97
_reflns_threshold_expression     'I > 2σ(I)'
_cod_data_source_file            d5ce00593k3.cif
_cod_data_source_block           ynh4cl_p10
_cod_depositor_comments
'Adding full bibliography for 7250713--7250749.cif.'
_cod_database_code               7250715
_shelx_shelxl_version_number     2018/3
_chemical_oxdiff_formula         As4H10Cl2N2O7
_shelx_space_group_comment
;
The symmetry employed for this shelxl refinement is uniquely defined
by the following loop, which should always be used as a source of
symmetry information in preference to the above space-group names.
They are only intended as comments.
;
_shelx_estimated_absorpt_t_max   0.948
_shelx_estimated_absorpt_t_min   0.543
_diffrn_orient_matrix_axis[1]    matrixX
_diffrn_orient_matrix_axis[2]    matrixY
_diffrn_orient_matrix_axis[3]    matrixZ
_olex2_refinement_description
;
1. Fixed Uiso
 At 1.5 times of:
  All N(H,H) groups, All O(H) groups
2. Uiso/Uaniso restraints and constraints
Uiso(O2) = Uiso(N2)
3. Others
 Fixed Sof: H1A(0.041667) H1B(0.125) O2(0.041667) H2(0.083333) N2(0.041667)
 H2B(0.083333) H2A(0.083333)
 Fixed X: H1A(0) H1B(0) H2(0.34727) H2B(0.35642) H2A(0.58084)
 Fixed Y: H1A(0) H1B(0.165791) H2(0) H2B(0) H2A(0.161671)
 Fixed Z: H1A(0.08484) H1B(-0.02828) H2(0.4479) H2B(0.45102) H2A(0.548981)
;
_shelx_res_file
;
TITL YNH4Cl_p10 in P6/mmm #191
    ynh4cl_p10.res
    created by SHELXL-2018/3 at 11:54:45 on 19-Jan-2024
CELL 0.49585 5.123717 5.123717 10.619458 90 90 120
ZERR 1 0.000599 0.000599 0.019994 0 0 0
LATT 1
SYMM -Y+X,+X,+Z
SYMM -Y,+X-Y,+Z
SYMM -X,-Y,+Z
SYMM +Y-X,-X,+Z
SYMM +Y,-X+Y,+Z
SYMM -Y+X,-Y,-Z
SYMM -X,-X+Y,-Z
SYMM +Y,+X,-Z
SYMM -Y,-X,-Z
SYMM +Y-X,+Y,-Z
SYMM +X,+X-Y,-Z
SFAC H N O Cl As
DISP As 0.3052 1.0752 3083.3928
DISP Cl 0.0808 0.0779 237.0775
DISP H -0 0 0.6076
DISP N 0.002 0.0014 9.3186
DISP O 0.0042 0.0027 13.9362
UNIT 10 2 7 2 4
EADP O2 N2

L.S. 10
PLAN  5
SIZE 0.01 0.1 0.13
CONF
BOND
MORE -1
BOND $H
fmap 2
acta
REM <olex2.extras>
REM <HklSrc "%./YNH4Cl_p10.hkl">
REM </olex2.extras>

WGHT    0.057500
FVAR       8.39933
AS1   5    0.333333    0.666667    0.219978    10.16667    0.00959    0.00959 =
         0.11511    0.00000    0.00000    0.00479
O1    3    0.000000    0.500000    0.131038    10.25000    0.00687    0.01149 =
         0.10186    0.00000    0.00000    0.00343
CL2   4    0.000000    0.000000    0.317434    10.08333    0.01770    0.01770 =
         0.12153    0.00000    0.00000    0.00885
N1    2    0.000000    0.000000    0.000000    10.04167    0.01137
H1A   1   10.000000   10.000000   10.084840    10.04167   -1.50000
H1B   1   10.000000   10.165791    9.971720    10.12500   -1.50000
PART 1
O2    3    0.500000    0.000000    0.500000    10.04167    0.06429
H2    1   10.347270   10.000000   10.447900    10.08333   -1.50000
PART 2
N2    2    0.500000    0.000000    0.500000    10.04167    0.06429
H2B   1   10.356420   10.000000   10.451020    10.08333   -1.50000
H2A   1   10.580840   10.161671   10.548981    10.08333   -1.50000
HKLF 4




REM  YNH4Cl_p10 in P6/mmm #191
REM wR2 = 0.0893, GooF = S = 1.266, Restrained GooF = 1.266 for all data
REM R1 = 0.0316 for 93 Fo > 4sig(Fo) and 0.0327 for all 97 data
REM 13 parameters refined using 0 restraints

END

WGHT      0.0578      0.0000

REM Highest difference peak  0.561,  deepest hole -0.348,  1-sigma level  0.111
Q1    1   0.0000  0.0000  0.2033  10.08333  0.05    0.56
Q2    1   0.7138  0.2862  0.5000  10.25000  0.05    0.41
Q3    1  -0.1522  0.3436  0.1106  11.00000  0.05    0.37
Q4    1   0.0000  0.3512  0.2097  10.50000  0.05    0.36
Q5    1   0.0000  0.0000  0.5000  10.04167  0.05    0.30
;
_shelx_res_checksum              45862
_olex2_submission_special_instructions 'No special instructions were received'
_oxdiff_exptl_absorpt_empirical_details
;
Empirical correction (ABSPACK) includes:
- Absorption correction using spherical harmonics
- Frame scaling
- Detector area scaling
;
_oxdiff_exptl_absorpt_empirical_full_max 2.434
_oxdiff_exptl_absorpt_empirical_full_min 0.655
loop_
_space_group_symop_operation_xyz
'x, y, z'
'x-y, x, z'
'-y, x-y, z'
'-x, -y, z'
'-x+y, -x, z'
'y, -x+y, z'
'x-y, -y, -z'
'-x, -x+y, -z'
'y, x, -z'
'-y, -x, -z'
'-x+y, y, -z'
'x, x-y, -z'
'-x, -y, -z'
'-x+y, -x, -z'
'y, -x+y, -z'
'x, y, -z'
'x-y, x, -z'
'-y, x-y, -z'
'-x+y, y, z'
'x, x-y, z'
'-y, -x, z'
'y, x, z'
'x-y, -y, z'
'-x, -x+y, z'
loop_
_atom_site_label
_atom_site_type_symbol
_atom_site_fract_x
_atom_site_fract_y
_atom_site_fract_z
_atom_site_U_iso_or_equiv
_atom_site_adp_type
_atom_site_occupancy
_atom_site_site_symmetry_order
_atom_site_calc_flag
_atom_site_refinement_flags_posn
_atom_site_refinement_flags_adp
_atom_site_refinement_flags_occupancy
_atom_site_disorder_assembly
_atom_site_disorder_group
As1 As 0.333333 0.666667 0.2200(3) 0.0448(14) Uani 1 6 d S T P . .
O1 O 0.000000 0.500000 0.1310(17) 0.041(6) Uani 1 4 d S T P . .
Cl2 Cl 0.000000 0.000000 0.3174(12) 0.052(5) Uani 1 12 d S T P . .
N1 N 0.000000 0.000000 0.000000 0.011(2) Uiso 1 24 d S . P . .
H1A H 0.000000 0.000000 0.084840 0.017 Uiso 0.5 12 d S U P . .
H1B H 0.000000 0.165791 -0.028280 0.017 Uiso 0.25 2 d S U P . .
O2 O 0.500000 0.000000 0.500000 0.064(7) Uiso 0.3334 8 d S . P A 1
H2 H 0.347270 0.000000 0.447900 0.096 Uiso 0.1667 2 d S U P B 1
N2 N 0.500000 0.000000 0.500000 0.064(7) Uiso 0.3334 8 d S . P C 2
H2B H 0.356420 0.000000 0.451020 0.096 Uiso 0.1667 2 d S U P D 2
H2A H 0.580840 0.161671 0.548981 0.096 Uiso 0.1667 2 d S U P E 2
loop_
_atom_site_aniso_label
_atom_site_aniso_U_11
_atom_site_aniso_U_22
_atom_site_aniso_U_33
_atom_site_aniso_U_23
_atom_site_aniso_U_13
_atom_site_aniso_U_12
As1 0.0096(4) 0.0096(4) 0.115(4) 0.000 0.000 0.0048(2)
O1 0.0069(17) 0.0115(14) 0.10(2) 0.000 0.000 0.0034(8)
Cl2 0.0177(10) 0.0177(10) 0.122(17) 0.000 0.000 0.0088(5)
loop_
_atom_type_symbol
_atom_type_description
_atom_type_scat_dispersion_real
_atom_type_scat_dispersion_imag
_atom_type_scat_source
H H 0.0000 0.0000 'International Tables Vol C Tables 4.2.6.8 and 6.1.1.4'
N N 0.0020 0.0014 'International Tables Vol C Tables 4.2.6.8 and 6.1.1.4'
O O 0.0042 0.0027 'International Tables Vol C Tables 4.2.6.8 and 6.1.1.4'
Cl Cl 0.0808 0.0779 'International Tables Vol C Tables 4.2.6.8 and 6.1.1.4'
As As 0.3052 1.0752 'International Tables Vol C Tables 4.2.6.8 and 6.1.1.4'
loop_
_axis.id
_axis.system
_axis.type
_axis.equipment
_axis.parity
_axis.depends_on
_axis.zero
_axis.vector[1]
_axis.vector[2]
_axis.vector[3]
source abstract . source . . . 1.00000000 0.00000000 0.00000000
omega abstract rotation goniometer -1 . 0.00000000 0.00000000 0.00000000
1.00000000
kappa abstract rotation goniometer -1 omega 0.00000000 -0.76604444 0.00000000
0.64278761
phi abstract rotation goniometer -1 kappa . 0.00000000 0.00000000 1.00000000
theta abstract rotation goniometer -1 . -0.21147856 0.00000000 0.00000000
1.00000000
matrixX abstract general general . phi . 1.00000000 0.00000000 0.00000000
matrixY abstract general general . phi . 0.00000000 1.00000000 0.00000000
matrixZ abstract general general . phi . 0.00000000 0.00000000 1.00000000
dacX abstract translation general . phi . 0.00000000 1.00000000 0.00000000
dacY abstract translation general . phi . -1.00000000 0.00000000 0.00000000
dacZ abstract translation general . phi . 0.00000000 0.00000000 1.00000000
loop_
_geom_angle_atom_site_label_1
_geom_angle_atom_site_label_2
_geom_angle_atom_site_label_3
_geom_angle
_geom_angle_site_symmetry_1
_geom_angle_site_symmetry_3
_geom_angle_publ_flag
O1 As1 O1 93.8(7) . 2_665 ?
O1 As1 O1 93.8(7) . 3_665 ?
O1 As1 O1 93.8(7) 2_665 3_665 ?
As1 O1 As1 114.9(10) . 2 ?
H1A N1 H1A 180.0 . 13 ?
H1A N1 H1B 70.53(3) . 17 ?
H1A N1 H1B 109.47(3) . 5 ?
H1A N1 H1B 70.53(3) 13 4 ?
H1A N1 H1B 70.53(3) . 18 ?
H1A N1 H1B 109.47(3) 13 15 ?
H1A N1 H1B 109.47(3) . 6 ?
H1A N1 H1B 109.47(3) 13 17 ?
H1A N1 H1B 70.53(3) 13 3 ?
H1A N1 H1B 70.53(3) . 16 ?
H1A N1 H1B 109.47(3) 13 13 ?
H1A N1 H1B 109.47(3) . . ?
H1A N1 H1B 109.47(3) . 2 ?
H1A N1 H1B 70.53(3) 13 6 ?
H1A N1 H1B 70.53(3) 13 2 ?
H1A N1 H1B 70.53(3) 13 5 ?
H1A N1 H1B 70.53(3) . 14 ?
H1A N1 H1B 70.53(3) . 15 ?
H1A N1 H1B 109.47(3) 13 14 ?
H1A N1 H1B 109.47(3) . 4 ?
H1A N1 H1B 109.47(3) . 3 ?
H1A N1 H1B 109.47(3) 13 18 ?
H1A N1 H1B 109.47(3) 13 16 ?
H1A N1 H1B 70.53(3) . 13 ?
H1B N1 H1A 70.53(3) . 13 ?
H1B N1 H1B 109.47(3) 14 18 ?
H1B N1 H1B 109.47(3) 14 16 ?
H1B N1 H1B 180.0 2 14 ?
H1B N1 H1B 141.06(7) 15 18 ?
H1B N1 H1B 56.251(13) 3 4 ?
H1B N1 H1B 109.47(3) 16 18 ?
H1B N1 H1B 70.53(3) . 17 ?
H1B N1 H1B 56.251(13) 17 18 ?
H1B N1 H1B 70.53(3) 14 4 ?
H1B N1 H1B 56.251(13) 15 16 ?
H1B N1 H1B 56.251(13) . 6 ?
H1B N1 H1B 180.0 4 16 ?
H1B N1 H1B 38.94(7) . 16 ?
H1B N1 H1B 123.749(13) 15 4 ?
H1B N1 H1B 70.53(3) 2 16 ?
H1B N1 H1B 109.47(3) . 5 ?
H1B N1 H1B 123.749(13) 3 16 ?
H1B N1 H1B 109.47(3) . 3 ?
H1B N1 H1B 141.06(7) . 4 ?
H1B N1 H1B 70.53(3) 13 5 ?
H1B N1 H1B 70.53(3) 14 6 ?
H1B N1 H1B 141.06(7) 2 5 ?
H1B N1 H1B 70.53(3) 16 6 ?
H1B N1 H1B 38.94(7) 14 5 ?
H1B N1 H1B 123.749(13) . 18 ?
H1B N1 H1B 109.47(3) 3 5 ?
H1B N1 H1B 70.53(3) 2 18 ?
H1B N1 H1B 56.251(13) 4 5 ?
H1B N1 H1B 141.06(7) 13 16 ?
H1B N1 H1B 109.47(3) 13 17 ?
H1B N1 H1B 109.47(3) 13 15 ?
H1B N1 H1B 141.06(7) 14 17 ?
H1B N1 H1B 38.94(7) 15 6 ?
H1B N1 H1B 109.47(3) 15 17 ?
H1B N1 H1B 70.53(3) 13 3 ?
H1B N1 H1B 56.251(13) 16 17 ?
H1B N1 H1B 123.749(13) 2 15 ?
H1B N1 H1B 56.251(13) 2 3 ?
H1B N1 H1B 56.251(13) 14 15 ?
H1B N1 H1B 123.749(13) 14 3 ?
H1B N1 H1B 56.251(13) 13 18 ?
H1B N1 H1B 109.47(3) 2 6 ?
H1B N1 H1B 180.0 3 15 ?
H1B N1 H1B 141.06(7) 3 6 ?
H1B N1 H1B 70.53(3) 3 17 ?
H1B N1 H1B 109.47(3) 4 6 ?
H1B N1 H1B 56.251(13) . 2 ?
H1B N1 H1B 56.251(13) 5 6 ?
H1B N1 H1B 123.749(13) 13 6 ?
H1B N1 H1B 180.0 . 13 ?
H1B N1 H1B 180.0 5 17 ?
H1B N1 H1B 70.53(3) . 15 ?
H1B N1 H1B 123.749(13) 17 6 ?
H1B N1 H1B 123.749(13) . 14 ?
H1B N1 H1B 56.251(13) 13 14 ?
H1B N1 H1B 38.94(7) 3 18 ?
H1B N1 H1B 123.749(13) 13 2 ?
H1B N1 H1B 70.53(3) 4 18 ?
H1B N1 H1B 38.94(7) 13 4 ?
H1B N1 H1B 123.749(13) 5 18 ?
H1B N1 H1B 38.94(7) 2 17 ?
H1B N1 H1B 180.0 6 18 ?
H1B N1 H1B 109.47(3) 2 4 ?
H1B N1 H1B 70.53(3) 15 5 ?
H1B N1 H1B 123.749(13) 4 17 ?
H1B N1 H1B 123.749(13) 16 5 ?
H2 O2 H2B 180.0 . 13_656 ?
H2 O2 H2B 109.48(10) . 4_655 ?
H2 O2 H2B 70.52(10) . 16_556 ?
H2 O2 H2A 70.19(5) . 13_656 ?
H2 O2 H2A 109.81(5) . 4_655 ?
H2 O2 H2A 70.19(5) . 16_556 ?
H2B O2 H2A 109.81(5) 13_656 16_556 ?
H2B O2 H2A 70.19(5) 4_655 16_556 ?
H2B O2 H2A 109.81(5) 16_556 16_556 ?
H2A O2 H2A 108.11(10) 13_656 16_556 ?
H2A O2 H2A 180.0 4_655 16_556 ?
H2B N2 H2A 109.81(5) . . ?
H2B N2 H2A 109.81(5) 16_556 16_556 ?
H2B N2 H2A 109.81(5) 13_656 16_556 ?
H2B N2 H2A 70.19(5) 4_655 16_556 ?
H2B N2 H2A 70.19(5) . 16_556 ?
H2A N2 H2A 180.0 4_655 16_556 ?
H2A N2 H2A 108.11(10) 13_656 16_556 ?
H2A N2 H2A 71.89(10) . 16_556 ?
loop_
_geom_bond_atom_site_label_1
_geom_bond_atom_site_label_2
_geom_bond_distance
_geom_bond_site_symmetry_2
_geom_bond_publ_flag
As1 O1 1.755(10) . ?
As1 O1 1.755(10) 2_665 ?
As1 O1 1.755(10) 3_665 ?
N1 H1A 0.9010(17) . ?
N1 H1A 0.9009(17) 13 ?
N1 H1B 0.9010(2) 17 ?
N1 H1B 0.9010(2) 15 ?
N1 H1B 0.9010(2) 16 ?
N1 H1B 0.9010(2) 5 ?
N1 H1B 0.9010(2) 18 ?
N1 H1B 0.9010(2) 14 ?
N1 H1B 0.9010(2) 4 ?
N1 H1B 0.9010(2) 13 ?
N1 H1B 0.9010(2) 3 ?
N1 H1B 0.9010(2) 6 ?
N1 H1B 0.9010(2) . ?
N1 H1B 0.9010(2) 2 ?
O2 H2 0.9584(6) . ?
O2 H2B 0.9010(6) 4_655 ?
O2 H2B 0.9010(6) 16_556 ?
O2 H2B 0.9010(6) 13_656 ?
O2 H2A 0.8861(6) 16_556 ?
O2 H2A 0.8861(6) 13_656 ?
O2 H2A 0.8861(6) 4_655 ?
N2 H2B 0.9010(6) 16_556 ?
N2 H2B 0.9010(6) . ?
N2 H2B 0.9010(6) 4_655 ?
N2 H2B 0.9010(6) 13_656 ?
N2 H2A 0.8861(6) 16_556 ?
N2 H2A 0.8861(6) . ?
N2 H2A 0.8861(6) 13_656 ?
N2 H2A 0.8861(6) 4_655 ?
loop_
_geom_torsion_atom_site_label_1
_geom_torsion_atom_site_label_2
_geom_torsion_atom_site_label_3
_geom_torsion_atom_site_label_4
_geom_torsion
_geom_torsion_site_symmetry_1
_geom_torsion_site_symmetry_2
_geom_torsion_site_symmetry_3
_geom_torsion_site_symmetry_4
_geom_torsion_publ_flag
O1 As1 O1 As1 -133.0(4) 2_665 . . 2 ?
O1 As1 O1 As1 133.0(4) 3_665 . . 2 ?
