#------------------------------------------------------------------------------
#$Date: 2025-08-23 02:36:08 +0300 (Sat, 23 Aug 2025) $
#$Revision: 301880 $
#$URL: file:///home/coder/svn-repositories/cod/cif/8/00/03/8000300.cif $
#------------------------------------------------------------------------------
#
# This file is available in the Crystallography Open Database (COD),
# http://www.crystallography.net/
#
# All data on this site have been placed in the public domain by the
# contributors.
#
data_8000300
loop_
_publ_author_name
'Malaspina, Lorraine A.'
'Wieduwilt, Erna K.'
'Bergmann, Justin'
'Kleemiss, Florian'
'Meyer, Benjamin'
'Ruiz-López, Manuel F'
'Pal, Rumpa'
'Hupf, Emanuel'
'Beckmann, Jens'
'Piltz, Ross O.'
'Edwards, Alison J.'
'Grabowsky, Simon'
'Genoni, Alessandro'
_publ_section_title
;
 Fast and Accurate Quantum Crystallography: From Small to Large, from
 Light to Heavy.
;
_journal_name_full               'The journal of physical chemistry letters'
_journal_page_first              6973
_journal_page_last               6982
_journal_paper_doi               10.1021/acs.jpclett.9b02646
_journal_year                    2019
_chemical_absolute_configuration syn
_chemical_formula_moiety         'C5 H10 N2 O3'
_chemical_formula_sum            'C5 H10 N2 O3'
_chemical_formula_weight         146.1471
_chemical_name_common            Glycil-L-Alanine
_chemical_name_systematic        Glycil-L-Alanine
_space_group_IT_number           19
_space_group_name_Hall           'P 2ac 2ab'
_space_group_name_H-M_alt        'P 21 21 21'
_symmetry_cell_setting           orthorhombic
_symmetry_Int_Tables_number      19
_symmetry_space_group_name_Hall  'P 2ac 2ab'
_symmetry_space_group_name_H-M   'P 21 21 21'
_atom_sites_solution_hydrogens   difmap
_atom_sites_solution_primary     direct
_atom_sites_solution_secondary   difmap
_audit_creation_date             2019-01-14T16:58:15-00:00
_audit_creation_method           'WinGX routine CIF_UPDATE'
_cell_angle_alpha                90
_cell_angle_beta                 90
_cell_angle_gamma                90
_cell_formula_units_Z            4
_cell_length_a                   7.487(2)
_cell_length_b                   9.49600(10)
_cell_length_c                   9.7099(4)
_cell_measurement_reflns_used    310
_cell_measurement_temperature    150(2)
_cell_measurement_theta_max      21.1
_cell_measurement_theta_min      6.04
_cell_volume                     690.34(19)
_computing_cell_refinement
'SMART-Bruker software V5.618 (BrukerAXS, 1997-2002)'
_computing_data_collection
'SMART-Bruker software V5.618 (BrukerAXS, 1997-2002)'
_computing_data_reduction        'SAINT V6.41A (BrukerAXS, 1997-2002)'
_computing_structure_refinement
'Tonto 18.12.17 github v. 2b3dd9c (Capelli, 2014)'
_computing_structure_solution    'SHELXS-97 (Sheldrick, 1990)'
_diffrn_ambient_temperature      150(2)
_diffrn_detector_area_resol_mean 0.657
_diffrn_measured_fraction_theta_full 0.989
_diffrn_measured_fraction_theta_max 0.974
_diffrn_measurement_device_type  'Bruker SMART-CCD'
_diffrn_measurement_method       'area detector'
_diffrn_radiation_monochromator  'Si(111) double crystal'
_diffrn_radiation_type           synchrotron
_diffrn_radiation_wavelength     0.5259
_diffrn_reflns_av_R_equivalents  0.0262
_diffrn_reflns_av_unetI/netI     0.0207
_diffrn_reflns_Laue_measured_fraction_full 0.989
_diffrn_reflns_Laue_measured_fraction_max 0.974
_diffrn_reflns_limit_h_max       11
_diffrn_reflns_limit_h_min       -11
_diffrn_reflns_limit_k_max       13
_diffrn_reflns_limit_k_min       -13
_diffrn_reflns_limit_l_max       14
_diffrn_reflns_limit_l_min       -14
_diffrn_reflns_number            13196
_diffrn_reflns_point_group_measured_fraction_full 0.991
_diffrn_reflns_point_group_measured_fraction_max 0.968
_diffrn_reflns_theta_full        18.393
_diffrn_reflns_theta_max         23.792
_diffrn_reflns_theta_min         2.22
_exptl_absorpt_coefficient_mu    0.071
_exptl_absorpt_correction_type   none
_exptl_crystal_colour            Colourless
_exptl_crystal_density_diffrn    1.406
_exptl_crystal_density_method    'not measured'
_exptl_crystal_description       Prismatic
_exptl_crystal_F_000             312
_exptl_crystal_size_max          0.1
_exptl_crystal_size_mid          0.08
_exptl_crystal_size_min          0.05
_refine_diff_density_max         0.1231
_refine_diff_density_min         -0.1269
_refine_diff_density_rms         0.0313
_refine_ls_abs_structure_details
;
 Flack x determined using 997 quotients [(I+)-(I-)]/[(I+)+(I-)]
 (Parsons, Flack and Wagner, Acta Cryst. B69 (2013) 249-259).
;
_refine_ls_abs_structure_Flack   -0.2(3)
_refine_ls_extinction_method     none
_refine_ls_goodness_of_fit_all   1.5282
_refine_ls_goodness_of_fit_gt    1.5282
_refine_ls_hydrogen_treatment    refall
_refine_ls_matrix_type           full
_refine_ls_number_constraints    0
_refine_ls_number_parameters     181
_refine_ls_number_reflns         2440
_refine_ls_number_restraints     0
_refine_ls_R_factor_all          0.0161
_refine_ls_R_factor_gt           0.0161
_refine_ls_shift/su_max          0.0039
_refine_ls_shift/su_mean         0
_refine_ls_structure_factor_coef F
_refine_ls_weighting_details     w=1/σ(F)
_refine_ls_weighting_scheme      sigma
_refine_ls_wR_factor_all         0.0142
_refine_ls_wR_factor_gt          0.0142
_refine_ls_wR_factor_ref         0.0642
_reflns_Friedel_coverage         0.714
_reflns_Friedel_fraction_full    0.994
_reflns_Friedel_fraction_max     0.958
_reflns_number_gt                2440
_reflns_number_total             2440
_reflns_threshold_expression     'F>0 & F/u(F)>3.0 & |F_calc|>10^-3'
_iucr_refine_instructions_details
;
!!!!!!!!!!!!!!!!!!!!!!!!!!!!!!!!!!!!!!!!!!!!!!!!!!!!!!!!!!!!!!!!!!!!!!!!!!!!!!!
!!!                                                                         !!!
!!!                        This stdin was written with lamaGOET             !!!
!!!                                                                         !!!
!!!                    script written by Lorraine Andrade Malaspina         !!!
!!!                        contact: lorraine.malaspina@gmail.com            !!!
!!!                                                                         !!!
!!!!!!!!!!!!!!!!!!!!!!!!!!!!!!!!!!!!!!!!!!!!!!!!!!!!!!!!!!!!!!!!!!!!!!!!!!!!!!!
{ 

   keyword_echo_on

   name= HAR

   ! Process the CIF
   CIF= {
       file_name= GlyAla_150K.cif
    }

   process_CIF

   name= HAR

   basis_directory= /usr/local/bin/basis_sets
   basis_name= 6-311G(d,p)

   charge= 0
   multiplicity= 1


   crystal= {    
      xray_data= {   
         thermal_smearing_model= hirshfeld
         partition_model= mulliken
         optimise_extinction= false
         correct_dispersion= no
         optimise_scale_factor= true
         wavelength= 0.5259 Angstrom
         REDIRECT tonto.data_150K.hkl
         f_sigma_cutoff= 3
         refine_H_U_iso= no

      }  
   }  

   ! Geometry    
   put

   ! Normal SCF
   scfdata= {
      initial_density= promolecule 
      kind= rhf
      use_SC_cluster_charges= FALSE
      convergence= 0.001
      diis= { convergence_tolerance= 0.0002 }
   }

    scf

    refine_hirshfeld_atoms

}
;
_cod_data_source_file            GlyAla_150K.cif
_cod_data_source_block           GlyAla_150K_HAR
_cod_depositor_comments
;
The following automatic conversions were performed:

'_symmetry_cell_setting' value 'Orthorhombic' changed to
'orthorhombic' according to
/home/data/users/saulius/crontab/automatic-downloads/rss-feeds/ACS/lib/dictionaries/cif_core.dic
dictionary named 'cif_core.dic' version 2.4.2 from 2011-04-26.

Automatic conversion script
Id: cif_fix_values 4973 2017-02-22 13:04:09Z antanas 
;
_cod_original_sg_symbol_Hall     'p 2ac 2ab'
_cod_original_sg_symbol_H-M      'p 21 21 21'
_cod_database_code               8000300
_refine_ls_coordinate_system     cartesian
_refine_ls_svd_threshold         0.1E-02
loop_
_symmetry_equiv_pos_as_xyz
'+x, +y, +z'
'-x+1/2, -y, +z+1/2'
'+x+1/2, -y+1/2, -z'
'-x, +y+1/2, -z+1/2'
loop_
_atom_site_label
_atom_site_fract_x
_atom_site_fract_y
_atom_site_fract_z
_atom_site_U_iso_or_equiv
_atom_site_adp_type
_atom_site_occupancy
_atom_site_disorder_group
N(2) 0.73450(4) 0.75564(4) 0.40078(3) 0.01149(14) Uani 1 0
H(12) 0.8614(8) 0.8008(9) 0.4081(7) 0.029(4) Uani 1 0
H(22) 0.7350(10) 0.6817(10) 0.3234(7) 0.035(5) Uani 1 0
H(32) 0.7049(10) 0.7029(9) 0.4917(7) 0.030(4) Uani 1 0
C(5) 0.59937(5) 0.86687(5) 0.38157(3) 0.01225(15) Uani 1 0
H(5A) 0.4681(8) 0.8179(9) 0.3602(6) 0.032(4) Uani 1 0
H(5B) 0.6369(9) 0.9345(8) 0.2929(6) 0.033(4) Uani 1 0
C(4) 0.58961(4) 0.95465(5) 0.51352(3) 0.00988(14) Uani 1 0
O(3) 0.70919(3) 0.94919(3) 0.59969(2) 0.01517(12) Uani 1 0
N(1) 0.44382(4) 1.03571(4) 0.52527(3) 0.01093(13) Uani 1 0
H(11) 0.3539(8) 1.0401(9) 0.4481(6) 0.029(4) Uani 1 0
C(2) 0.42704(5) 1.13418(5) 0.63889(3) 0.01127(15) Uani 1 0
H(2) 0.5575(8) 1.1838(8) 0.6576(5) 0.025(3) Uani 1 0
C(3) 0.28600(7) 1.24454(6) 0.60356(4) 0.0240(2) Uani 1 0
H(3A) 0.1582(9) 1.1929(10) 0.5849(8) 0.049(5) Uani 1 0
H(3B) 0.3250(12) 1.3016(10) 0.5128(8) 0.057(5) Uani 1 0
H(3C) 0.2691(12) 1.3176(10) 0.6901(7) 0.052(5) Uani 1 0
C(1) 0.37378(4) 1.06558(4) 0.77657(3) 0.00997(14) Uani 1 0
O(1) 0.26868(4) 0.96308(3) 0.77787(2) 0.01688(13) Uani 1 0
O(2) 0.43051(3) 1.12561(3) 0.88345(2) 0.01496(12) Uani 1 0
loop_
_atom_site_aniso_label
_atom_site_aniso_U_11
_atom_site_aniso_U_22
_atom_site_aniso_U_33
_atom_site_aniso_U_23
_atom_site_aniso_U_13
_atom_site_aniso_U_12
N(2) 0.01400(13) 0.00954(17) 0.01092(11) -0.00050(12) 0.00205(10) 0.00191(12)
H(12) 0.026(4) 0.030(5) 0.031(4) 0.003(4) 0.005(3) 0.007(4)
H(22) 0.035(5) 0.038(5) 0.031(4) -0.005(4) 0.001(3) 0.010(4)
H(32) 0.036(4) 0.024(5) 0.029(4) 0.004(3) 0.000(3) 0.005(4)
C(5) 0.01613(15) 0.0123(2) 0.00837(12) -0.00155(13) -0.00019(10) 0.00193(13)
H(5A) 0.031(4) 0.034(5) 0.029(3) -0.016(3) -0.009(3) 0.000(4)
H(5B) 0.050(4) 0.024(5) 0.024(3) 0.003(3) -0.004(3) 0.011(4)
C(4) 0.01230(13) 0.00927(18) 0.00806(11) -0.00012(11) -0.00022(9) 0.00044(13)
O(3) 0.01749(11) 0.01526(16) 0.01276(10) -0.00271(10) -0.00452(8) 0.00343(11)
N(1) 0.01311(12) 0.01135(17) 0.00833(10) -0.00206(11) 0.00018(9) 0.00135(12)
H(11) 0.029(4) 0.026(5) 0.031(3) -0.006(4) -0.005(3) 0.006(4)
C(2) 0.01531(14) 0.00940(19) 0.00911(12) -0.00020(11) 0.00081(10) 0.00046(14)
H(2) 0.030(3) 0.024(4) 0.021(3) -0.008(3) 0.002(2) -0.011(3)
C(3) 0.0380(2) 0.0180(3) 0.01604(15) -0.00014(17) -0.00172(16) 0.0153(2)
H(3A) 0.039(4) 0.061(7) 0.049(5) -0.007(5) -0.016(4) 0.022(5)
H(3B) 0.085(6) 0.040(6) 0.045(4) 0.004(4) -0.006(4) 0.032(5)
H(3C) 0.079(6) 0.047(6) 0.029(4) -0.011(4) 0.004(4) 0.033(5)
C(1) 0.01137(13) 0.00983(19) 0.00869(11) -0.00256(12) 0.00069(9) 0.00000(12)
O(1) 0.02215(12) 0.01639(16) 0.01209(9) -0.00420(11) 0.00470(9) -0.00774(12)
O(2) 0.01677(11) 0.01849(16) 0.00961(9) -0.00420(10) 0.00093(8) -0.00387(11)
loop_
_atom_type_symbol
_atom_type_description
_atom_type_scat_dispersion_real
_atom_type_scat_dispersion_imag
_atom_type_scat_source
C C 0 0 'Hirshfeld partitioning of a quantum chemical wavefunction.'
H H 0 0 'Hirshfeld partitioning of a quantum chemical wavefunction.'
N N 0 0 'Hirshfeld partitioning of a quantum chemical wavefunction.'
O O 0 0 'Hirshfeld partitioning of a quantum chemical wavefunction.'
loop_
_geom_angle_atom_site_label_1
_geom_angle_atom_site_label_2
_geom_angle_atom_site_label_3
_geom_angle
_geom_angle_publ_flag
O(1) C(1) O(2) 123.80(3) yes
O(3) C(4) N(1) 124.10(3) yes
O(3) C(4) C(5) 120.88(3) yes
O(1) C(1) C(2) 120.04(3) yes
O(2) C(1) C(2) 115.92(3) yes
N(2) C(5) C(4) 108.49(3) yes
N(1) C(4) C(5) 115.02(3) yes
N(1) C(2) C(3) 109.34(3) yes
N(1) C(2) C(1) 114.18(3) yes
N(2) C(5) H(5A) 109.4(4) yes
N(2) C(5) H(5B) 109.8(3) yes
N(1) C(2) H(2) 108.9(3) yes
C(4) N(1) C(2) 120.33(3) yes
C(5) N(2) H(12) 109.8(4) yes
C(5) N(2) H(22) 113.5(4) yes
C(5) N(2) H(32) 107.9(4) yes
C(4) N(1) H(11) 120.3(4) yes
C(2) N(1) H(11) 118.7(4) yes
C(3) C(2) C(1) 107.84(3) yes
C(4) C(5) H(5A) 110.1(3) yes
C(4) C(5) H(5B) 110.3(4) yes
C(2) C(3) H(3A) 109.6(5) yes
C(2) C(3) H(3B) 110.0(5) yes
C(2) C(3) H(3C) 110.0(4) yes
C(3) C(2) H(2) 110.9(4) yes
C(1) C(2) H(2) 105.6(3) yes
H(12) N(2) H(22) 109.1(6) yes
H(12) N(2) H(32) 109.5(6) yes
H(22) N(2) H(32) 107.0(6) yes
H(5A) C(5) H(5B) 108.8(5) yes
H(3A) C(3) H(3B) 109.2(6) yes
H(3A) C(3) H(3C) 108.1(7) yes
H(3B) C(3) H(3C) 109.9(6) yes
loop_
_geom_bond_atom_site_label_1
_geom_bond_atom_site_label_2
_geom_bond_distance
_geom_bond_publ_flag
O(3) C(4) 1.2264(4) yes
O(1) C(1) 1.2517(5) yes
O(2) C(1) 1.2580(4) yes
N(2) C(5) 1.4744(5) yes
N(1) C(4) 1.3405(5) yes
N(1) C(2) 1.4517(5) yes
N(2) H(12) 1.044(7) yes
N(2) H(22) 1.029(8) yes
N(2) H(32) 1.039(7) yes
N(1) H(11) 1.008(6) yes
C(5) C(4) 1.5303(5) yes
C(2) C(3) 1.5267(6) yes
C(2) C(1) 1.5397(5) yes
C(5) H(5A) 1.107(6) yes
C(5) H(5B) 1.111(6) yes
C(2) H(2) 1.100(6) yes
C(3) H(3A) 1.091(8) yes
C(3) H(3B) 1.075(9) yes
C(3) H(3C) 1.097(7) yes
loop_
_cod_related_entry_id
_cod_related_entry_database
_cod_related_entry_code
1 PubChem 5539777
