#------------------------------------------------------------------------------
#$Date: 2016-02-14 16:26:36 +0200 (Sun, 14 Feb 2016) $
#$Revision: 176435 $
#$URL: svn://www.crystallography.net/cod/cif/1/51/00/1510068.cif $
#------------------------------------------------------------------------------
#
# This file is available in the Crystallography Open Database (COD),
# http://www.crystallography.net/
#
# All data on this site have been placed in the public domain by the
# contributors.
#
data_1510068
loop_
_publ_author_name
'Kniep, R.'
'Stahl, D.'
'Jaeger, J.'
'Schmidt, P.C.'
_publ_section_title
;
 Ca3AuN: ein Calciumauridsubnitrid
;
_journal_name_full               'Angewandte Chemie (German Edition)'
_journal_page_first              738
_journal_page_last               739
_journal_volume                  105
_journal_year                    1993
_chemical_formula_sum            'Au Ca3 N'
_chemical_name_systematic        'Ca3 Au N'
_space_group_IT_number           221
_symmetry_space_group_name_Hall  '-P 4 2 3'
_symmetry_space_group_name_H-M   'P m -3 m'
_cell_angle_alpha                90
_cell_angle_beta                 90
_cell_angle_gamma                90
_cell_formula_units_Z            1
_cell_length_a                   4.8215
_cell_length_b                   4.8215
_cell_length_c                   4.8215
_cell_volume                     112.085
_citation_journal_id_ASTM        ANCEAD
_cod_data_source_file            gold_110.cif
_cod_data_source_block           Au1Ca3N1
_cod_original_cell_volume        112.0847
_cod_original_formula_sum        'Au1 Ca3 N1'
_cod_database_code               1510068
loop_
_symmetry_equiv_pos_as_xyz
x,y,z
-y,x,z
-x,-y,z
y,-x,z
x,-y,-z
y,x,-z
-x,y,-z
-y,-x,-z
z,x,y
-x,z,y
-z,-x,y
x,-z,y
z,-x,-y
x,z,-y
-z,x,-y
-x,-z,-y
y,z,x
y,-z,-x
z,y,-x
-y,z,-x
-z,-y,-x
-y,-z,x
z,-y,x
-z,y,x
-x,-y,-z
y,-x,-z
x,y,-z
-y,x,-z
-x,y,z
-y,-x,z
x,-y,z
y,x,z
-z,-x,-y
x,-z,-y
z,x,-y
-x,z,-y
-z,x,y
-x,-z,y
z,-x,y
x,z,y
-y,-z,-x
-y,z,x
-z,-y,x
y,-z,x
z,y,x
y,z,-x
-z,y,-x
z,-y,-x
loop_
_atom_site_label
_atom_site_type_symbol
_atom_site_fract_x
_atom_site_fract_y
_atom_site_fract_z
_atom_site_occupancy
_atom_site_U_iso_or_equiv
N1 N 0.5 0.5 0.5 1 0.0
Au1 Au 0 0 0 1 0.0
Ca1 Ca 0 0.5 0.5 1 0.0
