#------------------------------------------------------------------------------
#$Date: 2018-09-27 07:13:35 +0300 (Thu, 27 Sep 2018) $
#$Revision: 211196 $
#$URL: file:///home/coder/svn-repositories/cod/cif/1/51/04/1510447.cif $
#------------------------------------------------------------------------------
#
# This file is available in the Crystallography Open Database (COD),
# http://www.crystallography.net/
#
# All data on this site have been placed in the public domain by the
# contributors.
#
data_1510447
loop_
_publ_author_name
'Stolz, E.'
'Meissner, H.G.'
'Poetzschke, M.'
'Ata, H.O.K.'
'Schubert, K.'
'Rossteutscher, W.'
'Anantharaman, T.R.'
_publ_section_title
;
 Einige strukturelle Ergebnisse an metallischen Phasen VI
;
_journal_name_full               Naturwissenschaften
_journal_page_first              512
_journal_page_last               512
_journal_volume                  47
_journal_year                    1960
_chemical_formula_sum            'Au2 Nb3'
_space_group_IT_number           139
_symmetry_space_group_name_Hall  '-I 4 2'
_symmetry_space_group_name_H-M   'I 4/m m m'
_cell_angle_alpha                90
_cell_angle_beta                 90
_cell_angle_gamma                90
_cell_formula_units_Z            2
_cell_length_a                   3.38
_cell_length_b                   3.38
_cell_length_c                   15.18
_cell_volume                     173.422
_citation_journal_id_ASTM        NATWAY
_cod_data_source_file            gold_539.cif
_cod_data_source_block           Au2Nb3
_cod_original_cell_volume        173.4224
_cod_database_code               1510447
loop_
_symmetry_equiv_pos_as_xyz
x,y,z
-y,x,z
-x,-y,z
y,-x,z
x,-y,-z
y,x,-z
-x,y,-z
-y,-x,-z
-x,-y,-z
y,-x,-z
x,y,-z
-y,x,-z
-x,y,z
-y,-x,z
x,-y,z
y,x,z
x+1/2,y+1/2,z+1/2
-y+1/2,x+1/2,z+1/2
-x+1/2,-y+1/2,z+1/2
y+1/2,-x+1/2,z+1/2
x+1/2,-y+1/2,-z+1/2
y+1/2,x+1/2,-z+1/2
-x+1/2,y+1/2,-z+1/2
-y+1/2,-x+1/2,-z+1/2
-x+1/2,-y+1/2,-z+1/2
y+1/2,-x+1/2,-z+1/2
x+1/2,y+1/2,-z+1/2
-y+1/2,x+1/2,-z+1/2
-x+1/2,y+1/2,z+1/2
-y+1/2,-x+1/2,z+1/2
x+1/2,-y+1/2,z+1/2
y+1/2,x+1/2,z+1/2
loop_
_atom_site_label
_atom_site_type_symbol
_atom_site_fract_x
_atom_site_fract_y
_atom_site_fract_z
_atom_site_occupancy
_atom_site_U_iso_or_equiv
Nb2 Nb 0 0 0.4 1 0.0
Au1 Au 0 0 0.2 1 0.0
Nb1 Nb 0 0 0 1 0.0
