#------------------------------------------------------------------------------
#$Date: 2016-02-14 16:26:36 +0200 (Sun, 14 Feb 2016) $
#$Revision: 176435 $
#$URL: svn://www.crystallography.net/cod/cif/1/51/08/1510814.cif $
#------------------------------------------------------------------------------
#
# This file is available in the Crystallography Open Database (COD),
# http://www.crystallography.net/
#
# All data on this site have been placed in the public domain by the
# contributors.
#
data_1510814
loop_
_publ_author_name
'Kuz'ma, Yu.B.'
_publ_section_title
;
 The systems Ti-Co-B anf Ti-Re-B
;
_journal_name_full
'Izvestiya Akademii Nauk SSSR, Neorganicheskie Materialy'
_journal_page_first              452
_journal_page_last               454
_journal_volume                  7
_journal_year                    1971
_chemical_formula_sum            'B2 Re Ti2'
_chemical_name_systematic        'Re Ti2 B2'
_space_group_IT_number           127
_symmetry_space_group_name_Hall  '-P 4 2ab'
_symmetry_space_group_name_H-M   'P 4/m b m'
_cell_angle_alpha                90
_cell_angle_beta                 90
_cell_angle_gamma                90
_cell_formula_units_Z            2
_cell_length_a                   5.898
_cell_length_b                   5.898
_cell_length_c                   3.189
_cell_volume                     110.934
_citation_journal_id_ASTM        IVNMAW
_cod_data_source_file            boron_320.cif
_cod_data_source_block           B2Re1Ti2
_cod_original_cell_volume        110.9338
_cod_original_formula_sum        'B2 Re1 Ti2'
_cod_database_code               1510814
loop_
_symmetry_equiv_pos_as_xyz
x,y,z
-y,x,z
-x,-y,z
y,-x,z
x+1/2,-y+1/2,-z
y+1/2,x+1/2,-z
-x+1/2,y+1/2,-z
-y+1/2,-x+1/2,-z
-x,-y,-z
y,-x,-z
x,y,-z
-y,x,-z
-x-1/2,y-1/2,z
-y-1/2,-x-1/2,z
x-1/2,-y-1/2,z
y-1/2,x-1/2,z
loop_
_atom_site_label
_atom_site_type_symbol
_atom_site_fract_x
_atom_site_fract_y
_atom_site_fract_z
_atom_site_occupancy
_atom_site_U_iso_or_equiv
Ti2 Ti 0.18 0.68 0.5 1 0.0
Re1 Re 0 0 0 1 0.0
B1 B 0.389 0.889 0 1 0.0
