#------------------------------------------------------------------------------
#$Date: 2018-09-27 07:13:35 +0300 (Thu, 27 Sep 2018) $
#$Revision: 211196 $
#$URL: file:///home/coder/svn-repositories/cod/cif/1/52/36/1523665.cif $
#------------------------------------------------------------------------------
#
# This file is available in the Crystallography Open Database (COD),
# http://www.crystallography.net/
#
# All data on this site have been placed in the public domain by the
# contributors.
#
data_1523665
loop_
_publ_author_name
'Geballe, T.H.'
'Matthias, B.T.'
'Hull, G.W.jr.'
'Corenzwit, E.'
'Compton, V.B.'
'Longinotti, L.D.'
_publ_section_title
;
 Superconductivity in binary alloy system of the rare earths and of
 thorium with Pt-group metals
;
_journal_name_full
'Physical Review, Section A (133,1964-188,1969)'
_journal_page_first              119
_journal_page_last               127
_journal_volume                  137
_journal_year                    1965
_chemical_formula_sum            'Ir5 Th'
_space_group_IT_number           191
_symmetry_space_group_name_Hall  '-P 6 2'
_symmetry_space_group_name_H-M   'P 6/m m m'
_cell_angle_alpha                90
_cell_angle_beta                 90
_cell_angle_gamma                120
_cell_formula_units_Z            1
_cell_length_a                   5.315
_cell_length_b                   5.315
_cell_length_c                   4.288
_cell_volume                     104.904
_citation_journal_id_ASTM        PRVAAH
_cod_data_source_file            Geballe_PRVAAH_1965_821.cif
_cod_data_source_block           Ir5Th1
_cod_original_formula_sum        'Ir5 Th1'
_cod_database_code               1523665
loop_
_symmetry_equiv_pos_as_xyz
x,y,z
x-y,x,z
-y,x-y,z
-x,-y,z
-x+y,-x,z
y,-x+y,z
-y,-x,-z
x-y,-y,-z
x,x-y,-z
y,x,-z
-x+y,y,-z
-x,-x+y,-z
-x,-y,-z
-x+y,-x,-z
y,-x+y,-z
x,y,-z
x-y,x,-z
-y,x-y,-z
y,x,z
-x+y,y,z
-x,-x+y,z
-y,-x,z
x-y,-y,z
x,x-y,z
loop_
_atom_site_label
_atom_site_type_symbol
_atom_site_fract_x
_atom_site_fract_y
_atom_site_fract_z
_atom_site_occupancy
_atom_site_U_iso_or_equiv
Ir1 Ir 0.3333 0.6667 0 1 0.0
Ir2 Ir 0.5 0 0.5 1 0.0
Th1 Th 0 0 0 1 0.0
