#------------------------------------------------------------------------------
#$Date: 2016-02-13 21:28:24 +0200 (Sat, 13 Feb 2016) $
#$Revision: 176429 $
#$URL: svn://www.crystallography.net/cod/cif/1/52/74/1527468.cif $
#------------------------------------------------------------------------------
#
# This file is available in the Crystallography Open Database (COD),
# http://www.crystallography.net/
#
# All data on this site have been placed in the public domain by the
# contributors.
#
data_1527468
loop_
_publ_author_name
'Haessler, M.'
'de Novion, C.H.'
'Damien, D.'
_publ_section_title
;
 Electronic structure of mixed uranium-thorium monochalcogenides
;
_journal_name_full               'Plutonium 1965, Proc. Int. Conf. 1965'
_journal_page_first              649
_journal_page_last               656
_journal_volume                  1975
_journal_year                    1976
_chemical_formula_sum            'Te Th'
_chemical_name_systematic        'Th Te'
_space_group_IT_number           221
_symmetry_space_group_name_Hall  '-P 4 2 3'
_symmetry_space_group_name_H-M   'P m -3 m'
_cell_angle_alpha                90
_cell_angle_beta                 90
_cell_angle_gamma                90
_cell_formula_units_Z            1
_cell_length_a                   3.824
_cell_length_b                   3.824
_cell_length_c                   3.824
_cell_volume                     55.918
_citation_journal_id_ASTM        19EVAV
_cod_data_source_file            Haessler_19EVAV_1976_105.cif
_cod_data_source_block           Te1Th1
_cod_original_cell_volume        55.91825
_cod_original_formula_sum        'Te1 Th1'
_cod_database_code               1527468
loop_
_symmetry_equiv_pos_as_xyz
x,y,z
-y,x,z
-x,-y,z
y,-x,z
x,-y,-z
y,x,-z
-x,y,-z
-y,-x,-z
z,x,y
-x,z,y
-z,-x,y
x,-z,y
z,-x,-y
x,z,-y
-z,x,-y
-x,-z,-y
y,z,x
y,-z,-x
z,y,-x
-y,z,-x
-z,-y,-x
-y,-z,x
z,-y,x
-z,y,x
-x,-y,-z
y,-x,-z
x,y,-z
-y,x,-z
-x,y,z
-y,-x,z
x,-y,z
y,x,z
-z,-x,-y
x,-z,-y
z,x,-y
-x,z,-y
-z,x,y
-x,-z,y
z,-x,y
x,z,y
-y,-z,-x
-y,z,x
-z,-y,x
y,-z,x
z,y,x
y,z,-x
-z,y,-x
z,-y,-x
loop_
_atom_site_label
_atom_site_type_symbol
_atom_site_fract_x
_atom_site_fract_y
_atom_site_fract_z
_atom_site_occupancy
_atom_site_U_iso_or_equiv
Th1 Th+2 0 0 0 1 0.0
Te1 Te-2 0.5 0.5 0.5 1 0.0
