#------------------------------------------------------------------------------
#$Date: 2016-02-13 21:28:24 +0200 (Sat, 13 Feb 2016) $
#$Revision: 176429 $
#$URL: svn://www.crystallography.net/cod/cif/1/52/82/1528251.cif $
#------------------------------------------------------------------------------
#
# This file is available in the Crystallography Open Database (COD),
# http://www.crystallography.net/
#
# All data on this site have been placed in the public domain by the
# contributors.
#
data_1528251
loop_
_publ_author_name
'Zhang, K.'
'Chen, L.'
_publ_section_title
;
 Room temperature and 700 deg. C isothermal sections of Gd-Pd-Pt (0-33
 at.% Gd) phase diagram
;
_journal_name_full               'Jinshu Xuebao'
_journal_page_first              207
_journal_page_last               209
_journal_volume                  27
_journal_year                    1991
_chemical_formula_sum            'Gd Pd1.8 Pt1.2'
_chemical_name_systematic        'Gd (Pd0.6 Pt0.4)3'
_space_group_IT_number           221
_symmetry_space_group_name_Hall  '-P 4 2 3'
_symmetry_space_group_name_H-M   'P m -3 m'
_cell_angle_alpha                90
_cell_angle_beta                 90
_cell_angle_gamma                90
_cell_formula_units_Z            1
_cell_length_a                   4.126
_cell_length_b                   4.126
_cell_length_c                   4.126
_cell_volume                     70.241
_citation_journal_id_ASTM        CHSPA4
_cod_data_source_file            Zhang_CHSPA4_1991_534.cif
_cod_data_source_block           Gd1Pd1.8Pt1.2
_cod_original_cell_volume        70.24051
_cod_original_formula_sum        'Gd1 Pd1.8 Pt1.2'
_cod_database_code               1528251
loop_
_symmetry_equiv_pos_as_xyz
x,y,z
-y,x,z
-x,-y,z
y,-x,z
x,-y,-z
y,x,-z
-x,y,-z
-y,-x,-z
z,x,y
-x,z,y
-z,-x,y
x,-z,y
z,-x,-y
x,z,-y
-z,x,-y
-x,-z,-y
y,z,x
y,-z,-x
z,y,-x
-y,z,-x
-z,-y,-x
-y,-z,x
z,-y,x
-z,y,x
-x,-y,-z
y,-x,-z
x,y,-z
-y,x,-z
-x,y,z
-y,-x,z
x,-y,z
y,x,z
-z,-x,-y
x,-z,-y
z,x,-y
-x,z,-y
-z,x,y
-x,-z,y
z,-x,y
x,z,y
-y,-z,-x
-y,z,x
-z,-y,x
y,-z,x
z,y,x
y,z,-x
-z,y,-x
z,-y,-x
loop_
_atom_site_label
_atom_site_type_symbol
_atom_site_fract_x
_atom_site_fract_y
_atom_site_fract_z
_atom_site_occupancy
_atom_site_U_iso_or_equiv
Pd1 Pd 0 0.5 0.5 0.6 0.0
Gd1 Gd 0 0 0 1 0.0
Pt1 Pt 0 0.5 0.5 0.4 0.0
