#------------------------------------------------------------------------------
#$Date: 2024-05-02 13:48:35 +0300 (Thu, 02 May 2024) $
#$Revision: 291455 $
#$URL: file:///home/coder/svn-repositories/cod/cif/9/00/64/9006417.cif $
#------------------------------------------------------------------------------
#
# This file is available in the Crystallography Open Database (COD),
# http://www.crystallography.net/. The original data for this entry
# were provided the American Mineralogist Crystal Structure Database,
# http://rruff.geo.arizona.edu/AMS/amcsd.php
#
# The file may be used within the scientific community so long as
# proper attribution is given to the journal article from which the
# data were obtained.
#
data_9006417
loop_
_publ_author_name
'Muraoka, Y.'
'Kihara, K.'
_publ_section_title
;
 The temperature dependence of the crystal structure of berlinite,
 a quartz-type form of AlPO4
 Sample: T = 631 C
;
_journal_name_full               'Physics and Chemistry of Minerals'
_journal_page_first              243
_journal_page_last               253
_journal_paper_doi               10.1007/s002690050036
_journal_volume                  24
_journal_year                    1997
_chemical_formula_sum            'Al O4 P'
_chemical_name_mineral           Berlinite
_symmetry_space_group_name_H-M   'P 62 2 2'
_cell_angle_alpha                90
_cell_angle_beta                 90
_cell_angle_gamma                120
_cell_length_a                   5.0402
_cell_length_b                   5.0402
_cell_length_c                   11.063
_cell_formula_units_Z            3
_cell_volume                     243.388
_database_code_amcsd             0007999
_diffrn_ambient_temperature      904.15
_exptl_crystal_density_diffrn    2.496
_cod_original_formula_sum        'Al P O4'
_cod_database_code               9006417
loop_
_symmetry_equiv_pos_as_xyz
x,y,z
x,x-y,-z
x-y,x,1/3+z
y,x,1/3-z
-y,x-y,2/3+z
-x+y,y,2/3-z
-x,-y,z
-x,-x+y,-z
-x+y,-x,1/3+z
-y,-x,1/3-z
y,-x+y,2/3+z
x-y,-y,2/3-z
loop_
_atom_site_aniso_label
_atom_site_aniso_U_11
_atom_site_aniso_U_22
_atom_site_aniso_U_33
_atom_site_aniso_U_12
_atom_site_aniso_U_13
_atom_site_aniso_U_23
Al 0.03538 0.02454 0.02505 0.01227 0.00000 0.00000
P 0.03228 0.02862 0.02691 0.01431 0.00000 0.00000
O 0.06804 0.06751 0.07124 0.03448 -0.00658 0.03716
loop_
_atom_site_label
_atom_site_fract_x
_atom_site_fract_y
_atom_site_fract_z
_atom_site_U_iso_or_equiv
Al 0.50000 0.00000 0.33333 0.03000
P 0.50000 0.00000 0.83333 0.03000
O 0.42005 0.22856 0.24429 0.06900
loop_
_cod_related_entry_id
_cod_related_entry_database
_cod_related_entry_code
1 AMCSD 0007999
