#------------------------------------------------------------------------------
#$Date: 2016-02-18 17:37:37 +0200 (Thu, 18 Feb 2016) $
#$Revision: 176729 $
#$URL: svn://www.crystallography.net/cod/cif/1/51/84/1518432.cif $
#------------------------------------------------------------------------------
#
# This file is available in the Crystallography Open Database (COD),
# http://www.crystallography.net/
#
# All data on this site have been placed in the public domain by the
# contributors.
#
data_1518432
loop_
_publ_author_name
'Patyk, Ewa'
'Katrusiak, Andrzej'
_publ_section_title
;
 Transformable H-bonds and conformation in compressed glucose
;
_journal_issue                   3
_journal_name_full               'Chem. Sci.'
_journal_page_first              1991
_journal_paper_doi               10.1039/C4SC03588G
_journal_volume                  6
_journal_year                    2015
_chemical_absolute_configuration rm
_chemical_formula_moiety         'C6 H12 O6'
_chemical_formula_sum            'C6 H12 O6'
_chemical_formula_weight         180.16
_chemical_melting_point          419
_chemical_name_common            'α-D-glucose, Phase I'
_chemical_name_systematic
; 
 α-D-glucopyranose, Phase I  
;
_space_group_IT_number           19
_symmetry_cell_setting           orthorhombic
_symmetry_space_group_name_Hall  'P 2ac 2ab'
_symmetry_space_group_name_H-M   'P 21 21 21'
_atom_sites_solution_hydrogens   geom
_atom_sites_solution_primary     direct
_atom_sites_solution_secondary   difmap
_audit_creation_method           SHELXL-97
_audit_update_record
;
2014-11-13 deposited with the CCDC.
2014-12-15 downloaded from the CCDC.
;
_cell_angle_alpha                90.00
_cell_angle_beta                 90.00
_cell_angle_gamma                90.00
_cell_formula_units_Z            4
_cell_length_a                   10.336(2)
_cell_length_b                   14.852(3)
_cell_length_c                   4.9240(10)
_cell_measurement_reflns_used    2935
_cell_measurement_temperature    295(2)
_cell_measurement_theta_max      26.78
_cell_measurement_theta_min      3.38
_cell_volume                     755.9(3)
_computing_cell_refinement       'CrysAlisRED (Oxford Diffraction, 2004)'
_computing_data_collection       'CrysAlisCCD (Oxford Diffraction, 2004)'
_computing_data_reduction
'CrysAlisRED (Oxford Diffraction, 2004); REDSHABS (Katrusiak, A.  2003)'
_computing_molecular_graphics    'SHELXTL (Sheldrick, 1990)'
_computing_publication_material  'SHELXL--97 (Sheldrick, 1997)'
_computing_structure_refinement  'SHELXL--97 (Sheldrick, 1997)'
_computing_structure_solution    'SHELXS--97 (Sheldrick, 1997)'
_diffrn_ambient_environment      'diamond-anvil cell'
_diffrn_ambient_pressure         270000
_diffrn_ambient_temperature      295(2)
_diffrn_measured_fraction_theta_full 0.250
_diffrn_measured_fraction_theta_max 0.250
_diffrn_measurement_device_type  'KM-4 CCD'
_diffrn_measurement_method       'φ- and ω-scans'
_diffrn_radiation_monochromator  graphite
_diffrn_radiation_source         'fine-focus sealed tube'
_diffrn_radiation_type           MoK\a
_diffrn_radiation_wavelength     0.71073
_diffrn_reflns_av_R_equivalents  0.0884
_diffrn_reflns_av_sigmaI/netI    0.0650
_diffrn_reflns_limit_h_max       6
_diffrn_reflns_limit_h_min       -6
_diffrn_reflns_limit_k_max       16
_diffrn_reflns_limit_k_min       -16
_diffrn_reflns_limit_l_max       6
_diffrn_reflns_limit_l_min       -6
_diffrn_reflns_number            2263
_diffrn_reflns_theta_full        26.78
_diffrn_reflns_theta_max         26.78
_diffrn_reflns_theta_min         3.38
_diffrn_standards_decay_%        0
_diffrn_standards_interval_count 0
_diffrn_standards_number         0
_exptl_absorpt_coefficient_mu    0.144
_exptl_absorpt_correction_T_max  0.90
_exptl_absorpt_correction_T_min  0.49
_exptl_absorpt_correction_type   numerical
_exptl_absorpt_process_details
; 
 Correction for absorption of the diamond-anvil cell and the sample 
 were made using program REDSHABS (Katrusiak, A. (2003) REDSHABS. Adam
 Mickiewicz University Poznań; Katrusiak, A. (2004) Z. Kristallogr.
 219, 461-467). 
;
_exptl_crystal_colour            colourless
_exptl_crystal_density_diffrn    1.583
_exptl_crystal_density_method    'not measured'
_exptl_crystal_description       plate
_exptl_crystal_F_000             384
_exptl_crystal_recrystallization_method
'in-situ high-pressure crystallization technique'
_exptl_crystal_size_max          0.31
_exptl_crystal_size_mid          0.29
_exptl_crystal_size_min          0.20
_refine_diff_density_max         0.215
_refine_diff_density_min         -0.181
_refine_diff_density_rms         0.055
_refine_ls_abs_structure_details 'Flack H D (1983), Acta Cryst. A39, 876-881'
_refine_ls_abs_structure_Flack   -2(5)
_refine_ls_extinction_method     none
_refine_ls_goodness_of_fit_ref   1.016
_refine_ls_hydrogen_treatment    constr
_refine_ls_matrix_type           full
_refine_ls_number_parameters     49
_refine_ls_number_reflns         404
_refine_ls_number_restraints     0
_refine_ls_restrained_S_all      1.016
_refine_ls_R_factor_all          0.0718
_refine_ls_R_factor_gt           0.0642
_refine_ls_shift/su_max          0.000
_refine_ls_shift/su_mean         0.000
_refine_ls_structure_factor_coef Fsqd
_refine_ls_weighting_details
'calc w=1/[σ²(Fo²)+(0.0853P)²+0.0000P] where P=(Fo²+2Fc²)/3'
_refine_ls_weighting_scheme      calc
_refine_ls_wR_factor_gt          0.1304
_refine_ls_wR_factor_ref         0.1331
_reflns_number_gt                340
_reflns_number_total             404
_reflns_threshold_expression     >2sigma(I)
_cod_data_source_file            c4sc03588g4.cif
_cod_data_source_block           glu1_0.27GPa
_cod_depositor_comments
'Adding full bibliography for 1518432--1518446.cif.'
_cod_database_code               1518432
loop_
_symmetry_equiv_pos_as_xyz
'x, y, z'
'-x+1/2, -y, z+1/2'
'-x, y+1/2, -z+1/2'
'x+1/2, -y+1/2, -z'
loop_
_atom_site_label
_atom_site_type_symbol
_atom_site_fract_x
_atom_site_fract_y
_atom_site_fract_z
_atom_site_U_iso_or_equiv
_atom_site_adp_type
_atom_site_occupancy
_atom_site_symmetry_multiplicity
_atom_site_calc_flag
_atom_site_refinement_flags
C1 C 0.1744(14) 0.3989(5) 0.4355(14) 0.034(2) Uiso 1 1 d .
H1 H 0.2649 0.3871 0.4838 0.041 Uiso 1 1 calc R
C2 C 0.0813(13) 0.3261(5) 0.5512(16) 0.020(2) Uiso 1 1 d .
H2 H 0.0971 0.3230 0.7472 0.024 Uiso 1 1 calc R
C3 C -0.0601(14) 0.3489(6) 0.5140(16) 0.026(2) Uiso 1 1 d .
H3 H -0.0838 0.3459 0.3215 0.031 Uiso 1 1 calc R
C4 C -0.0881(14) 0.4410(5) 0.6269(15) 0.023(2) Uiso 1 1 d .
H4 H -0.0741 0.4411 0.8237 0.027 Uiso 1 1 calc R
C5 C 0.0043(12) 0.5127(5) 0.4875(13) 0.017(2) Uiso 1 1 d .
H5 H -0.0098 0.5129 0.2907 0.020 Uiso 1 1 calc R
C6 C -0.0171(11) 0.6058(5) 0.6001(13) 0.0192(19) Uiso 1 1 d .
H6 H -0.1080 0.6216 0.5895 0.023 Uiso 1 1 calc R
H7 H 0.0095 0.6082 0.7888 0.023 Uiso 1 1 calc R
O1 O 0.1544(9) 0.3980(4) 0.1489(9) 0.0397(19) Uiso 1 1 d .
H8 H 0.1722 0.4476 0.0858 0.060 Uiso 1 1 calc R
O2 O 0.1136(9) 0.2398(4) 0.4411(10) 0.0407(19) Uiso 1 1 d .
H9 H 0.0596 0.2254 0.3271 0.061 Uiso 1 1 calc R
O3 O -0.1327(11) 0.2839(4) 0.6678(10) 0.0463(19) Uiso 1 1 d .
H10 H -0.2101 0.2950 0.6552 0.069 Uiso 1 1 calc R
O4 O -0.2156(9) 0.4636(4) 0.5704(11) 0.0335(18) Uiso 1 1 d .
H11 H -0.2335 0.5114 0.6451 0.050 Uiso 1 1 calc R
O5 O 0.1287(9) 0.4834(3) 0.5446(9) 0.0272(17) Uiso 1 1 d .
O6 O 0.0576(10) 0.6663(4) 0.4430(10) 0.0375(17) Uiso 1 1 d .
H12 H 0.0455 0.7179 0.4969 0.056 Uiso 1 1 calc R
loop_
_atom_type_symbol
_atom_type_description
_atom_type_scat_dispersion_real
_atom_type_scat_dispersion_imag
_atom_type_scat_source
C C 0.0033 0.0016 'International Tables Vol C Tables 4.2.6.8 and 6.1.1.4'
H H 0.0000 0.0000 'International Tables Vol C Tables 4.2.6.8 and 6.1.1.4'
O O 0.0106 0.0060 'International Tables Vol C Tables 4.2.6.8 and 6.1.1.4'
loop_
_geom_angle_atom_site_label_1
_geom_angle_atom_site_label_2
_geom_angle_atom_site_label_3
_geom_angle
O1 C1 O5 109.2(7)
O1 C1 C2 105.4(8)
O5 C1 C2 105.4(9)
O2 C2 C3 112.3(8)
O2 C2 C1 109.9(9)
C3 C2 C1 113.5(7)
O3 C3 C4 108.4(8)
O3 C3 C2 106.9(7)
C4 C3 C2 110.2(9)
O4 C4 C3 109.2(9)
O4 C4 C5 108.8(6)
C3 C4 C5 109.5(8)
O5 C5 C6 110.5(8)
O5 C5 C4 105.1(7)
C6 C5 C4 111.6(8)
O6 C6 C5 107.6(7)
C5 O5 C1 120.1(8)
loop_
_geom_bond_atom_site_label_1
_geom_bond_atom_site_label_2
_geom_bond_distance
C1 O1 1.427(8)
C1 O5 1.444(10)
C1 C2 1.555(15)
C2 O2 1.432(9)
C2 C3 1.511(18)
C3 O3 1.438(11)
C3 C4 1.505(11)
C4 O4 1.388(15)
C4 C5 1.587(14)
C5 O5 1.386(13)
C5 C6 1.506(10)
C6 O6 1.415(10)
loop_
_geom_torsion_atom_site_label_1
_geom_torsion_atom_site_label_2
_geom_torsion_atom_site_label_3
_geom_torsion_atom_site_label_4
_geom_torsion
O1 C1 C2 O2 61.0(10)
O5 C1 C2 O2 176.4(8)
O1 C1 C2 C3 -65.7(11)
O5 C1 C2 C3 49.7(8)
O2 C2 C3 O3 63.8(9)
C1 C2 C3 O3 -170.8(5)
O2 C2 C3 C4 -178.6(5)
C1 C2 C3 C4 -53.2(9)
O3 C3 C4 O4 -68.3(9)
C2 C3 C4 O4 175.0(7)
O3 C3 C4 C5 172.6(8)
C2 C3 C4 C5 55.9(10)
O4 C4 C5 O5 -177.8(6)
C3 C4 C5 O5 -58.4(8)
O4 C4 C5 C6 62.4(9)
C3 C4 C5 C6 -178.2(8)
O5 C5 C6 O6 70.3(9)
C4 C5 C6 O6 -173.2(7)
C6 C5 O5 C1 -174.6(6)
C4 C5 O5 C1 64.8(8)
O1 C1 O5 C5 52.6(12)
C2 C1 O5 C5 -60.2(9)
