#------------------------------------------------------------------------------
#$Date: 2016-02-18 17:37:37 +0200 (Thu, 18 Feb 2016) $
#$Revision: 176729 $
#$URL: svn://www.crystallography.net/cod/cif/1/51/84/1518445.cif $
#------------------------------------------------------------------------------
#
# This file is available in the Crystallography Open Database (COD),
# http://www.crystallography.net/
#
# All data on this site have been placed in the public domain by the
# contributors.
#
data_1518445
loop_
_publ_author_name
'Patyk, Ewa'
'Katrusiak, Andrzej'
_publ_section_title
;
 Transformable H-bonds and conformation in compressed glucose
;
_journal_issue                   3
_journal_name_full               'Chem. Sci.'
_journal_page_first              1991
_journal_paper_doi               10.1039/C4SC03588G
_journal_volume                  6
_journal_year                    2015
_chemical_absolute_configuration rm
_chemical_formula_moiety         'C6 H12 O6'
_chemical_formula_sum            'C6 H12 O6'
_chemical_formula_weight         180.16
_chemical_melting_point          419
_chemical_name_common            'α-D-glucose, Phase II'
_chemical_name_systematic
; 
 α-D-glucopyranose, Phase II  
;
_space_group_IT_number           19
_symmetry_cell_setting           orthorhombic
_symmetry_space_group_name_Hall  'P 2ac 2ab'
_symmetry_space_group_name_H-M   'P 21 21 21'
_atom_sites_solution_hydrogens   geom
_atom_sites_solution_primary     direct
_atom_sites_solution_secondary   difmap
_audit_creation_method           SHELXL-97
_audit_update_record
;
2014-11-13 deposited with the CCDC.
2014-12-15 downloaded from the CCDC.
;
_cell_angle_alpha                90.00
_cell_angle_beta                 90.00
_cell_angle_gamma                90.00
_cell_formula_units_Z            4
_cell_length_a                   9.7300(19)
_cell_length_b                   14.987(3)
_cell_length_c                   4.2340(8)
_cell_measurement_reflns_used    2108
_cell_measurement_temperature    295(2)
_cell_measurement_theta_max      26.02
_cell_measurement_theta_min      4.40
_cell_volume                     617.4(2)
_computing_cell_refinement       'CrysAlisRED (Oxford Diffraction, 2004)'
_computing_data_collection       'CrysAlisCCD (Oxford Diffraction, 2004)'
_computing_data_reduction
'CrysAlisRED (Oxford Diffraction, 2004); REDSHABS (Katrusiak, A.  2003)'
_computing_molecular_graphics    'SHELXTL (Sheldrick, 1990)'
_computing_publication_material  'SHELXL--97 (Sheldrick, 1997)'
_computing_structure_refinement  'SHELXL--97 (Sheldrick, 1997)'
_computing_structure_solution    'SHELXS--97 (Sheldrick, 1997)'
_diffrn_ambient_environment      'diamond-anvil cell'
_diffrn_ambient_pressure         5800000
_diffrn_ambient_temperature      295(2)
_diffrn_measured_fraction_theta_full 0.308
_diffrn_measured_fraction_theta_max 0.308
_diffrn_measurement_device_type  'KM-4 CCD'
_diffrn_measurement_method       'φ- and ω-scans'
_diffrn_radiation_monochromator  graphite
_diffrn_radiation_source         'fine-focus sealed tube'
_diffrn_radiation_type           MoK\a
_diffrn_radiation_wavelength     0.71073
_diffrn_reflns_av_R_equivalents  0.1140
_diffrn_reflns_av_sigmaI/netI    0.1113
_diffrn_reflns_limit_h_max       11
_diffrn_reflns_limit_h_min       -11
_diffrn_reflns_limit_k_max       15
_diffrn_reflns_limit_k_min       -15
_diffrn_reflns_limit_l_max       2
_diffrn_reflns_limit_l_min       -2
_diffrn_reflns_number            1737
_diffrn_reflns_theta_full        26.02
_diffrn_reflns_theta_max         26.02
_diffrn_reflns_theta_min         4.40
_diffrn_standards_decay_%        0
_diffrn_standards_interval_count 0
_diffrn_standards_number         0
_exptl_absorpt_coefficient_mu    0.176
_exptl_absorpt_correction_T_max  0.85
_exptl_absorpt_correction_T_min  0.34
_exptl_absorpt_correction_type   numerical
_exptl_absorpt_process_details
; 
 Correction for absorption of the diamond-anvil cell and the sample 
 were made using program REDSHABS (Katrusiak, A. (2003) REDSHABS. Adam
 Mickiewicz University Poznań; Katrusiak, A. (2004) Z. Kristallogr.
 219, 461-467). 
;
_exptl_crystal_colour            colourless
_exptl_crystal_density_diffrn    1.938
_exptl_crystal_density_method    'not measured'
_exptl_crystal_description       plate
_exptl_crystal_F_000             384
_exptl_crystal_size_max          0.15
_exptl_crystal_size_mid          0.10
_exptl_crystal_size_min          0.10
_refine_diff_density_max         0.187
_refine_diff_density_min         -0.225
_refine_diff_density_rms         0.052
_refine_ls_abs_structure_details 'Flack H D (1983), Acta Cryst. A39, 876-881'
_refine_ls_abs_structure_Flack   -1(5)
_refine_ls_extinction_method     none
_refine_ls_goodness_of_fit_ref   1.013
_refine_ls_hydrogen_treatment    constr
_refine_ls_matrix_type           full
_refine_ls_number_parameters     49
_refine_ls_number_reflns         371
_refine_ls_number_restraints     0
_refine_ls_restrained_S_all      1.013
_refine_ls_R_factor_all          0.0709
_refine_ls_R_factor_gt           0.0538
_refine_ls_shift/su_max          0.000
_refine_ls_shift/su_mean         0.000
_refine_ls_structure_factor_coef Fsqd
_refine_ls_weighting_details
'calc w=1/[σ²(Fo²)+(0.0410P)²+0.0000P] where P=(Fo²+2Fc²)/3'
_refine_ls_weighting_scheme      calc
_refine_ls_wR_factor_gt          0.0989
_refine_ls_wR_factor_ref         0.1032
_reflns_number_gt                258
_reflns_number_total             371
_reflns_threshold_expression     >2sigma(I)
_cod_data_source_file            c4sc03588g4.cif
_cod_data_source_block           glu14_5.80GPa
_cod_depositor_comments
'Adding full bibliography for 1518432--1518446.cif.'
_cod_database_code               1518445
loop_
_symmetry_equiv_pos_as_xyz
'x, y, z'
'-x+1/2, -y, z+1/2'
'-x, y+1/2, -z+1/2'
'x+1/2, -y+1/2, -z'
loop_
_atom_site_label
_atom_site_type_symbol
_atom_site_fract_x
_atom_site_fract_y
_atom_site_fract_z
_atom_site_U_iso_or_equiv
_atom_site_adp_type
_atom_site_occupancy
_atom_site_symmetry_multiplicity
_atom_site_calc_flag
_atom_site_refinement_flags
C1 C 0.1914(6) 0.3974(5) 0.702(4) 0.021(2) Uiso 1 1 d .
H1 H 0.2698 0.4016 0.8462 0.025 Uiso 1 1 calc R
C2 C 0.1027(5) 0.3207(5) 0.805(3) 0.015(2) Uiso 1 1 d .
H2 H 0.0891 0.3258 1.0337 0.018 Uiso 1 1 calc R
C3 C -0.0354(5) 0.3201(5) 0.653(3) 0.020(2) Uiso 1 1 d .
H3 H -0.0252 0.2988 0.4356 0.023 Uiso 1 1 calc R
C4 C -0.1000(6) 0.4111(5) 0.645(3) 0.019(2) Uiso 1 1 d .
H4 H -0.1222 0.4276 0.8636 0.023 Uiso 1 1 calc R
C5 C -0.0037(6) 0.4805(6) 0.519(3) 0.018(2) Uiso 1 1 d .
H5 H 0.0217 0.4642 0.3025 0.021 Uiso 1 1 calc R
C6 C -0.0650(6) 0.5731(5) 0.515(3) 0.022(2) Uiso 1 1 d .
H6 H -0.1625 0.5689 0.4691 0.027 Uiso 1 1 calc R
H7 H -0.0551 0.5997 0.7229 0.027 Uiso 1 1 calc R
O1 O 0.2420(4) 0.3821(3) 0.3947(19) 0.0254(16) Uiso 1 1 d .
H8 H 0.2919 0.4236 0.3423 0.038 Uiso 1 1 calc R
O2 O 0.1706(4) 0.2394(3) 0.746(2) 0.0229(15) Uiso 1 1 d .
H9 H 0.2352 0.2340 0.8688 0.034 Uiso 1 1 calc R
O3 O -0.1210(4) 0.2590(3) 0.8207(17) 0.0214(14) Uiso 1 1 d .
H10 H -0.1517 0.2218 0.6976 0.032 Uiso 1 1 calc R
O4 O -0.2216(4) 0.4153(3) 0.4712(18) 0.0268(17) Uiso 1 1 d .
H11 H -0.2449 0.3647 0.4200 0.040 Uiso 1 1 calc R
O5 O 0.1179(4) 0.4810(3) 0.709(2) 0.0191(14) Uiso 1 1 d .
O6 O -0.0024(4) 0.6286(4) 0.291(2) 0.0320(16) Uiso 1 1 d .
H12 H 0.0375 0.6695 0.3813 0.048 Uiso 1 1 calc R
loop_
_atom_type_symbol
_atom_type_description
_atom_type_scat_dispersion_real
_atom_type_scat_dispersion_imag
_atom_type_scat_source
C C 0.0033 0.0016 'International Tables Vol C Tables 4.2.6.8 and 6.1.1.4'
H H 0.0000 0.0000 'International Tables Vol C Tables 4.2.6.8 and 6.1.1.4'
O O 0.0106 0.0060 'International Tables Vol C Tables 4.2.6.8 and 6.1.1.4'
loop_
_geom_angle_atom_site_label_1
_geom_angle_atom_site_label_2
_geom_angle_atom_site_label_3
_geom_angle
O1 C1 O5 109.6(9)
O1 C1 C2 110.2(7)
O5 C1 C2 111.9(6)
O2 C2 C3 109.9(7)
O2 C2 C1 109.9(5)
C3 C2 C1 113.4(7)
O3 C3 C2 108.4(8)
O3 C3 C4 110.4(6)
C2 C3 C4 112.4(6)
O4 C4 C5 108.1(8)
O4 C4 C3 114.0(6)
C5 C4 C3 112.1(5)
O5 C5 C4 108.6(7)
O5 C5 C6 109.1(7)
C4 C5 C6 113.2(5)
O6 C6 C5 112.4(7)
C5 O5 C1 113.1(7)
loop_
_geom_bond_atom_site_label_1
_geom_bond_atom_site_label_2
_geom_bond_distance
C1 O1 1.408(15)
C1 O5 1.443(7)
C1 C2 1.502(10)
C2 O2 1.408(8)
C2 C3 1.489(9)
C3 O3 1.426(9)
C3 C4 1.503(10)
C4 O4 1.396(9)
C4 C5 1.498(12)
C5 O5 1.432(10)
C5 C6 1.511(10)
C6 O6 1.401(10)
loop_
_geom_torsion_atom_site_label_1
_geom_torsion_atom_site_label_2
_geom_torsion_atom_site_label_3
_geom_torsion_atom_site_label_4
_geom_torsion
O1 C1 C2 O2 48.4(9)
O5 C1 C2 O2 170.6(9)
O1 C1 C2 C3 -75.1(9)
O5 C1 C2 C3 47.1(13)
O2 C2 C3 O3 70.3(10)
C1 C2 C3 O3 -166.2(8)
O2 C2 C3 C4 -167.3(7)
C1 C2 C3 C4 -43.9(14)
O3 C3 C4 O4 -66.2(12)
C2 C3 C4 O4 172.6(8)
O3 C3 C4 C5 170.7(8)
C2 C3 C4 C5 49.4(13)
O4 C4 C5 O5 176.2(8)
C3 C4 C5 O5 -57.4(10)
O4 C4 C5 C6 54.8(11)
C3 C4 C5 C6 -178.7(8)
O5 C5 C6 O6 83.1(10)
C4 C5 C6 O6 -155.9(9)
C4 C5 O5 C1 62.0(10)
C6 C5 O5 C1 -174.2(7)
O1 C1 O5 C5 65.2(8)
C2 C1 O5 C5 -57.3(13)
