#------------------------------------------------------------------------------
#$Date: 2016-02-14 16:26:36 +0200 (Sun, 14 Feb 2016) $
#$Revision: 176435 $
#$URL: svn://www.crystallography.net/cod/cif/2/01/04/2010426.cif $
#------------------------------------------------------------------------------
#
# This file is available in the Crystallography Open Database (COD),
# http://www.crystallography.net/. The original data for this entry
# were provided by IUCr Journals, http://journals.iucr.org/.
#
# The file may be used within the scientific community so long as
# proper attribution is given to the journal article from which the
# data were obtained.
#
data_2010426
loop_
_publ_author_name
'Shibakami, M.'
'Sekiya, A.'
_publ_section_title
;
 Phenyl 2-Fluorobenzoate, Phenyl 4-Fluorobenzoate and Phenyl Benzoate
;
_journal_issue                   2
_journal_name_full               'Acta Crystallographica Section C'
_journal_page_first              326
_journal_page_last               330
_journal_paper_doi               10.1107/S0108270194003653
_journal_volume                  51
_journal_year                    1995
_chemical_formula_moiety         'C13 H9 F1 O2'
_chemical_formula_sum            'C13 H9 F O2'
_chemical_formula_weight         216.21
_space_group_IT_number           15
_symmetry_cell_setting           monoclinic
_symmetry_space_group_name_Hall  '-C 2yc'
_symmetry_space_group_name_H-M   'C 1 2/c 1'
_atom_type_scat_source           IntTabIV
_cell_angle_alpha                90.
_cell_angle_beta                 101.981(8)
_cell_angle_gamma                90.
_cell_formula_units_Z            8
_cell_length_a                   16.966(2)
_cell_length_b                   5.7830(10)
_cell_length_c                   22.0380(10)
_cell_measurement_reflns_used    25
_cell_measurement_temperature    298
_cell_measurement_theta_max      28.4
_cell_measurement_theta_min      25.5
_cell_volume                     2115.1(5)
_diffrn_measurement_device       'Rigaku AFC-7R'
_diffrn_measurement_method       ω/2θ
_diffrn_radiation_type           CuK\a
_diffrn_radiation_wavelength     1.5418
_diffrn_reflns_av_R_equivalents  0.062
_diffrn_reflns_limit_h_max       19
_diffrn_reflns_limit_h_min       0
_diffrn_reflns_limit_k_max       6
_diffrn_reflns_limit_k_min       0
_diffrn_reflns_limit_l_max       24
_diffrn_reflns_limit_l_min       -24
_diffrn_reflns_number            2079
_diffrn_reflns_theta_max         60.0
_diffrn_standards_decay_%        -2.41
_diffrn_standards_interval_count 150
_diffrn_standards_number         3
_exptl_absorpt_coefficient_mu    0.864
_exptl_absorpt_correction_T_max  1.35
_exptl_absorpt_correction_T_min  0.87
_exptl_absorpt_correction_type   'empirical (DIFABS; Walker & Stuart, 1983)'
_exptl_crystal_colour            colourless
_exptl_crystal_density_diffrn    1.358
_exptl_crystal_description       prismatic
_exptl_crystal_size_max          0.30
_exptl_crystal_size_mid          0.20
_exptl_crystal_size_min          0.20
_refine_diff_density_max         0.19
_refine_diff_density_min         -0.17
_refine_ls_goodness_of_fit_obs   2.80
_refine_ls_hydrogen_treatment    noref
_refine_ls_number_parameters     146
_refine_ls_number_reflns         906
_refine_ls_R_factor_obs          0.064
_refine_ls_shift/esd_max         0.01
_refine_ls_structure_factor_coef F
_refine_ls_weighting_details     'w = 1/σ²(Fₒ) = 4Fₒ²/σ²(Fₒ²)'
_refine_ls_weighting_scheme      calc
_refine_ls_wR_factor_obs         0.072
_reflns_number_observed          906
_reflns_number_total             1999
_reflns_observed_criterion       I>3\s(I)
_cod_data_source_file            as1092.cif
_cod_data_source_block           as1092_structure_2_of_3
_cod_depositor_comments
;
The following automatic conversions were performed:

'_refine_ls_weighting_scheme' value '1/\s^2^(F~o~) =
4F~o~^2^/\s^2^(F~o~^2^)' was changed to 'calc'. New tag
'_refine_ls_weighting_details' was created. The value of the new tag
was set to 'w = 1/\s^2^(F~o~) = 4F~o~^2^/\s^2^(F~o~^2^)'.

Automatic conversion script
Id: cif_fix_values 3143 2015-03-26 13:38:13Z robertas 
;
_cod_original_cell_volume        2115.0(5)
_cod_original_sg_symbol_H-M      'C 2/c'
_cod_original_formula_sum        'C13 H9 F1 O2'
_cod_database_code               2010426
loop_
_symmetry_equiv_pos_as_xyz
x,y,z
x,-y,1/2+z
-x,-y,-z
-x,y,1/2-z
1/2+x,1/2+y,z
1/2+x,1/2-y,1/2+z
1/2-x,1/2-y,-z
1/2-x,1/2+y,1/2-z
loop_
_atom_site_label
_atom_site_fract_x
_atom_site_fract_y
_atom_site_fract_z
F(1) .4618(2) -.0311(6) .32340(10)
O(1) .7133(2) .0522(5) .57230(10)
O(2) .6516(2) -.2758(7) .5913(2)
C(1) .5540(3) -.2616(8) .4711(2)
C(2) .5037(3) -.2420(10) .4142(2)
C(3) .5113(3) -.0500(10) .3799(2)
C(4) .5657(3) .1212(9) .3993(2)
C(5) .6155(3) .0997(8) .4571(2)
C(6) .6095(3) -.0921(8) .4932(2)
C(7) .6593(3) -.1200(10) .5568(2)
C(8) .7639(3) .0522(9) .6317(2)
C(9) .8178(3) -.1227(9) .6500(2)
C(10) .8703(3) -.1060(9) .7065(2)
C(11) .8671(3) .0830(10) .7437(2)
C(12) .8122(3) .2540(10) .7252(3)
C(13) .7595(3) .2407(9) .6683(2)
H(1) .5504 -.3938 .4961
H(2) .4650 -.3601 .3988
H(4) .5694 .2513 .3738
H(5) .6540 .2174 .4717
H(9) .8189 -.2538 .6244
H(10) .9086 -.2254 .7198
H(11) .9039 .0941 .7825
H(12) .8103 .3833 .7515
H(13) .7213 .3596 .6549
loop_
_geom_angle_atom_site_label_1
_geom_angle_atom_site_label_2
_geom_angle_atom_site_label_3
_geom_angle
_geom_angle_publ_flag
C(7) O(1) C(8) 119.2(3) yes
C(2) C(1) C(6) 121.1(5) yes
C(1) C(2) C(3) 117.5(5) yes
F(1) C(3) C(2) 117.6(5) yes
F(1) C(3) C(4) 118.7(5) yes
C(2) C(3) C(4) 123.7(4) yes
C(3) C(4) C(5) 118.0(4) yes
C(4) C(5) C(6) 120.0(4) yes
C(1) C(6) C(5) 119.7(4) yes
C(1) C(6) C(7) 118.0(4) yes
C(5) C(6) C(7) 122.3(4) yes
O(1) C(7) O(2) 123.5(4) yes
O(1) C(7) C(6) 112.5(4) yes
O(2) C(7) C(6) 124.0(5) yes
O(1) C(8) C(9) 121.0(4) yes
O(1) C(8) C(13) 116.8(4) yes
C(9) C(8) C(13) 122.2(4) yes
C(8) C(9) C(10) 118.8(4) yes
C(9) C(10) C(11) 119.9(5) yes
C(10) C(11) C(12) 120.6(4) yes
C(11) C(12) C(13) 120.1(5) yes
C(8) C(13) C(12) 118.4(5) yes
loop_
_geom_bond_atom_site_label_1
_geom_bond_atom_site_label_2
_geom_bond_site_symmetry_1
_geom_bond_site_symmetry_2
_geom_bond_distance
_geom_bond_publ_flag
F(1) C(3) . . 1.355(5) yes
O(1) C(7) . . 1.347(5) yes
O(1) C(8) . . 1.409(5) yes
O(2) C(7) . . 1.204(5) yes
C(1) C(2) . . 1.369(6) yes
C(1) C(6) . . 1.376(6) yes
C(2) C(3) . . 1.364(7) yes
C(3) C(4) . . 1.361(6) yes
C(4) C(5) . . 1.381(6) yes
C(5) C(6) . . 1.381(6) yes
C(6) C(7) . . 1.488(6) yes
C(8) C(9) . . 1.366(6) yes
C(8) C(13) . . 1.366(6) yes
C(9) C(10) . . 1.377(6) yes
C(10) C(11) . . 1.372(7) yes
C(11) C(12) . . 1.365(6) yes
C(12) C(13) . . 1.384(6) yes
C(1) H(1) . . 0.951 no
C(2) H(2) . . 0.958 no
C(4) H(4) . . 0.949 no
C(5) H(5) . . 0.952 no
C(9) H(9) . . 0.947 no
C(10) H(10) . . 0.952 no
C(11) H(11) . . 0.950 no
C(12) H(12) . . 0.949 no
C(13) H(13) . . 0.949 no
