#------------------------------------------------------------------------------
#$Date: 2016-02-09 20:42:54 +0200 (Tue, 09 Feb 2016) $
#$Revision: 176292 $
#$URL: svn://www.crystallography.net/cod/cif/6/00/03/6000310.cif $
#------------------------------------------------------------------------------
#
# This file is available in the Crystallography Open Database (COD),
# http://www.crystallography.net/
#
# All data on this site have been placed in the public domain by the
# contributors.
#
data_6000310
loop_
_publ_author_name
'Riou-Cavellec, M.'
'Serre, C.'
'Férey, G.'
_publ_section_title
;
 Hydrothermal synthesis and structure determination of [VF(PO₄),N₂C₂H₉]
 and [Ti(OH)(PO₄),N₂C₂H₉], two M(III) phosphates with the ULM-11
 bidimensional topology
;
_journal_coden_ASTM              CASCFN
_journal_issue                   3
_journal_name_full
;
 Comptes Rendus de l'Academie des Sciences, Serie IIc: Chimie
;
_journal_page_first              147
_journal_page_last               152
_journal_paper_doi               10.1016/S1387-1609(99)80057-7
_journal_volume                  2
_journal_year                    1999
_chemical_formula_sum            'C2 H10 N2 O5 P Ti'
_space_group_name_H-M_alt        'P 1 21/c 1'
_cell_angle_alpha                90.000
_cell_angle_beta                 100.890
_cell_angle_gamma                90.000
_cell_length_a                   9.2650
_cell_length_b                   7.3290
_cell_length_c                   9.9110
_cell_volume                     660.87
_cod_database_code               6000310
loop_
_atom_site_label
_atom_site_fract_x
_atom_site_fract_y
_atom_site_fract_z
? ? ? ?
