#------------------------------------------------------------------------------
#$Date: 2019-11-17 12:51:28 +0200 (Sun, 17 Nov 2019) $
#$Revision: 229974 $
#$URL: file:///home/coder/svn-repositories/cod/cif/7/04/67/7046735.cif $
#------------------------------------------------------------------------------
#
# This file is available in the Crystallography Open Database (COD),
# http://www.crystallography.net/
#
# All data on this site have been placed in the public domain by the
# contributors.
#
data_7046735
loop_
_publ_author_name
'Liu, Shu'
'Wang, Bing-Wu'
'Wang, Zhe-Ming'
'Gao, Song'
_publ_section_title
;
 Magnetic layered perovskites of
 [CH₃C(NH₂)₂]₂[M(HCOO)₄]
 (M = Co²⁺ and Ni²⁺): synthesis, structures and
 properties.
;
_journal_issue                   34
_journal_name_full
'Dalton transactions (Cambridge, England : 2003)'
_journal_page_first              11925
_journal_page_last               11933
_journal_paper_doi               10.1039/c8dt01729h
_journal_volume                  47
_journal_year                    2018
_chemical_formula_sum            'C8 H18 N4 Ni O8'
_chemical_formula_weight         356.97
_space_group_IT_number           56
_space_group_name_Hall           '-P 2ab 2ac'
_space_group_name_H-M_alt        'P c c n'
_symmetry_cell_setting           orthorhombic
_symmetry_space_group_name_Hall  '-P 2ab 2ac'
_symmetry_space_group_name_H-M   'P c c n'
_atom_sites_solution_hydrogens   geom
_atom_sites_solution_primary     direct
_atom_sites_solution_secondary   difmap
_audit_creation_method           SHELXL-97
_audit_update_record
;
2018-05-01 deposited with the CCDC.
2018-06-15 downloaded from the CCDC.
;
_cell_angle_alpha                90.00
_cell_angle_beta                 90.00
_cell_angle_gamma                90.00
_cell_formula_units_Z            4
_cell_length_a                   7.7962(1)
_cell_length_b                   22.0461(3)
_cell_length_c                   8.4718(1)
_cell_measurement_reflns_used    9309
_cell_measurement_temperature    140.0
_cell_measurement_theta_max      76.3710
_cell_measurement_theta_min      3.9880
_cell_volume                     1456.10(3)
_computing_cell_refinement
'CrysAlisPro (Rigaku Oxford Diffraction, 2017)'
_computing_data_collection
'CrysAlisPro (Rigaku Oxford Diffraction, 2017)'
_computing_data_reduction
'CrysAlisPro (Rigaku Oxford Diffraction, 2017)'
_computing_molecular_graphics    'Bruker SHELXTL V5.1 (Sheldrick, 1998)'
_computing_publication_material  'SHELXL-97 (Sheldrick, 1997)'
_computing_structure_refinement  'SHELXL-97 (Sheldrick, 1997)'
_computing_structure_solution    'SHELXS-97 (Sheldrick, 1990)'
_diffrn_ambient_temperature      140.0
_diffrn_detector_area_resol_mean 10.3914
_diffrn_measured_fraction_theta_full 0.995
_diffrn_measured_fraction_theta_max 0.995
_diffrn_measurement_device_type  'SuperNova, Dual, Cu at zero, AtlasCCD'
_diffrn_measurement_method       'ω scans'
_diffrn_radiation_monochromator  mirror
_diffrn_radiation_source         'SuperNova (Cu) X-ray Source'
_diffrn_radiation_type           CuK\a
_diffrn_radiation_wavelength     1.54184
_diffrn_reflns_av_R_equivalents  0.0317
_diffrn_reflns_av_sigmaI/netI    0.0124
_diffrn_reflns_limit_h_max       9
_diffrn_reflns_limit_h_min       -9
_diffrn_reflns_limit_k_max       27
_diffrn_reflns_limit_k_min       -27
_diffrn_reflns_limit_l_max       10
_diffrn_reflns_limit_l_min       -10
_diffrn_reflns_number            20948
_diffrn_reflns_theta_full        76.49
_diffrn_reflns_theta_max         76.49
_diffrn_reflns_theta_min         4.01
_diffrn_standards_decay_%        0
_exptl_absorpt_coefficient_mu    2.367
_exptl_absorpt_correction_T_max  0.974
_exptl_absorpt_correction_T_min  0.815
_exptl_absorpt_correction_type   gaussian
_exptl_absorpt_process_details
;
CrysAlisPro 1.171.39.35c (Rigaku Oxford Diffraction, 2017)
Numerical absorption correction based on gaussian integration over
a multifaceted crystal model
;
_exptl_crystal_colour            green
_exptl_crystal_density_diffrn    1.628
_exptl_crystal_density_method    'not measured'
_exptl_crystal_description       block
_exptl_crystal_F_000             744
_exptl_crystal_size_max          0.154
_exptl_crystal_size_mid          0.080
_exptl_crystal_size_min          0.049
_refine_diff_density_max         0.249
_refine_diff_density_min         -0.236
_refine_diff_density_rms         0.050
_refine_ls_extinction_coef       0.00062(9)
_refine_ls_extinction_expression Fc^*^=kFc[1+0.001xFc²λ³/sin(2θ)]^-1/4^
_refine_ls_extinction_method     SHELXL
_refine_ls_goodness_of_fit_ref   1.000
_refine_ls_hydrogen_treatment    constr.
_refine_ls_matrix_type           full
_refine_ls_number_parameters     99
_refine_ls_number_reflns         1532
_refine_ls_number_restraints     0
_refine_ls_restrained_S_all      1.000
_refine_ls_R_factor_all          0.0267
_refine_ls_R_factor_gt           0.0236
_refine_ls_shift/su_max          0.000
_refine_ls_shift/su_mean         0.000
_refine_ls_structure_factor_coef Fsqd
_refine_ls_weighting_details
'calc w=1/[σ²(Fo²)+(0.0320P)²+0.9990P] where P=(Fo²+2Fc²)/3'
_refine_ls_weighting_scheme      calc
_refine_ls_wR_factor_gt          0.0611
_refine_ls_wR_factor_ref         0.0633
_reflns_number_gt                1397
_reflns_number_total             1532
_reflns_threshold_expression     >2sigma(I)
_cod_data_source_file            c8dt01729h2.cif
_cod_data_source_block           2Ni-140K
_cod_depositor_comments
;
The following automatic conversions were performed:

'_symmetry_cell_setting' value 'Orthorhombic' changed to
'orthorhombic' according to
/home/data/users/saulius/crontab/automatic-downloads/rss-feeds/RSC/lib/dictionaries/cif_core.dic
dictionary named 'cif_core.dic' version 2.4.2 from 2011-04-26.

Automatic conversion script
Id: cif_fix_values 4973 2017-02-22 13:04:09Z antanas 

 Adding full bibliography for 7046733--7046752.cif.
;
_cod_original_sg_symbol_H-M      'P ccn'
_cod_database_code               7046735
loop_
_symmetry_equiv_pos_as_xyz
'x, y, z'
'-x+1/2, -y+1/2, z'
'-x, y+1/2, -z+1/2'
'x+1/2, -y, -z+1/2'
'-x, -y, -z'
'x-1/2, y-1/2, -z'
'x, -y-1/2, z-1/2'
'-x-1/2, y, z-1/2'
loop_
_atom_site_label
_atom_site_type_symbol
_atom_site_fract_x
_atom_site_fract_y
_atom_site_fract_z
_atom_site_U_iso_or_equiv
_atom_site_adp_type
_atom_site_occupancy
_atom_site_symmetry_multiplicity
_atom_site_calc_flag
_atom_site_refinement_flags
Ni1 Ni 0.0000 0.0000 0.0000 0.01102(11) Uani 1 2 d S
O1 O 0.06959(11) -0.02586(4) 0.22435(10) 0.01454(19) Uani 1 1 d .
O2 O 0.25212(12) -0.01691(4) 0.42437(10) 0.01600(19) Uani 1 1 d .
O3 O 0.04730(13) 0.08843(4) 0.06734(11) 0.0183(2) Uani 1 1 d .
O4 O 0.08228(18) 0.18691(5) 0.02601(13) 0.0312(3) Uani 1 1 d .
C1 C 0.19972(17) -0.00343(5) 0.28793(15) 0.0136(3) Uani 1 1 d .
H1 H 0.2633 0.0257 0.2296 0.016 Uiso 1 1 calc R
C2 C 0.08759(19) 0.13295(6) -0.01627(16) 0.0201(3) Uani 1 1 d .
H2 H 0.1254 0.1249 -0.1208 0.024 Uiso 1 1 calc R
C3 C -0.05049(19) 0.15882(6) 0.44191(16) 0.0195(3) Uani 1 1 d .
C4 C -0.1033(3) 0.17125(7) 0.60778(18) 0.0329(4) Uani 1 1 d .
H4A H -0.2173 0.1900 0.6084 0.049 Uiso 1 1 calc R
H4B H -0.0206 0.1989 0.6570 0.049 Uiso 1 1 calc R
H4C H -0.1069 0.1331 0.6671 0.049 Uiso 1 1 calc R
N1 N -0.07822(16) 0.10499(5) 0.38293(14) 0.0209(3) Uani 1 1 d .
H1A H -0.0499 0.0971 0.2845 0.025 Uiso 1 1 calc R
H1B H -0.1252 0.0766 0.4416 0.025 Uiso 1 1 calc R
N2 N 0.01933(17) 0.20237(5) 0.35802(15) 0.0244(3) Uani 1 1 d .
H2A H 0.0488 0.1957 0.2593 0.029 Uiso 1 1 calc R
H2B H 0.0367 0.2383 0.4005 0.029 Uiso 1 1 calc R
loop_
_atom_site_aniso_label
_atom_site_aniso_U_11
_atom_site_aniso_U_22
_atom_site_aniso_U_33
_atom_site_aniso_U_23
_atom_site_aniso_U_13
_atom_site_aniso_U_12
Ni1 0.01228(18) 0.01237(17) 0.00841(17) -0.00006(10) 0.00008(11) 0.00006(10)
O1 0.0148(4) 0.0176(4) 0.0112(4) 0.0010(3) -0.0017(3) -0.0011(3)
O2 0.0150(4) 0.0221(4) 0.0109(4) 0.0018(3) -0.0024(3) -0.0017(4)
O3 0.0264(5) 0.0143(4) 0.0142(4) -0.0007(3) 0.0004(4) -0.0015(4)
O4 0.0544(7) 0.0148(5) 0.0243(5) 0.0010(4) 0.0090(5) -0.0009(5)
C1 0.0138(6) 0.0150(5) 0.0120(6) 0.0005(4) 0.0010(5) 0.0006(4)
C2 0.0264(7) 0.0170(6) 0.0168(6) 0.0004(5) 0.0025(5) 0.0004(5)
C3 0.0227(7) 0.0191(6) 0.0168(6) 0.0005(5) -0.0013(5) 0.0020(5)
C4 0.0579(11) 0.0226(7) 0.0181(7) -0.0030(5) 0.0077(7) -0.0025(7)
N1 0.0288(6) 0.0180(5) 0.0161(5) -0.0007(4) 0.0030(5) -0.0040(5)
N2 0.0382(7) 0.0158(5) 0.0192(6) -0.0013(4) 0.0034(5) -0.0033(5)
loop_
_atom_type_symbol
_atom_type_description
_atom_type_scat_dispersion_real
_atom_type_scat_dispersion_imag
_atom_type_scat_source
C C 0.0181 0.0091 'International Tables Vol C Tables 4.2.6.8 and 6.1.1.4'
H H 0.0000 0.0000 'International Tables Vol C Tables 4.2.6.8 and 6.1.1.4'
N N 0.0311 0.0180 'International Tables Vol C Tables 4.2.6.8 and 6.1.1.4'
O O 0.0492 0.0322 'International Tables Vol C Tables 4.2.6.8 and 6.1.1.4'
Ni Ni -3.0029 0.5091 'International Tables Vol C Tables 4.2.6.8 and 6.1.1.4'
loop_
_geom_angle_atom_site_label_1
_geom_angle_atom_site_label_2
_geom_angle_atom_site_label_3
_geom_angle
_geom_angle_site_symmetry_1
_geom_angle_site_symmetry_3
O1 Ni1 O1 180.00(5) . 5
O1 Ni1 O3 87.67(4) . .
O1 Ni1 O3 92.33(4) 5 .
O1 Ni1 O3 92.33(4) . 5
O1 Ni1 O3 87.67(4) 5 5
O3 Ni1 O3 180.00(5) . 5
O1 Ni1 O2 90.58(3) . 4_455
O1 Ni1 O2 89.42(3) 5 4_455
O3 Ni1 O2 84.90(4) . 4_455
O3 Ni1 O2 95.10(4) 5 4_455
O1 Ni1 O2 89.42(3) . 8_655
O1 Ni1 O2 90.58(3) 5 8_655
O3 Ni1 O2 95.10(4) . 8_655
O3 Ni1 O2 84.90(4) 5 8_655
O2 Ni1 O2 180.00(5) 4_455 8_655
C1 O1 Ni1 120.15(8) . .
C1 O2 Ni1 122.92(8) . 4
C2 O3 Ni1 129.02(9) . .
O1 C1 O2 124.34(12) . .
O1 C1 H1 117.8 . .
O2 C1 H1 117.8 . .
O4 C2 O3 125.42(13) . .
O4 C2 H2 117.3 . .
O3 C2 H2 117.3 . .
N1 C3 N2 121.75(13) . .
N1 C3 C4 118.84(13) . .
N2 C3 C4 119.39(13) . .
C3 C4 H4A 109.5 . .
C3 C4 H4B 109.5 . .
H4A C4 H4B 109.5 . .
C3 C4 H4C 109.5 . .
H4A C4 H4C 109.5 . .
H4B C4 H4C 109.5 . .
C3 N1 H1A 120.0 . .
C3 N1 H1B 120.0 . .
H1A N1 H1B 120.0 . .
C3 N2 H2A 120.0 . .
C3 N2 H2B 120.0 . .
H2A N2 H2B 120.0 . .
loop_
_geom_bond_atom_site_label_1
_geom_bond_atom_site_label_2
_geom_bond_distance
_geom_bond_site_symmetry_2
Ni1 O1 2.0571(9) .
Ni1 O1 2.0571(9) 5
Ni1 O3 2.0644(9) .
Ni1 O3 2.0644(9) 5
Ni1 O2 2.0699(9) 4_455
Ni1 O2 2.0699(9) 8_655
O1 C1 1.2507(16) .
O2 C1 1.2614(16) .
O2 Ni1 2.0699(9) 4
O3 C2 1.2505(17) .
O4 C2 1.2431(18) .
C1 H1 0.9500 .
C2 H2 0.9500 .
C3 N1 1.3057(18) .
C3 N2 1.3127(19) .
C3 C4 1.4898(19) .
C4 H4A 0.9800 .
C4 H4B 0.9800 .
C4 H4C 0.9800 .
N1 H1A 0.8800 .
N1 H1B 0.8800 .
N2 H2A 0.8800 .
N2 H2B 0.8800 .
loop_
_geom_hbond_atom_site_label_D
_geom_hbond_atom_site_label_H
_geom_hbond_atom_site_label_A
_geom_hbond_distance_DH
_geom_hbond_distance_HA
_geom_hbond_distance_DA
_geom_hbond_angle_DHA
_geom_hbond_site_symmetry_A
C1 H1 O1 0.95 2.42 2.9567(16) 115.6 4
C4 H4C O1 0.98 2.55 3.5165(18) 167.4 5_556
N1 H1A O3 0.88 2.00 2.8704(15) 170.5 .
N1 H1B O2 0.88 2.00 2.8763(15) 174.5 5_556
N2 H2A O4 0.88 2.00 2.8754(17) 171.2 .
N2 H2B O4 0.88 1.99 2.8677(16) 171.7 7_566
