#------------------------------------------------------------------------------
#$Date: 2019-11-17 12:51:28 +0200 (Sun, 17 Nov 2019) $
#$Revision: 229974 $
#$URL: file:///home/coder/svn-repositories/cod/cif/7/04/67/7046741.cif $
#------------------------------------------------------------------------------
#
# This file is available in the Crystallography Open Database (COD),
# http://www.crystallography.net/
#
# All data on this site have been placed in the public domain by the
# contributors.
#
data_7046741
loop_
_publ_author_name
'Liu, Shu'
'Wang, Bing-Wu'
'Wang, Zhe-Ming'
'Gao, Song'
_publ_section_title
;
 Magnetic layered perovskites of
 [CH₃C(NH₂)₂]₂[M(HCOO)₄]
 (M = Co²⁺ and Ni²⁺): synthesis, structures and
 properties.
;
_journal_issue                   34
_journal_name_full
'Dalton transactions (Cambridge, England : 2003)'
_journal_page_first              11925
_journal_page_last               11933
_journal_paper_doi               10.1039/c8dt01729h
_journal_volume                  47
_journal_year                    2018
_chemical_formula_sum            'C8 H18 Co N4 O8'
_chemical_formula_weight         357.19
_space_group_IT_number           56
_space_group_name_Hall           '-P 2ab 2ac'
_space_group_name_H-M_alt        'P c c n'
_symmetry_cell_setting           orthorhombic
_symmetry_space_group_name_Hall  '-P 2ab 2ac'
_symmetry_space_group_name_H-M   'P c c n'
_atom_sites_solution_hydrogens   geom
_atom_sites_solution_primary     direct
_atom_sites_solution_secondary   difmap
_audit_creation_method           SHELXL-97
_audit_update_record
;
2018-05-01 deposited with the CCDC.
2018-06-15 downloaded from the CCDC.
;
_cell_angle_alpha                90.00
_cell_angle_beta                 90.00
_cell_angle_gamma                90.00
_cell_formula_units_Z            4
_cell_length_a                   7.8675(2)
_cell_length_b                   22.0901(6)
_cell_length_c                   8.5777(2)
_cell_measurement_reflns_used    6104
_cell_measurement_temperature    260.0
_cell_measurement_theta_max      76.1730
_cell_measurement_theta_min      7.8800
_cell_volume                     1490.75(7)
_computing_cell_refinement
'CrysAlisPro (Rigaku Oxford Diffraction, 2017)'
_computing_data_collection
'CrysAlisPro (Rigaku Oxford Diffraction, 2017)'
_computing_data_reduction
'CrysAlisPro (Rigaku Oxford Diffraction, 2017)'
_computing_molecular_graphics    'Bruker SHELXTL V5.1 (Sheldrick, 1998)'
_computing_publication_material  'SHELXL-97 (Sheldrick, 1997)'
_computing_structure_refinement  'SHELXL-97 (Sheldrick, 1997)'
_computing_structure_solution    'SHELXS-97 (Sheldrick, 1990)'
_diffrn_ambient_temperature      260.0
_diffrn_detector_area_resol_mean 10.3914
_diffrn_measured_fraction_theta_full 0.985
_diffrn_measured_fraction_theta_max 0.985
_diffrn_measurement_device_type  'SuperNova, Dual, Cu at zero, AtlasCCD'
_diffrn_measurement_method       'ω scans'
_diffrn_radiation_monochromator  mirror
_diffrn_radiation_source         'SuperNova (Cu) X-ray Source'
_diffrn_radiation_type           CuK\a
_diffrn_radiation_wavelength     1.54184
_diffrn_reflns_av_R_equivalents  0.0403
_diffrn_reflns_av_sigmaI/netI    0.0148
_diffrn_reflns_limit_h_max       9
_diffrn_reflns_limit_h_min       -9
_diffrn_reflns_limit_k_max       26
_diffrn_reflns_limit_k_min       -24
_diffrn_reflns_limit_l_max       10
_diffrn_reflns_limit_l_min       -10
_diffrn_reflns_number            21004
_diffrn_reflns_theta_full        76.41
_diffrn_reflns_theta_max         76.41
_diffrn_reflns_theta_min         4.00
_diffrn_standards_decay_%        0
_exptl_absorpt_coefficient_mu    9.460
_exptl_absorpt_correction_T_max  0.561
_exptl_absorpt_correction_T_min  0.320
_exptl_absorpt_correction_type   gaussian
_exptl_absorpt_process_details
;
CrysAlisPro 1.171.39.35c (Rigaku Oxford Diffraction, 2017)
Numerical absorption correction based on gaussian integration over
a multifaceted crystal model
;
_exptl_crystal_colour            purple-red
_exptl_crystal_density_diffrn    1.592
_exptl_crystal_density_method    'not measured'
_exptl_crystal_description       block
_exptl_crystal_F_000             740
_exptl_crystal_size_max          0.174
_exptl_crystal_size_mid          0.156
_exptl_crystal_size_min          0.093
_refine_diff_density_max         0.228
_refine_diff_density_min         -0.307
_refine_diff_density_rms         0.045
_refine_ls_extinction_coef       0.00042(10)
_refine_ls_extinction_expression Fc^*^=kFc[1+0.001xFc²λ³/sin(2θ)]^-1/4^
_refine_ls_extinction_method     SHELXL
_refine_ls_goodness_of_fit_ref   1.004
_refine_ls_hydrogen_treatment    constr.
_refine_ls_matrix_type           full
_refine_ls_number_parameters     99
_refine_ls_number_reflns         1547
_refine_ls_number_restraints     0
_refine_ls_restrained_S_all      1.004
_refine_ls_R_factor_all          0.0323
_refine_ls_R_factor_gt           0.0257
_refine_ls_shift/su_max          0.004
_refine_ls_shift/su_mean         0.000
_refine_ls_structure_factor_coef Fsqd
_refine_ls_weighting_details
'calc w=1/[σ²(Fo²)+(0.0377P)²+0.8536P] where P=(Fo²+2Fc²)/3'
_refine_ls_weighting_scheme      calc
_refine_ls_wR_factor_gt          0.0681
_refine_ls_wR_factor_ref         0.0726
_reflns_number_gt                1316
_reflns_number_total             1547
_reflns_threshold_expression     >2sigma(I)
_cod_data_source_file            c8dt01729h2.cif
_cod_data_source_block           1Co-260K
_cod_depositor_comments
;
The following automatic conversions were performed:

'_symmetry_cell_setting' value 'Orthorhombic' changed to
'orthorhombic' according to
/home/data/users/saulius/crontab/automatic-downloads/rss-feeds/RSC/lib/dictionaries/cif_core.dic
dictionary named 'cif_core.dic' version 2.4.2 from 2011-04-26.

Automatic conversion script
Id: cif_fix_values 4973 2017-02-22 13:04:09Z antanas 

 Adding full bibliography for 7046733--7046752.cif.
;
_cod_original_sg_symbol_H-M      'P ccn'
_cod_database_code               7046741
loop_
_symmetry_equiv_pos_as_xyz
'x, y, z'
'-x+1/2, -y+1/2, z'
'-x, y+1/2, -z+1/2'
'x+1/2, -y, -z+1/2'
'-x, -y, -z'
'x-1/2, y-1/2, -z'
'x, -y-1/2, z-1/2'
'-x-1/2, y, z-1/2'
loop_
_atom_site_label
_atom_site_type_symbol
_atom_site_fract_x
_atom_site_fract_y
_atom_site_fract_z
_atom_site_U_iso_or_equiv
_atom_site_adp_type
_atom_site_occupancy
_atom_site_symmetry_multiplicity
_atom_site_calc_flag
_atom_site_refinement_flags
Co1 Co 0.0000 0.0000 0.0000 0.01800(13) Uani 1 2 d S
O1 O 0.06890(14) -0.02570(5) 0.22758(12) 0.0251(3) Uani 1 1 d .
O2 O 0.24985(15) -0.01716(6) 0.42495(13) 0.0283(3) Uani 1 1 d .
O3 O 0.04859(18) 0.08983(5) 0.06710(14) 0.0323(3) Uani 1 1 d .
O4 O 0.0793(3) 0.18776(7) 0.02711(18) 0.0566(5) Uani 1 1 d .
C1 C 0.1970(2) -0.00346(7) 0.29136(18) 0.0236(3) Uani 1 1 d .
H1 H 0.2579 0.0255 0.2358 0.028 Uiso 1 1 calc R
C2 C 0.0858(3) 0.13424(9) -0.0139(2) 0.0361(4) Uani 1 1 d .
H2 H 0.1221 0.1266 -0.1152 0.043 Uiso 1 1 calc R
C3 C -0.0489(3) 0.15885(8) 0.4393(2) 0.0333(4) Uani 1 1 d .
C4 C -0.0956(4) 0.17084(10) 0.6044(3) 0.0568(7) Uani 1 1 d .
H4A H -0.2047 0.1902 0.6082 0.085 Uiso 1 1 calc R
H4B H -0.0119 0.1967 0.6510 0.085 Uiso 1 1 calc R
H4C H -0.1004 0.1333 0.6605 0.085 Uiso 1 1 calc R
N1 N -0.0777(2) 0.10558(7) 0.38117(18) 0.0369(4) Uani 1 1 d .
H1A H -0.0525 0.0981 0.2855 0.044 Uiso 1 1 calc R
H1B H -0.1221 0.0778 0.4383 0.044 Uiso 1 1 calc R
N2 N 0.0185(2) 0.20234(8) 0.3562(2) 0.0431(4) Uani 1 1 d .
H2A H 0.0448 0.1960 0.2602 0.052 Uiso 1 1 calc R
H2B H 0.0363 0.2372 0.3974 0.052 Uiso 1 1 calc R
loop_
_atom_site_aniso_label
_atom_site_aniso_U_11
_atom_site_aniso_U_22
_atom_site_aniso_U_33
_atom_site_aniso_U_23
_atom_site_aniso_U_13
_atom_site_aniso_U_12
Co1 0.01945(19) 0.0205(2) 0.01400(19) -0.00009(13) 0.00040(12) 0.00026(13)
O1 0.0235(5) 0.0326(6) 0.0192(5) 0.0027(4) -0.0039(4) -0.0027(5)
O2 0.0243(5) 0.0409(7) 0.0197(5) 0.0041(5) -0.0042(5) -0.0040(5)
O3 0.0482(7) 0.0236(6) 0.0251(6) -0.0008(5) 0.0012(6) -0.0028(5)
O4 0.1028(14) 0.0240(8) 0.0429(8) 0.0009(6) 0.0155(9) -0.0015(8)
C1 0.0225(7) 0.0278(8) 0.0206(7) 0.0024(6) -0.0008(6) -0.0001(6)
C2 0.0527(12) 0.0282(10) 0.0273(9) 0.0011(7) 0.0044(8) 0.0000(8)
C3 0.0418(9) 0.0300(9) 0.0282(9) -0.0007(7) -0.0010(8) 0.0017(8)
C4 0.098(2) 0.0401(12) 0.0319(11) -0.0064(8) 0.0125(12) -0.0044(12)
N1 0.0526(10) 0.0300(8) 0.0281(7) -0.0024(6) 0.0060(7) -0.0071(7)
N2 0.0679(12) 0.0272(9) 0.0342(9) -0.0017(7) 0.0063(8) -0.0067(7)
loop_
_atom_type_symbol
_atom_type_description
_atom_type_scat_dispersion_real
_atom_type_scat_dispersion_imag
_atom_type_scat_source
C C 0.0181 0.0091 'International Tables Vol C Tables 4.2.6.8 and 6.1.1.4'
H H 0.0000 0.0000 'International Tables Vol C Tables 4.2.6.8 and 6.1.1.4'
N N 0.0311 0.0180 'International Tables Vol C Tables 4.2.6.8 and 6.1.1.4'
O O 0.0492 0.0322 'International Tables Vol C Tables 4.2.6.8 and 6.1.1.4'
Co Co -2.3653 3.6143 'International Tables Vol C Tables 4.2.6.8 and 6.1.1.4'
loop_
_geom_angle_atom_site_label_1
_geom_angle_atom_site_label_2
_geom_angle_atom_site_label_3
_geom_angle
_geom_angle_site_symmetry_1
_geom_angle_site_symmetry_3
O3 Co1 O3 180.00(2) . 5
O3 Co1 O1 92.65(5) . 5
O3 Co1 O1 87.35(5) 5 5
O3 Co1 O1 87.35(5) . .
O3 Co1 O1 92.65(5) 5 .
O1 Co1 O1 180.00(6) 5 .
O3 Co1 O2 94.80(5) . 8_655
O3 Co1 O2 85.20(5) 5 8_655
O1 Co1 O2 90.33(4) 5 8_655
O1 Co1 O2 89.67(4) . 8_655
O3 Co1 O2 85.20(5) . 4_455
O3 Co1 O2 94.80(5) 5 4_455
O1 Co1 O2 89.67(4) 5 4_455
O1 Co1 O2 90.33(4) . 4_455
O2 Co1 O2 180.00(6) 8_655 4_455
C1 O1 Co1 120.58(10) . .
C1 O2 Co1 123.05(11) . 4
C2 O3 Co1 129.63(12) . .
O1 C1 O2 124.95(15) . .
O1 C1 H1 117.5 . .
O2 C1 H1 117.5 . .
O4 C2 O3 126.08(18) . .
O4 C2 H2 117.0 . .
O3 C2 H2 117.0 . .
N1 C3 N2 121.79(18) . .
N1 C3 C4 118.96(18) . .
N2 C3 C4 119.24(18) . .
C3 C4 H4A 109.5 . .
C3 C4 H4B 109.5 . .
H4A C4 H4B 109.5 . .
C3 C4 H4C 109.5 . .
H4A C4 H4C 109.5 . .
H4B C4 H4C 109.5 . .
C3 N1 H1A 120.0 . .
C3 N1 H1B 120.0 . .
H1A N1 H1B 120.0 . .
C3 N2 H2A 120.0 . .
C3 N2 H2B 120.0 . .
H2A N2 H2B 120.0 . .
loop_
_geom_bond_atom_site_label_1
_geom_bond_atom_site_label_2
_geom_bond_distance
_geom_bond_site_symmetry_2
Co1 O3 2.1012(12) .
Co1 O3 2.1012(12) 5
Co1 O1 2.1040(11) 5
Co1 O1 2.1040(11) .
Co1 O2 2.1051(11) 8_655
Co1 O2 2.1051(11) 4_455
O1 C1 1.247(2) .
O2 C1 1.256(2) .
O2 Co1 2.1051(11) 4
O3 C2 1.237(2) .
O4 C2 1.235(2) .
C1 H1 0.9300 .
C2 H2 0.9300 .
C3 N1 1.298(2) .
C3 N2 1.309(3) .
C3 C4 1.486(3) .
C4 H4A 0.9600 .
C4 H4B 0.9600 .
C4 H4C 0.9600 .
N1 H1A 0.8600 .
N1 H1B 0.8600 .
N2 H2A 0.8600 .
N2 H2B 0.8600 .
loop_
_geom_hbond_atom_site_label_D
_geom_hbond_atom_site_label_H
_geom_hbond_atom_site_label_A
_geom_hbond_distance_DH
_geom_hbond_distance_HA
_geom_hbond_distance_DA
_geom_hbond_angle_DHA
_geom_hbond_site_symmetry_A
C1 H1 O1 0.93 2.47 3.001(2) 116.6 4
C4 H4C O1 0.96 2.58 3.522(3) 168.8 5_556
N1 H1A O3 0.86 2.04 2.892(2) 169.0 .
N1 H1B O2 0.86 2.04 2.9007(19) 174.0 5_556
N2 H2A O4 0.86 2.03 2.881(2) 172.4 .
N2 H2B O4 0.86 2.02 2.876(2) 170.9 7_566
