data_30000100
loop_
_publ_author_name
MaXiongFeng
_journal_name_full               'To be published'
_chemical_formula_sum            'C192 O128 Zr24'
_symmetry_space_group_name_Hall  '-F 4 2 3'
_symmetry_space_group_name_H-M   'F m -3 m'
_cell_length_a                   20.7430
_cell_length_b                   20.7430
_cell_length_c                   20.7430
_cell_angle_alpha                90.000
_cell_angle_beta                 90.000
_cell_angle_gamma                90.000
_cell_volume                     8925.133
_cod_hold_until_date             2022-04-09
loop_
_atom_site_label
_atom_site_fract_x
_atom_site_fract_y
_atom_site_fract_z
? ? ? ?
