#------------------------------------------------------------------------------
#$Date: 2016-02-20 02:53:41 +0200 (Sat, 20 Feb 2016) $
#$Revision: 176768 $
#$URL: svn://www.crystallography.net/cod/cif/2/10/26/2102605.cif $
#------------------------------------------------------------------------------
#
# This file is available in the Crystallography Open Database (COD),
# http://www.crystallography.net/. The original data for this entry
# were provided by IUCr Journals, http://journals.iucr.org/.
#
# The file may be used within the scientific community so long as
# proper attribution is given to the journal article from which the
# data were obtained.
#
data_2102605
loop_
_publ_author_name
'Harada, Jun'
'Harakawa, Mayuko'
'Ogawa, Keiichiro'
_publ_section_title
;
 Conformational change of N-benzylideneanilines in crystals
;
_journal_issue                   5
_journal_name_full               'Acta Crystallographica Section B'
_journal_page_first              589
_journal_page_last               597
_journal_paper_doi               10.1107/S0108768104016623
_journal_volume                  60
_journal_year                    2004
_chemical_formula_sum            'C15 H15 N'
_chemical_formula_weight         209.28
_chemical_melting_point          362.55
_chemical_name_systematic
;
N-(4-methylbenzylidene)-4-methylaniline
;
_space_group_IT_number           14
_symmetry_cell_setting           monoclinic
_symmetry_space_group_name_Hall  '-P 2ybc'
_symmetry_space_group_name_H-M   'P 1 21/c 1'
_atom_sites_solution_hydrogens   geom
_atom_sites_solution_primary     direct
_audit_creation_method           SHELXL-97
_cell_angle_alpha                90.00
_cell_angle_beta                 90.5180(10)
_cell_angle_gamma                90.00
_cell_formula_units_Z            2
_cell_length_a                   9.8649(6)
_cell_length_b                   4.8663(3)
_cell_length_c                   11.9484(8)
_cell_measurement_reflns_used    3145
_cell_measurement_temperature    250
_cell_measurement_theta_max      30.0
_cell_measurement_theta_min      3.4
_cell_volume                     573.57(6)
_computing_cell_refinement       'SAINT (Bruker, 1998)'
_computing_data_collection       'SMART (Bruker, 1998)'
_computing_data_reduction        SAINT
_computing_molecular_graphics    'SHELXTL (Bruker, 2000)'
_computing_publication_material  SHELXTL
_computing_structure_refinement  'SHELXL-97 (Sheldrick, 1997)'
_computing_structure_solution    'SHELXS-97 (Sheldrick, 1990)'
_diffrn_ambient_temperature      250
_diffrn_detector_area_resol_mean 8.192
_diffrn_measured_fraction_theta_full 1.000
_diffrn_measured_fraction_theta_max 1.000
_diffrn_measurement_device_type  'Bruker SMART 1000 CCD diffractometer'
_diffrn_measurement_method       ω_scan
_diffrn_radiation_monochromator  graphite
_diffrn_radiation_source         'fine-focus sealed tube'
_diffrn_radiation_type           MoK\a
_diffrn_radiation_wavelength     0.71073
_diffrn_reflns_av_R_equivalents  0.0194
_diffrn_reflns_av_sigmaI/netI    0.0140
_diffrn_reflns_limit_h_max       13
_diffrn_reflns_limit_h_min       -13
_diffrn_reflns_limit_k_max       6
_diffrn_reflns_limit_k_min       -6
_diffrn_reflns_limit_l_max       16
_diffrn_reflns_limit_l_min       -16
_diffrn_reflns_number            8404
_diffrn_reflns_theta_full        30.00
_diffrn_reflns_theta_max         30.00
_diffrn_reflns_theta_min         2.06
_diffrn_standards_decay_%        0
_exptl_absorpt_coefficient_mu    0.070
_exptl_absorpt_correction_T_max  0.9944
_exptl_absorpt_correction_T_min  0.9724
_exptl_absorpt_correction_type   multi-scan
_exptl_absorpt_process_details   'SADABS (Sheldrick, 2002)'
_exptl_crystal_colour            colourless
_exptl_crystal_density_diffrn    1.212
_exptl_crystal_density_method    'not measured'
_exptl_crystal_description       plate
_exptl_crystal_F_000             224
_exptl_crystal_size_max          0.40
_exptl_crystal_size_mid          0.30
_exptl_crystal_size_min          0.08
_refine_diff_density_max         0.223
_refine_diff_density_min         -0.196
_refine_ls_extinction_coef       0.126(13)
_refine_ls_extinction_expression Fc^*^=kFc[1+0.001xFc²λ³/sin(2θ)]^-1/4^
_refine_ls_extinction_method     SHELXL
_refine_ls_goodness_of_fit_ref   1.076
_refine_ls_hydrogen_treatment    constr
_refine_ls_matrix_type           full
_refine_ls_number_parameters     89
_refine_ls_number_reflns         1677
_refine_ls_number_restraints     0
_refine_ls_restrained_S_all      1.076
_refine_ls_R_factor_all          0.0565
_refine_ls_R_factor_gt           0.0477
_refine_ls_shift/su_max          0.000
_refine_ls_shift/su_mean         0.000
_refine_ls_structure_factor_coef Fsqd
_refine_ls_weighting_details
'calc w=1/[σ²(Fo²)+(0.0552P)²+0.1239P] where P=(Fo²+2Fc²)/3'
_refine_ls_weighting_scheme      calc
_refine_ls_wR_factor_gt          0.1271
_refine_ls_wR_factor_ref         0.1346
_reflns_number_gt                1406
_reflns_number_total             1677
_reflns_threshold_expression     >2sigma(I)
_cod_data_source_file            bk5008.cif
_cod_data_source_block           3_250K
_cod_depositor_comments
;
The following automatic conversions were performed:

'_chemical_melting_point' value '89.4_C' was changed to '362.55' - it
was converted from degrees Celsius(C) to Kelvins(K).

Automatic conversion script
Id: cif_fix_values 1646 2011-03-28 12:23:43Z adriana 

The following automatic conversions were performed:

'_chemical_melting_point' value '89.4_C' was changed to '362.55' - it
was converted from degrees Celsius(C) to Kelvins(K).

Automatic conversion script
Id: cif_fix_values 1715 2011-07-08 13:25:40Z adriana 
;
_cod_original_sg_symbol_H-M      P_1_21/c_1
_cod_database_code               2102605
_cod_database_fobs_code          2102605
loop_
_symmetry_equiv_pos_as_xyz
'x, y, z'
'-x, y+1/2, -z+1/2'
'-x, -y, -z'
'x, -y-1/2, z-1/2'
loop_
_atom_site_label
_atom_site_fract_x
_atom_site_fract_y
_atom_site_fract_z
_atom_site_U_iso_or_equiv
_atom_site_adp_type
_atom_site_calc_flag
_atom_site_refinement_flags
_atom_site_occupancy
_atom_site_disorder_assembly
_atom_site_disorder_group
_atom_site_type_symbol
N1A 0.45641(15) 0.5679(3) 0.52789(14) 0.0401(4) Uani d P 0.31 . 3 N
C1A 0.36895(15) 0.7700(3) 0.47611(15) 0.0314(3) Uani d P 0.62 A 1 C
C2A 0.27063(18) 0.8905(4) 0.54288(15) 0.0388(4) Uani d P 0.62 A 1 C
H2A 0.2645 0.8406 0.6187 0.047 Uiso calc PR 0.62 A 1 H
C3A 0.1811(2) 1.0842(5) 0.4987(2) 0.0417(4) Uani d P 0.62 A 1 C
H3A 0.1152 1.1618 0.5454 0.050 Uiso calc PR 0.62 A 1 H
C4A 0.1866(2) 1.1658(5) 0.3877(2) 0.0327(4) Uani d P 0.62 A 1 C
C5A 0.2873(3) 1.0487(5) 0.32294(17) 0.0417(4) Uani d P 0.62 A 1 C
H5A 0.2951 1.1029 0.2478 0.050 Uiso calc PR 0.62 A 1 H
C6A 0.37730(18) 0.8535(4) 0.36552(16) 0.0394(4) Uani d P 0.62 A 1 C
H6A 0.4440 0.7780 0.3190 0.047 Uiso calc PR 0.62 A 1 H
C7A 0.45641(15) 0.5679(3) 0.52789(14) 0.0401(4) Uani d P 0.31 . 1 C
H7A 0.4489 0.5353 0.6051 0.048 Uiso calc PR 0.31 . 1 H
C8A 0.0874(6) 1.3789(12) 0.3461(5) 0.0500(6) Uani d P 0.62 A 1 C
H81A 0.1290 1.5593 0.3501 0.075 Uiso calc PR 0.62 A 1 H
H82A 0.0071 1.3759 0.3923 0.075 Uiso calc PR 0.62 A 1 H
H83A 0.0623 1.3386 0.2691 0.075 Uiso calc PR 0.62 A 1 H
N1B 0.4945(3) 0.5594(6) 0.4527(2) 0.0378(4) Uiso d P 0.19 . 4 N
C1B 0.3899(2) 0.7656(5) 0.4341(2) 0.0378(4) Uiso d PG 0.38 B 2 C
C2B 0.3005(3) 0.8518(6) 0.51626(18) 0.0378(4) Uiso d PG 0.38 B 2 C
H2B 0.3062 0.7770 0.5887 0.045 Uiso calc PR 0.38 B 2 H
C3B 0.2027(3) 1.0487(8) 0.4913(3) 0.0378(4) Uiso d PG 0.38 B 2 C
H3B 0.1423 1.1070 0.5469 0.045 Uiso calc PR 0.38 B 2 H
C4B 0.1943(4) 1.1594(9) 0.3842(3) 0.0378(4) Uiso d PG 0.38 B 2 C
C5B 0.2837(4) 1.0732(8) 0.3021(2) 0.0378(4) Uiso d PG 0.38 B 2 C
H5B 0.2779 1.1480 0.2297 0.045 Uiso calc PR 0.38 B 2 H
C6B 0.3814(3) 0.8763(6) 0.32702(19) 0.0378(4) Uiso d PG 0.38 B 2 C
H6B 0.4419 0.8180 0.2715 0.045 Uiso calc PR 0.38 B 2 H
C7B 0.4945(3) 0.5594(6) 0.4527(2) 0.0378(4) Uiso d P 0.19 . 2 C
H7B 0.5542 0.5138 0.3947 0.045 Uiso calc PR 0.19 . 2 H
C8B 0.0920(10) 1.3693(19) 0.3468(6) 0.0378(4) Uiso d P 0.38 B 2 C
H81B 0.0032 1.2846 0.3419 0.057 Uiso calc PR 0.38 B 2 H
H82B 0.1170 1.4398 0.2738 0.057 Uiso calc PR 0.38 B 2 H
H83B 0.0899 1.5191 0.4003 0.057 Uiso calc PR 0.38 B 2 H
loop_
_atom_site_aniso_label
_atom_site_aniso_U_11
_atom_site_aniso_U_22
_atom_site_aniso_U_33
_atom_site_aniso_U_12
_atom_site_aniso_U_13
_atom_site_aniso_U_23
N1A 0.0378(7) 0.0311(7) 0.0511(9) 0.0063(6) -0.0089(6) 0.0052(6)
C1A 0.0260(7) 0.0259(7) 0.0423(8) 0.0021(5) -0.0036(6) -0.0009(6)
C2A 0.0381(9) 0.0396(9) 0.0388(8) 0.0121(7) 0.0017(6) 0.0017(7)
C3A 0.0377(10) 0.0386(10) 0.0487(10) 0.0158(7) -0.0006(7) 0.0003(8)
C4A 0.0283(7) 0.0205(6) 0.0492(9) -0.0010(5) -0.0111(6) -0.0020(6)
C5A 0.0471(9) 0.0391(10) 0.0388(10) 0.0033(7) -0.0017(8) 0.0053(8)
C6A 0.0368(8) 0.0415(9) 0.0401(9) 0.0093(7) 0.0063(7) -0.0010(8)
C7A 0.0378(7) 0.0311(7) 0.0511(9) 0.0063(6) -0.0089(6) 0.0052(6)
C8A 0.0445(11) 0.0296(9) 0.0754(13) 0.0104(7) -0.0210(9) 0.0017(8)
loop_
_atom_type_symbol
_atom_type_description
_atom_type_scat_dispersion_real
_atom_type_scat_dispersion_imag
_atom_type_scat_source
C C 0.0033 0.0016 'International Tables Vol C Tables 4.2.6.8 and 6.1.1.4'
H H 0.0000 0.0000 'International Tables Vol C Tables 4.2.6.8 and 6.1.1.4'
N N 0.0061 0.0033 'International Tables Vol C Tables 4.2.6.8 and 6.1.1.4'
loop_
_geom_angle_atom_site_label_1
_geom_angle_atom_site_label_2
_geom_angle_atom_site_label_3
_geom_angle
C6A C1A C2A 118.10(14)
C1A C2A C3A 120.74(15)
C4A C3A C2A 121.79(15)
C3A C4A C5A 116.76(14)
C3A C4A C8A 118.8(3)
C5A C4A C8A 124.4(3)
C4A C5A C6A 122.24(16)
C1A C6A C5A 120.33(15)
C2B C1B C6B 120.0
C1B C2B C3B 120.0
C4B C3B C2B 120.0
C5B C4B C3B 120.0
C5B C4B C8B 115.0(3)
C3B C4B C8B 125.0(3)
C4B C5B C6B 120.0
C5B C6B C1B 120.0
loop_
_geom_bond_atom_site_label_1
_geom_bond_atom_site_label_2
_geom_bond_site_symmetry_2
_geom_bond_distance
N1A N1A 3_666 1.277(3)
C1A C6A . 1.386(2)
C1A C2A . 1.391(2)
C2A C3A . 1.392(2)
C3A C4A . 1.386(2)
C4A C5A . 1.387(2)
C4A C8A . 1.507(6)
C5A C6A . 1.394(2)
N1B N1B 3_666 1.273(5)
C1B C2B . 1.3900
C1B C6B . 1.3900
C2B C3B . 1.3900
C3B C4B . 1.3900
C4B C5B . 1.3900
C4B C8B . 1.501(10)
C5B C6B . 1.3900
loop_
_geom_torsion_atom_site_label_1
_geom_torsion_atom_site_label_2
_geom_torsion_atom_site_label_3
_geom_torsion_atom_site_label_4
_geom_torsion
C6A C1A C2A C3A 1.6(3)
C1A C2A C3A C4A -0.4(3)
C2A C3A C4A C5A -1.1(3)
C2A C3A C4A C8A -179.3(4)
C3A C4A C5A C6A 1.5(3)
C8A C4A C5A C6A 179.6(4)
C2A C1A C6A C5A -1.3(3)
C4A C5A C6A C1A -0.3(3)
C6B C1B C2B C3B 0.0
C1B C2B C3B C4B 0.0
C2B C3B C4B C5B 0.0
C2B C3B C4B C8B 179.0(6)
C3B C4B C5B C6B 0.0
C8B C4B C5B C6B -179.1(6)
C4B C5B C6B C1B 0.0
C2B C1B C6B C5B 0.0
