#------------------------------------------------------------------------------
#$Date: 2018-08-13 16:26:29 +0300 (Mon, 13 Aug 2018) $
#$Revision: 209649 $
#$URL: file:///home/coder/svn-repositories/cod/cif/2/30/03/2300306.cif $
#------------------------------------------------------------------------------
#
# This file is available in the Crystallography Open Database (COD),
# http://www.crystallography.net/. The original data for this entry
# were provided by IUCr Journals, http://journals.iucr.org/.
#
# The file may be used within the scientific community so long as
# proper attribution is given to the journal article from which the
# data were obtained.
#
data_2300306
loop_
_publ_author_name
'Eccles, Kevin S.'
'Stokes, Stephen P.'
'Daly, Carla A.'
'Barry, Nicola M.'
'McSweeney, Sharon P.'
'O'Neill, Damian J.'
'Kelly, Dawn M.'
'Jennings, W. Brian'
'Ní Dhubhghaill, O. M.'
'Moynihan, Humphrey A.'
'Maguire, Anita R.'
'Lawrence, Simon E.'
_publ_section_title
;
 Evaluation of the Bruker SMART X2S: crystallography for the
 nonspecialist?
;
_journal_coden_ASTM              JACGAR
_journal_coeditor_code           KK5074
_journal_issue                   1
_journal_name_full               'Journal of Applied Crystallography'
_journal_page_first              213
_journal_page_last               215
_journal_paper_doi               10.1107/S0021889810042561
_journal_volume                  44
_journal_year                    2011
_chemical_formula_moiety         'C14 H14 O2 S'
_chemical_formula_sum            'C14 H14 O2 S'
_chemical_formula_weight         246.31
_space_group_IT_number           15
_symmetry_cell_setting           monoclinic
_symmetry_space_group_name_Hall  '-C 2yc'
_symmetry_space_group_name_H-M   'C 1 2/c 1'
_atom_sites_solution_hydrogens   geom
_atom_sites_solution_primary     direct
_atom_sites_solution_secondary   difmap
_audit_creation_method           SHELXL-97
_cell_angle_alpha                90.00
_cell_angle_beta                 90.197(4)
_cell_angle_gamma                90.00
_cell_formula_units_Z            4
_cell_length_a                   24.012(3)
_cell_length_b                   4.7429(5)
_cell_length_c                   10.8321(13)
_cell_measurement_reflns_used    2014
_cell_measurement_temperature    300(2)
_cell_measurement_theta_max      24.99
_cell_measurement_theta_min      3.39
_cell_volume                     1233.6(3)
_computing_cell_refinement       'Bruker SAINT'
_computing_data_collection       'Bruker GIS'
_computing_data_reduction        'Bruker SAINT'
_computing_molecular_graphics    'Bruker APEX2'
_computing_structure_refinement  'SHELXL-97 (Sheldrick, 2008)'
_computing_structure_solution    'SHELXS-97 (Sheldrick, 2008)'
_diffrn_ambient_temperature      300(2)
_diffrn_measured_fraction_theta_full 1.000
_diffrn_measured_fraction_theta_max 1.000
_diffrn_measurement_device_type  'Bruker SMART X2S'
_diffrn_measurement_method       'ω scans'
_diffrn_radiation_monochromator  'doubly curved silicon crystal'
_diffrn_radiation_source         'micro-focus sealed tube'
_diffrn_radiation_type           MoK\a
_diffrn_radiation_wavelength     0.71073
_diffrn_reflns_av_R_equivalents  0.0240
_diffrn_reflns_av_sigmaI/netI    0.0199
_diffrn_reflns_limit_h_max       28
_diffrn_reflns_limit_h_min       -28
_diffrn_reflns_limit_k_max       5
_diffrn_reflns_limit_k_min       -5
_diffrn_reflns_limit_l_max       10
_diffrn_reflns_limit_l_min       -12
_diffrn_reflns_number            3662
_diffrn_reflns_theta_full        25.01
_diffrn_reflns_theta_max         25.01
_diffrn_reflns_theta_min         1.70
_exptl_absorpt_coefficient_mu    0.249
_exptl_absorpt_correction_T_max  0.8858
_exptl_absorpt_correction_T_min  0.7831
_exptl_absorpt_correction_type   multi-scan
_exptl_absorpt_process_details   'SADABS V2008/1 (Bruker AXS)'
_exptl_crystal_colour            colorless
_exptl_crystal_density_diffrn    1.326
_exptl_crystal_density_method    'not measured'
_exptl_crystal_description       block
_exptl_crystal_F_000             520
_exptl_crystal_size_max          0.29
_exptl_crystal_size_mid          0.28
_exptl_crystal_size_min          0.24
_refine_diff_density_max         0.237
_refine_diff_density_min         -0.326
_refine_ls_extinction_method     none
_refine_ls_goodness_of_fit_ref   1.204
_refine_ls_hydrogen_treatment    constr
_refine_ls_matrix_type           full
_refine_ls_number_parameters     78
_refine_ls_number_reflns         1097
_refine_ls_number_restraints     0
_refine_ls_restrained_S_all      1.204
_refine_ls_R_factor_all          0.0439
_refine_ls_R_factor_gt           0.0375
_refine_ls_shift/su_max          0.008
_refine_ls_shift/su_mean         0.001
_refine_ls_structure_factor_coef Fsqd
_refine_ls_weighting_details
'calc w=1/[σ²(Fo²)+(0.0759P)²+0.2443P] where P=(Fo²+2Fc²)/3'
_refine_ls_weighting_scheme      calc
_refine_ls_wR_factor_gt          0.1154
_refine_ls_wR_factor_ref         0.1217
_reflns_number_gt                960
_reflns_number_total             1097
_reflns_threshold_expression     >2sigma(I)
_cod_data_source_file            kk5074.cif
_cod_data_source_block           Compound_1_Side
_cod_depositor_comments
;
The following automatic conversions were performed:
'_symmetry_cell_setting' value 'Monoclinic' changed to 'monoclinic'
according to '/home/saulius/struct/CIF-dictionaries/cif_core.dic'
dictionary named 'cif_core.dic' version 2.4.1 from 2010-06-29.

Automatic conversion script
Id: cif_fix_enum 1555 2011-01-17 13:19:09Z saulius 
;
_cod_original_sg_symbol_H-M      C12/c1
_cod_database_code               2300306
loop_
_symmetry_equiv_pos_as_xyz
'x, y, z'
'-x, y, -z+1/2'
'x+1/2, y+1/2, z'
'-x+1/2, y+1/2, -z+1/2'
'-x, -y, -z'
'x, -y, z-1/2'
'-x+1/2, -y+1/2, -z'
'x+1/2, -y+1/2, z-1/2'
loop_
_atom_site_type_symbol
_atom_site_label
_atom_site_fract_x
_atom_site_fract_y
_atom_site_fract_z
_atom_site_U_iso_or_equiv
_atom_site_adp_type
_atom_site_calc_flag
_atom_site_refinement_flags
_atom_site_occupancy
_atom_site_disorder_assembly
_atom_site_disorder_group
S S1 0.5000 0.14726(12) 0.2500 0.0365(3) Uani d S 1 . .
O O1 0.47421(6) 0.3056(3) 0.15149(13) 0.0499(4) Uani d . 1 . .
C C1 0.69130(10) 0.4145(6) 0.0721(3) 0.0678(7) Uani d . 1 . .
H H1 0.7217 0.5222 0.0479 0.081 Uiso calc R 1 . .
C C2 0.64257(11) 0.4232(5) 0.0043(2) 0.0625(7) Uani d . 1 . .
H H2 0.6400 0.5378 -0.0651 0.075 Uiso calc R 1 . .
C C3 0.59767(9) 0.2611(5) 0.03988(19) 0.0501(6) Uani d . 1 . .
H H3 0.5649 0.2660 -0.0062 0.060 Uiso calc R 1 . .
C C4 0.60095(7) 0.0913(4) 0.14369(18) 0.0384(5) Uani d . 1 . .
C C5 0.55121(7) -0.0823(4) 0.18398(19) 0.0422(5) Uani d . 1 . .
H H5A 0.5628 -0.2216 0.2444 0.051 Uiso calc R 1 . .
H H5B 0.5355 -0.1806 0.1135 0.051 Uiso calc R 1 . .
C C6 0.69499(9) 0.2478(6) 0.1750(3) 0.0691(7) Uani d . 1 . .
H H6 0.7279 0.2425 0.2203 0.083 Uiso calc R 1 . .
C C7 0.64984(8) 0.0870(5) 0.2119(2) 0.0535(6) Uani d . 1 . .
H H7 0.6524 -0.0238 0.2825 0.064 Uiso calc R 1 . .
loop_
_atom_site_aniso_label
_atom_site_aniso_U_11
_atom_site_aniso_U_22
_atom_site_aniso_U_33
_atom_site_aniso_U_12
_atom_site_aniso_U_13
_atom_site_aniso_U_23
S1 0.0389(4) 0.0240(4) 0.0466(4) 0.000 0.0039(3) 0.000
O1 0.0504(8) 0.0425(8) 0.0567(9) 0.0056(6) 0.0027(7) 0.0133(7)
C1 0.0555(14) 0.0548(14) 0.0931(19) -0.0110(11) 0.0280(13) -0.0038(14)
C2 0.0778(17) 0.0537(13) 0.0563(14) -0.0018(12) 0.0239(12) 0.0068(11)
C3 0.0548(12) 0.0520(12) 0.0435(12) -0.0012(10) 0.0034(10) -0.0013(10)
C4 0.0416(10) 0.0299(9) 0.0438(11) 0.0034(7) 0.0080(8) -0.0068(7)
C5 0.0446(11) 0.0282(9) 0.0539(12) 0.0021(8) 0.0063(9) -0.0038(8)
C6 0.0426(12) 0.0689(16) 0.096(2) -0.0035(12) -0.0001(13) -0.0014(16)
C7 0.0493(12) 0.0489(12) 0.0622(14) 0.0061(9) 0.0010(10) 0.0066(10)
loop_
_atom_type_symbol
_atom_type_description
_atom_type_scat_dispersion_real
_atom_type_scat_dispersion_imag
_atom_type_scat_source
C C 0.0033 0.0016 'International Tables Vol C Tables 4.2.6.8 and 6.1.1.4'
H H 0.0000 0.0000 'International Tables Vol C Tables 4.2.6.8 and 6.1.1.4'
O O 0.0106 0.0060 'International Tables Vol C Tables 4.2.6.8 and 6.1.1.4'
S S 0.1246 0.1234 'International Tables Vol C Tables 4.2.6.8 and 6.1.1.4'
loop_
_geom_angle_atom_site_label_1
_geom_angle_atom_site_label_2
_geom_angle_atom_site_label_3
_geom_angle_site_symmetry_1
_geom_angle_site_symmetry_3
_geom_angle
_geom_angle_publ_flag
O1 S1 O1 2_655 . 117.25(12) ?
O1 S1 C5 2_655 2_655 108.32(9) ?
O1 S1 C5 . 2_655 108.54(8) ?
O1 S1 C5 2_655 . 108.54(8) ?
O1 S1 C5 . . 108.32(9) ?
C5 S1 C5 2_655 . 105.22(12) ?
C6 C1 C2 . . 120.2(2) ?
C6 C1 H1 . . 119.9 ?
C2 C1 H1 . . 119.9 ?
C3 C2 C1 . . 119.8(2) ?
C3 C2 H2 . . 120.1 ?
C1 C2 H2 . . 120.1 ?
C2 C3 C4 . . 120.6(2) ?
C2 C3 H3 . . 119.7 ?
C4 C3 H3 . . 119.7 ?
C3 C4 C7 . . 119.17(19) ?
C3 C4 C5 . . 120.46(18) ?
C7 C4 C5 . . 120.36(18) ?
C4 C5 S1 . . 109.09(13) ?
C4 C5 H5A . . 109.9 ?
S1 C5 H5A . . 109.9 ?
C4 C5 H5B . . 109.9 ?
S1 C5 H5B . . 109.9 ?
H5A C5 H5B . . 108.3 ?
C1 C6 C7 . . 120.3(2) ?
C1 C6 H6 . . 119.9 ?
C7 C6 H6 . . 119.9 ?
C4 C7 C6 . . 120.0(2) ?
C4 C7 H7 . . 120.0 ?
C6 C7 H7 . . 120.0 ?
loop_
_geom_bond_atom_site_label_1
_geom_bond_atom_site_label_2
_geom_bond_site_symmetry_2
_geom_bond_distance
_geom_bond_publ_flag
S1 O1 2_655 1.4429(14) ?
S1 O1 . 1.4429(14) ?
S1 C5 2_655 1.7930(18) ?
S1 C5 . 1.7930(18) ?
C1 C6 . 1.369(4) ?
C1 C2 . 1.380(4) ?
C1 H1 . 0.9300 ?
C2 C3 . 1.380(3) ?
C2 H2 . 0.9300 ?
C3 C4 . 1.385(3) ?
C3 H3 . 0.9300 ?
C4 C7 . 1.385(3) ?
C4 C5 . 1.516(2) ?
C5 H5A . 0.9700 ?
C5 H5B . 0.9700 ?
C6 C7 . 1.386(3) ?
C6 H6 . 0.9300 ?
C7 H7 . 0.9300 ?
