data_3000066
loop_
_publ_author_name
'Patyk-Kazmierczak, E.'
'Warren, M.'
'Allan, D.'
'Andrzej Katrusiak'
_journal_name_full               'To be published'
_diffrn_ambient_temperature      295(2)
_cell_measurement_temperature    295(2)
_diffrn_ambient_pressure         3420000
_chemical_name_systematic        α-D-mannopyranose
_chemical_name_common            'α-D-mannose '
_chemical_formula_sum            'C6 H12 O6'
_symmetry_space_group_name_Hall  'P 2ac 2ab'
_symmetry_space_group_name_H-M   'P 21 21 21'
_cell_length_a                   21.93(3)
_cell_length_b                   9.0066(14)
_cell_length_c                   6.6839(11)
_cell_angle_alpha                90
_cell_angle_beta                 90
_cell_angle_gamma                90
_cell_volume                     1320.2(18)
_diffrn_radiation_wavelength     0.71073
_diffrn_radiation_type           MoK\a
_refine_ls_R_factor_all          0.0772
_refine_ls_R_factor_gt           0.0584
_refine_ls_wR_factor_gt          0.1188
_refine_ls_wR_factor_ref         0.1255
_refine_ls_goodness_of_fit_ref   1.056
_cod_hold_until_date             2017-05-30
loop_
_atom_site_label
_atom_site_fract_x
_atom_site_fract_y
_atom_site_fract_z
? ? ? ?
