#------------------------------------------------------------------------------
#$Date: 2016-07-21 16:46:04 +0300 (Thu, 21 Jul 2016) $
#$Revision: 184583 $
#$URL: file:///home/coder/svn-repositories/cod/cif/3/00/00/3000085.cif $
#------------------------------------------------------------------------------
#
# This file is available in the Crystallography Open Database (COD),
# http://www.crystallography.net/
#
# All data on this site have been placed in the public domain by the
# contributors.
#
data_3000085
loop_
_publ_author_name
'Patyk-Kaźmierczak, E.'
'Warren, M.'
'Allan, D.'
'Katrusiak, A.'
_chemical_formula_sum            'C6 H12 O6'
_chemical_name_common            'α-D-mannose '
_chemical_name_systematic        α-D-mannopyranose
_cell_angle_alpha                90
_cell_angle_beta                 90
_cell_angle_gamma                90
_cell_length_a                   20.808(12)
_cell_length_b                   8.6415(7)
_cell_length_c                   6.4750(5)
_cell_measurement_temperature    295(2)
_cell_volume                     1164.3(7)
_diffrn_ambient_pressure         10130000
_diffrn_ambient_temperature      295(2)
_diffrn_radiation_type           synchrotron
_diffrn_radiation_wavelength     0.68700
loop_
_atom_site_label
_atom_site_fract_x
_atom_site_fract_y
_atom_site_fract_z
? ? ? ?
_cod_hold_until_date             2017-05-30
