data_3000092
loop_
_publ_author_name
'Matthew Rowles'
'Wang, Cheng Cheng'
'Chen, Kongfa'
'Li, Na'
'He, Shuai'
'Jiang, San-Ping'
_publ_section_title
;
 Structure and thermal expansion behaviour of samarium cobalt oxide
;
_journal_name_full               'To be published in Acta Cryst. Section B'
_diffrn_ambient_temperature      830
_cell_measurement_temperature    830
_chemical_name_mineral           'Samarium Cobalt Oxide'
_chemical_formula_sum            'Co O3 Sm'
_symmetry_space_group_name_Hall  '-P 2ac 2n'
_symmetry_space_group_name_H-M   'P n m a'
_cell_length_a                   5.459411(1)
_cell_length_b                   7.606208(12)
_cell_length_c                   5.360822(9)
_cell_angle_alpha                90
_cell_angle_beta                 90
_cell_angle_gamma                90
_cell_volume                     222.6104(5)
_diffrn_radiation_wavelength     0.7993281
_diffrn_radiation_type           synchrotron
_refine_ls_goodness_of_fit_all   1.584
_cod_hold_until_date             2017-04-07
loop_
_atom_site_label
_atom_site_fract_x
_atom_site_fract_y
_atom_site_fract_z
? ? ? ?
