data_3000201
loop_
_publ_author_name
'Kinga Roszak'
'Andrzej Katrusiak'
_publ_section_title
;
 ?
;
_journal_name_full               'To be published'
_diffrn_ambient_temperature      160(2)
_cell_measurement_temperature    160(2)
_chemical_formula_sum            'C14 H19 N O5'
_symmetry_space_group_name_Hall  '-P 2yn'
_symmetry_space_group_name_H-M   'P 1 21/n 1'
_cell_length_a                   7.7435(4)
_cell_length_b                   8.5239(6)
_cell_length_c                   21.3072(10)
_cell_angle_alpha                90
_cell_angle_beta                 93.777(4)
_cell_angle_gamma                90
_cell_volume                     1403.32(14)
_diffrn_radiation_wavelength     0.71073
_diffrn_radiation_type           MoK\a
_refine_ls_R_factor_all          0.1624
_refine_ls_R_factor_gt           0.0749
_refine_ls_wR_factor_gt          0.1691
_refine_ls_wR_factor_ref         0.2035
_refine_ls_goodness_of_fit_ref   0.949
_cod_hold_until_date             2018-11-26
loop_
_atom_site_label
_atom_site_fract_x
_atom_site_fract_y
_atom_site_fract_z
? ? ? ?
