data_3000268
loop_
_publ_author_name
'Evgeny Bulanov'
_journal_name_full
'To be published in Russian Journal of Inorganic Chemistry'
_chemical_formula_sum            'Ba9.9104 Br0.91 Mn6 O24'
_chemical_name_systematic
;
Decabarium Hexa(hypomanganate) Dibromide - Synthetic
;
_symmetry_space_group_name_H-M   'P 63/m'
_cell_angle_alpha                90.
_cell_angle_beta                 90.
_cell_angle_gamma                120.
_cell_length_a                   10.53167(15)
_cell_length_b                   10.53167(15)
_cell_length_c                   7.77554(14)
_cell_volume                     746.89(2)
_refine_ls_R_factor_all          0.05652
_cod_hold_until_date             2020-11-18
loop_
_atom_site_label
_atom_site_fract_x
_atom_site_fract_y
_atom_site_fract_z
? ? ? ?
