data_3000322
loop_
_publ_author_name
'Olga Krasheninnikova'
_journal_name_full               'To be published in Solid State Sciences'
_chemical_name_mineral           'PbBi3Ti2NbO12 (solid-state)'
_chemical_formula_sum            'Bi3 Nb O12 Pb Ti2'
_cell_length_a                   5.4535(7)
_cell_length_b                   5.4586(6)
_cell_length_c                   33.3485(2)
_cell_angle_alpha                90
_cell_angle_beta                 90
_cell_angle_gamma                90
_cell_volume                     992.73(17)
_cod_hold_until_date             2022-01-13
loop_
_atom_site_label
_atom_site_fract_x
_atom_site_fract_y
_atom_site_fract_z
? ? ? ?
